BEGIN:VCALENDAR
VERSION:2.0
PRODID:-//Action for Family Carers - ECPv6.15.20//NONSGML v1.0//EN
CALSCALE:GREGORIAN
METHOD:PUBLISH
X-WR-CALNAME:Action for Family Carers
X-ORIGINAL-URL:https://affc.org.uk
X-WR-CALDESC:Events for Action for Family Carers
REFRESH-INTERVAL;VALUE=DURATION:PT1H
X-Robots-Tag:noindex
X-PUBLISHED-TTL:PT1H
BEGIN:VTIMEZONE
TZID:Europe/London
BEGIN:DAYLIGHT
TZOFFSETFROM:+0000
TZOFFSETTO:+0100
TZNAME:BST
DTSTART:20250330T010000
END:DAYLIGHT
BEGIN:STANDARD
TZOFFSETFROM:+0100
TZOFFSETTO:+0000
TZNAME:GMT
DTSTART:20251026T010000
END:STANDARD
BEGIN:DAYLIGHT
TZOFFSETFROM:+0000
TZOFFSETTO:+0100
TZNAME:BST
DTSTART:20260329T010000
END:DAYLIGHT
BEGIN:STANDARD
TZOFFSETFROM:+0100
TZOFFSETTO:+0000
TZNAME:GMT
DTSTART:20261025T010000
END:STANDARD
BEGIN:DAYLIGHT
TZOFFSETFROM:+0000
TZOFFSETTO:+0100
TZNAME:BST
DTSTART:20270328T010000
END:DAYLIGHT
BEGIN:STANDARD
TZOFFSETFROM:+0100
TZOFFSETTO:+0000
TZNAME:GMT
DTSTART:20271031T010000
END:STANDARD
END:VTIMEZONE
BEGIN:VEVENT
DTSTART;TZID=Europe/London:20260420T100000
DTEND;TZID=Europe/London:20260420T130000
DTSTAMP:20260420T012517
CREATED:20260320T132036Z
LAST-MODIFIED:20260320T132036Z
UID:10001623-1776679200-1776690000@affc.org.uk
SUMMARY:Carer Drop-In Information & Support Session in Hatfield Heath
DESCRIPTION:Adult Family Carers Drop-In Information & Support Session – with Maria Applebee\, Healthcare Coordinator for South Uttlesford PCN and  Laura from our Adult Carer Support Team. \nUnited Reformed Church Hall\nChelmsford Road\nHatfield Heath\nCM22 7BH \nJoin us for support and light refreshments.
URL:https://affc.org.uk/event/carer-drop-in-information-support-session-in-hatfield-heath/
CATEGORIES:Carer Support Group,Carer Support Group: West Essex
END:VEVENT
BEGIN:VEVENT
DTSTART;TZID=Europe/London:20260420T100000
DTEND;TZID=Europe/London:20260420T153000
DTSTAMP:20260420T012517
CREATED:20250827T140323Z
LAST-MODIFIED:20250827T140323Z
UID:10000500-1776679200-1776699000@affc.org.uk
SUMMARY:Dunmow Older Person Activity Group
DESCRIPTION:Runs every Monday at: \nAythorpe Roding Village Hall\nDunmow Road\nRoundbush Green\nDunmow\nCM6 1PS \nKeeping Active: 10am-12.30pm\nActive Minds: 1pm – 3.30pm \nMore details here or please contact activityGroups@affc.org.uk.  \nPlease note these groups have a charge attached to them. 321 per session or £42 for the day. Lunch is not supplied\, but attendees can can bring their own lunch and socialise with others in the group as they eat.
URL:https://affc.org.uk/event/dunmow-older-person-activity-group/2026-04-20/
CATEGORIES:Activity Group
END:VEVENT
END:VCALENDAR