BEGIN:VCALENDAR
VERSION:2.0
PRODID:-//Action for Family Carers - ECPv6.15.20//NONSGML v1.0//EN
CALSCALE:GREGORIAN
METHOD:PUBLISH
X-WR-CALNAME:Action for Family Carers
X-ORIGINAL-URL:https://affc.org.uk
X-WR-CALDESC:Events for Action for Family Carers
REFRESH-INTERVAL;VALUE=DURATION:PT1H
X-Robots-Tag:noindex
X-PUBLISHED-TTL:PT1H
BEGIN:VTIMEZONE
TZID:Europe/London
BEGIN:DAYLIGHT
TZOFFSETFROM:+0000
TZOFFSETTO:+0100
TZNAME:BST
DTSTART:20250330T010000
END:DAYLIGHT
BEGIN:STANDARD
TZOFFSETFROM:+0100
TZOFFSETTO:+0000
TZNAME:GMT
DTSTART:20251026T010000
END:STANDARD
BEGIN:DAYLIGHT
TZOFFSETFROM:+0000
TZOFFSETTO:+0100
TZNAME:BST
DTSTART:20260329T010000
END:DAYLIGHT
BEGIN:STANDARD
TZOFFSETFROM:+0100
TZOFFSETTO:+0000
TZNAME:GMT
DTSTART:20261025T010000
END:STANDARD
BEGIN:DAYLIGHT
TZOFFSETFROM:+0000
TZOFFSETTO:+0100
TZNAME:BST
DTSTART:20270328T010000
END:DAYLIGHT
BEGIN:STANDARD
TZOFFSETFROM:+0100
TZOFFSETTO:+0000
TZNAME:GMT
DTSTART:20271031T010000
END:STANDARD
END:VTIMEZONE
BEGIN:VEVENT
DTSTART;TZID=Europe/London:20260430T100000
DTEND;TZID=Europe/London:20260430T150000
DTSTAMP:20260422T172935
CREATED:20260323T140605Z
LAST-MODIFIED:20260323T140605Z
UID:10001625-1777543200-1777561200@affc.org.uk
SUMMARY:West Essex Carers Connections Day
DESCRIPTION:St Clare Hospice and Epping Forest District Council are hosting a FREE  support\, information and advice event in Waltham Abbey. Our aduolt carer support team will be there on the day. \nFull info in the attached flyer. \n\nThu 30 April\nWaltham Abbey Leisure Centre\, EN9 3EL\n\n\n\nTo register your attendance email csilver@eppingforestdc.gov.uk or call 07789372120
URL:https://affc.org.uk/event/west-essex-carers-connections-day/
CATEGORIES:External Event Info
END:VEVENT
END:VCALENDAR