BEGIN:VCALENDAR
VERSION:2.0
PRODID:-//Action for Family Carers - ECPv6.15.20//NONSGML v1.0//EN
CALSCALE:GREGORIAN
METHOD:PUBLISH
X-ORIGINAL-URL:https://affc.org.uk
X-WR-CALDESC:Events for Action for Family Carers
REFRESH-INTERVAL;VALUE=DURATION:PT1H
X-Robots-Tag:noindex
X-PUBLISHED-TTL:PT1H
BEGIN:VTIMEZONE
TZID:Europe/London
BEGIN:DAYLIGHT
TZOFFSETFROM:+0000
TZOFFSETTO:+0100
TZNAME:BST
DTSTART:20250330T010000
END:DAYLIGHT
BEGIN:STANDARD
TZOFFSETFROM:+0100
TZOFFSETTO:+0000
TZNAME:GMT
DTSTART:20251026T010000
END:STANDARD
BEGIN:DAYLIGHT
TZOFFSETFROM:+0000
TZOFFSETTO:+0100
TZNAME:BST
DTSTART:20260329T010000
END:DAYLIGHT
BEGIN:STANDARD
TZOFFSETFROM:+0100
TZOFFSETTO:+0000
TZNAME:GMT
DTSTART:20261025T010000
END:STANDARD
BEGIN:DAYLIGHT
TZOFFSETFROM:+0000
TZOFFSETTO:+0100
TZNAME:BST
DTSTART:20270328T010000
END:DAYLIGHT
BEGIN:STANDARD
TZOFFSETFROM:+0100
TZOFFSETTO:+0000
TZNAME:GMT
DTSTART:20271031T010000
END:STANDARD
END:VTIMEZONE
BEGIN:VEVENT
DTSTART;TZID=Europe/London:20260105T103000
DTEND;TZID=Europe/London:20260105T120000
DTSTAMP:20260419T232445
CREATED:20250325T124933Z
LAST-MODIFIED:20250807T082913Z
UID:10000411-1767609000-1767614400@affc.org.uk
SUMMARY:Carer Support Group: Stansted
DESCRIPTION:Join our Carers’ Coffee Morning\, run in partnership with Touchpoint Café\, Stansted. \nTouchpoint Community Hub\n72 Chapel Hill\,\nStansted\,\nCM24 8AQ \nFirst Monday of every month. Drop-in anytime between 10.30am-12pm
URL:https://affc.org.uk/event/carer-support-group-stansted-4/2026-01-05/
CATEGORIES:Carer Support Group: West Essex
END:VEVENT
END:VCALENDAR