BEGIN:VCALENDAR
VERSION:2.0
PRODID:-//Action for Family Carers - ECPv6.15.20//NONSGML v1.0//EN
CALSCALE:GREGORIAN
METHOD:PUBLISH
X-ORIGINAL-URL:https://affc.org.uk
X-WR-CALDESC:Events for Action for Family Carers
REFRESH-INTERVAL;VALUE=DURATION:PT1H
X-Robots-Tag:noindex
X-PUBLISHED-TTL:PT1H
BEGIN:VTIMEZONE
TZID:Europe/London
BEGIN:DAYLIGHT
TZOFFSETFROM:+0000
TZOFFSETTO:+0100
TZNAME:BST
DTSTART:20270328T010000
END:DAYLIGHT
BEGIN:STANDARD
TZOFFSETFROM:+0100
TZOFFSETTO:+0000
TZNAME:GMT
DTSTART:20271031T010000
END:STANDARD
BEGIN:DAYLIGHT
TZOFFSETFROM:+0000
TZOFFSETTO:+0100
TZNAME:BST
DTSTART:20280326T010000
END:DAYLIGHT
BEGIN:STANDARD
TZOFFSETFROM:+0100
TZOFFSETTO:+0000
TZNAME:GMT
DTSTART:20281029T010000
END:STANDARD
BEGIN:DAYLIGHT
TZOFFSETFROM:+0000
TZOFFSETTO:+0100
TZNAME:BST
DTSTART:20290325T010000
END:DAYLIGHT
BEGIN:STANDARD
TZOFFSETFROM:+0100
TZOFFSETTO:+0000
TZNAME:GMT
DTSTART:20291028T010000
END:STANDARD
BEGIN:DAYLIGHT
TZOFFSETFROM:+0000
TZOFFSETTO:+0100
TZNAME:BST
DTSTART:20300331T010000
END:DAYLIGHT
BEGIN:STANDARD
TZOFFSETFROM:+0100
TZOFFSETTO:+0000
TZNAME:GMT
DTSTART:20301027T010000
END:STANDARD
END:VTIMEZONE
BEGIN:VEVENT
DTSTART;TZID=Europe/London:20280810T100000
DTEND;TZID=Europe/London:20280810T151500
DTSTAMP:20260422T200544
CREATED:20250827T140933Z
LAST-MODIFIED:20250827T140933Z
UID:10001143-1849514400-1849533300@affc.org.uk
SUMMARY:Epping Older Person Activity Group
DESCRIPTION:Every Thursday: \nJack Silley Pavillion\nEpping\nCM16 6SS\n(reached via Tidy’s Lane) \nKeeping Active: 10am-12.30pm\nActive Minds: 12.45pm – 3.15pm \nMore details here or please contact activityGroups@affc.org.uk.  \nPlease note these groups have a charge attached to them. £21 per session or £42 for the day. Lunch is not supplied\, but attendees can can bring their own lunch and socialise with others in the group as they eat.
URL:https://affc.org.uk/event/epping-older-person-activity-group/2028-08-10/
CATEGORIES:Activity Group
END:VEVENT
BEGIN:VEVENT
DTSTART;TZID=Europe/London:20280817T100000
DTEND;TZID=Europe/London:20280817T151500
DTSTAMP:20260422T200544
CREATED:20250827T140933Z
LAST-MODIFIED:20250827T140933Z
UID:10001144-1850119200-1850138100@affc.org.uk
SUMMARY:Epping Older Person Activity Group
DESCRIPTION:Every Thursday: \nJack Silley Pavillion\nEpping\nCM16 6SS\n(reached via Tidy’s Lane) \nKeeping Active: 10am-12.30pm\nActive Minds: 12.45pm – 3.15pm \nMore details here or please contact activityGroups@affc.org.uk.  \nPlease note these groups have a charge attached to them. £21 per session or £42 for the day. Lunch is not supplied\, but attendees can can bring their own lunch and socialise with others in the group as they eat.
URL:https://affc.org.uk/event/epping-older-person-activity-group/2028-08-17/
CATEGORIES:Activity Group
END:VEVENT
BEGIN:VEVENT
DTSTART;TZID=Europe/London:20280824T100000
DTEND;TZID=Europe/London:20280824T151500
DTSTAMP:20260422T200544
CREATED:20250827T140933Z
LAST-MODIFIED:20250827T140933Z
UID:10001145-1850724000-1850742900@affc.org.uk
SUMMARY:Epping Older Person Activity Group
DESCRIPTION:Every Thursday: \nJack Silley Pavillion\nEpping\nCM16 6SS\n(reached via Tidy’s Lane) \nKeeping Active: 10am-12.30pm\nActive Minds: 12.45pm – 3.15pm \nMore details here or please contact activityGroups@affc.org.uk.  \nPlease note these groups have a charge attached to them. £21 per session or £42 for the day. Lunch is not supplied\, but attendees can can bring their own lunch and socialise with others in the group as they eat.
URL:https://affc.org.uk/event/epping-older-person-activity-group/2028-08-24/
CATEGORIES:Activity Group
END:VEVENT
BEGIN:VEVENT
DTSTART;TZID=Europe/London:20280831T100000
DTEND;TZID=Europe/London:20280831T151500
DTSTAMP:20260422T200544
CREATED:20250827T140933Z
LAST-MODIFIED:20250827T140933Z
UID:10001146-1851328800-1851347700@affc.org.uk
SUMMARY:Epping Older Person Activity Group
DESCRIPTION:Every Thursday: \nJack Silley Pavillion\nEpping\nCM16 6SS\n(reached via Tidy’s Lane) \nKeeping Active: 10am-12.30pm\nActive Minds: 12.45pm – 3.15pm \nMore details here or please contact activityGroups@affc.org.uk.  \nPlease note these groups have a charge attached to them. £21 per session or £42 for the day. Lunch is not supplied\, but attendees can can bring their own lunch and socialise with others in the group as they eat.
URL:https://affc.org.uk/event/epping-older-person-activity-group/2028-08-31/
CATEGORIES:Activity Group
END:VEVENT
BEGIN:VEVENT
DTSTART;TZID=Europe/London:20280907T100000
DTEND;TZID=Europe/London:20280907T151500
DTSTAMP:20260422T200544
CREATED:20250827T140933Z
LAST-MODIFIED:20250827T140933Z
UID:10001147-1851933600-1851952500@affc.org.uk
SUMMARY:Epping Older Person Activity Group
DESCRIPTION:Every Thursday: \nJack Silley Pavillion\nEpping\nCM16 6SS\n(reached via Tidy’s Lane) \nKeeping Active: 10am-12.30pm\nActive Minds: 12.45pm – 3.15pm \nMore details here or please contact activityGroups@affc.org.uk.  \nPlease note these groups have a charge attached to them. £21 per session or £42 for the day. Lunch is not supplied\, but attendees can can bring their own lunch and socialise with others in the group as they eat.
URL:https://affc.org.uk/event/epping-older-person-activity-group/2028-09-07/
CATEGORIES:Activity Group
END:VEVENT
BEGIN:VEVENT
DTSTART;TZID=Europe/London:20280914T100000
DTEND;TZID=Europe/London:20280914T151500
DTSTAMP:20260422T200544
CREATED:20250827T140933Z
LAST-MODIFIED:20250827T140933Z
UID:10001148-1852538400-1852557300@affc.org.uk
SUMMARY:Epping Older Person Activity Group
DESCRIPTION:Every Thursday: \nJack Silley Pavillion\nEpping\nCM16 6SS\n(reached via Tidy’s Lane) \nKeeping Active: 10am-12.30pm\nActive Minds: 12.45pm – 3.15pm \nMore details here or please contact activityGroups@affc.org.uk.  \nPlease note these groups have a charge attached to them. £21 per session or £42 for the day. Lunch is not supplied\, but attendees can can bring their own lunch and socialise with others in the group as they eat.
URL:https://affc.org.uk/event/epping-older-person-activity-group/2028-09-14/
CATEGORIES:Activity Group
END:VEVENT
BEGIN:VEVENT
DTSTART;TZID=Europe/London:20280921T100000
DTEND;TZID=Europe/London:20280921T151500
DTSTAMP:20260422T200544
CREATED:20250827T140933Z
LAST-MODIFIED:20250827T140933Z
UID:10001149-1853143200-1853162100@affc.org.uk
SUMMARY:Epping Older Person Activity Group
DESCRIPTION:Every Thursday: \nJack Silley Pavillion\nEpping\nCM16 6SS\n(reached via Tidy’s Lane) \nKeeping Active: 10am-12.30pm\nActive Minds: 12.45pm – 3.15pm \nMore details here or please contact activityGroups@affc.org.uk.  \nPlease note these groups have a charge attached to them. £21 per session or £42 for the day. Lunch is not supplied\, but attendees can can bring their own lunch and socialise with others in the group as they eat.
URL:https://affc.org.uk/event/epping-older-person-activity-group/2028-09-21/
CATEGORIES:Activity Group
END:VEVENT
BEGIN:VEVENT
DTSTART;TZID=Europe/London:20280928T100000
DTEND;TZID=Europe/London:20280928T151500
DTSTAMP:20260422T200544
CREATED:20250827T140933Z
LAST-MODIFIED:20250827T140933Z
UID:10001150-1853748000-1853766900@affc.org.uk
SUMMARY:Epping Older Person Activity Group
DESCRIPTION:Every Thursday: \nJack Silley Pavillion\nEpping\nCM16 6SS\n(reached via Tidy’s Lane) \nKeeping Active: 10am-12.30pm\nActive Minds: 12.45pm – 3.15pm \nMore details here or please contact activityGroups@affc.org.uk.  \nPlease note these groups have a charge attached to them. £21 per session or £42 for the day. Lunch is not supplied\, but attendees can can bring their own lunch and socialise with others in the group as they eat.
URL:https://affc.org.uk/event/epping-older-person-activity-group/2028-09-28/
CATEGORIES:Activity Group
END:VEVENT
BEGIN:VEVENT
DTSTART;TZID=Europe/London:20281005T100000
DTEND;TZID=Europe/London:20281005T151500
DTSTAMP:20260422T200544
CREATED:20250827T140933Z
LAST-MODIFIED:20250827T140933Z
UID:10001151-1854352800-1854371700@affc.org.uk
SUMMARY:Epping Older Person Activity Group
DESCRIPTION:Every Thursday: \nJack Silley Pavillion\nEpping\nCM16 6SS\n(reached via Tidy’s Lane) \nKeeping Active: 10am-12.30pm\nActive Minds: 12.45pm – 3.15pm \nMore details here or please contact activityGroups@affc.org.uk.  \nPlease note these groups have a charge attached to them. £21 per session or £42 for the day. Lunch is not supplied\, but attendees can can bring their own lunch and socialise with others in the group as they eat.
URL:https://affc.org.uk/event/epping-older-person-activity-group/2028-10-05/
CATEGORIES:Activity Group
END:VEVENT
BEGIN:VEVENT
DTSTART;TZID=Europe/London:20281012T100000
DTEND;TZID=Europe/London:20281012T151500
DTSTAMP:20260422T200544
CREATED:20250827T140933Z
LAST-MODIFIED:20250827T140933Z
UID:10001152-1854957600-1854976500@affc.org.uk
SUMMARY:Epping Older Person Activity Group
DESCRIPTION:Every Thursday: \nJack Silley Pavillion\nEpping\nCM16 6SS\n(reached via Tidy’s Lane) \nKeeping Active: 10am-12.30pm\nActive Minds: 12.45pm – 3.15pm \nMore details here or please contact activityGroups@affc.org.uk.  \nPlease note these groups have a charge attached to them. £21 per session or £42 for the day. Lunch is not supplied\, but attendees can can bring their own lunch and socialise with others in the group as they eat.
URL:https://affc.org.uk/event/epping-older-person-activity-group/2028-10-12/
CATEGORIES:Activity Group
END:VEVENT
BEGIN:VEVENT
DTSTART;TZID=Europe/London:20281019T100000
DTEND;TZID=Europe/London:20281019T151500
DTSTAMP:20260422T200544
CREATED:20250827T140933Z
LAST-MODIFIED:20250827T140933Z
UID:10001153-1855562400-1855581300@affc.org.uk
SUMMARY:Epping Older Person Activity Group
DESCRIPTION:Every Thursday: \nJack Silley Pavillion\nEpping\nCM16 6SS\n(reached via Tidy’s Lane) \nKeeping Active: 10am-12.30pm\nActive Minds: 12.45pm – 3.15pm \nMore details here or please contact activityGroups@affc.org.uk.  \nPlease note these groups have a charge attached to them. £21 per session or £42 for the day. Lunch is not supplied\, but attendees can can bring their own lunch and socialise with others in the group as they eat.
URL:https://affc.org.uk/event/epping-older-person-activity-group/2028-10-19/
CATEGORIES:Activity Group
END:VEVENT
BEGIN:VEVENT
DTSTART;TZID=Europe/London:20281026T100000
DTEND;TZID=Europe/London:20281026T151500
DTSTAMP:20260422T200544
CREATED:20250827T140933Z
LAST-MODIFIED:20250827T140933Z
UID:10001154-1856167200-1856186100@affc.org.uk
SUMMARY:Epping Older Person Activity Group
DESCRIPTION:Every Thursday: \nJack Silley Pavillion\nEpping\nCM16 6SS\n(reached via Tidy’s Lane) \nKeeping Active: 10am-12.30pm\nActive Minds: 12.45pm – 3.15pm \nMore details here or please contact activityGroups@affc.org.uk.  \nPlease note these groups have a charge attached to them. £21 per session or £42 for the day. Lunch is not supplied\, but attendees can can bring their own lunch and socialise with others in the group as they eat.
URL:https://affc.org.uk/event/epping-older-person-activity-group/2028-10-26/
CATEGORIES:Activity Group
END:VEVENT
BEGIN:VEVENT
DTSTART;TZID=Europe/London:20281102T100000
DTEND;TZID=Europe/London:20281102T151500
DTSTAMP:20260422T200544
CREATED:20250827T140933Z
LAST-MODIFIED:20250827T140933Z
UID:10001155-1856772000-1856790900@affc.org.uk
SUMMARY:Epping Older Person Activity Group
DESCRIPTION:Every Thursday: \nJack Silley Pavillion\nEpping\nCM16 6SS\n(reached via Tidy’s Lane) \nKeeping Active: 10am-12.30pm\nActive Minds: 12.45pm – 3.15pm \nMore details here or please contact activityGroups@affc.org.uk.  \nPlease note these groups have a charge attached to them. £21 per session or £42 for the day. Lunch is not supplied\, but attendees can can bring their own lunch and socialise with others in the group as they eat.
URL:https://affc.org.uk/event/epping-older-person-activity-group/2028-11-02/
CATEGORIES:Activity Group
END:VEVENT
BEGIN:VEVENT
DTSTART;TZID=Europe/London:20281109T100000
DTEND;TZID=Europe/London:20281109T151500
DTSTAMP:20260422T200544
CREATED:20250827T140933Z
LAST-MODIFIED:20250827T140933Z
UID:10001156-1857376800-1857395700@affc.org.uk
SUMMARY:Epping Older Person Activity Group
DESCRIPTION:Every Thursday: \nJack Silley Pavillion\nEpping\nCM16 6SS\n(reached via Tidy’s Lane) \nKeeping Active: 10am-12.30pm\nActive Minds: 12.45pm – 3.15pm \nMore details here or please contact activityGroups@affc.org.uk.  \nPlease note these groups have a charge attached to them. £21 per session or £42 for the day. Lunch is not supplied\, but attendees can can bring their own lunch and socialise with others in the group as they eat.
URL:https://affc.org.uk/event/epping-older-person-activity-group/2028-11-09/
CATEGORIES:Activity Group
END:VEVENT
BEGIN:VEVENT
DTSTART;TZID=Europe/London:20281116T100000
DTEND;TZID=Europe/London:20281116T151500
DTSTAMP:20260422T200544
CREATED:20250827T140933Z
LAST-MODIFIED:20250827T140933Z
UID:10001157-1857981600-1858000500@affc.org.uk
SUMMARY:Epping Older Person Activity Group
DESCRIPTION:Every Thursday: \nJack Silley Pavillion\nEpping\nCM16 6SS\n(reached via Tidy’s Lane) \nKeeping Active: 10am-12.30pm\nActive Minds: 12.45pm – 3.15pm \nMore details here or please contact activityGroups@affc.org.uk.  \nPlease note these groups have a charge attached to them. £21 per session or £42 for the day. Lunch is not supplied\, but attendees can can bring their own lunch and socialise with others in the group as they eat.
URL:https://affc.org.uk/event/epping-older-person-activity-group/2028-11-16/
CATEGORIES:Activity Group
END:VEVENT
BEGIN:VEVENT
DTSTART;TZID=Europe/London:20281123T100000
DTEND;TZID=Europe/London:20281123T151500
DTSTAMP:20260422T200544
CREATED:20250827T140933Z
LAST-MODIFIED:20250827T140933Z
UID:10001158-1858586400-1858605300@affc.org.uk
SUMMARY:Epping Older Person Activity Group
DESCRIPTION:Every Thursday: \nJack Silley Pavillion\nEpping\nCM16 6SS\n(reached via Tidy’s Lane) \nKeeping Active: 10am-12.30pm\nActive Minds: 12.45pm – 3.15pm \nMore details here or please contact activityGroups@affc.org.uk.  \nPlease note these groups have a charge attached to them. £21 per session or £42 for the day. Lunch is not supplied\, but attendees can can bring their own lunch and socialise with others in the group as they eat.
URL:https://affc.org.uk/event/epping-older-person-activity-group/2028-11-23/
CATEGORIES:Activity Group
END:VEVENT
BEGIN:VEVENT
DTSTART;TZID=Europe/London:20281130T100000
DTEND;TZID=Europe/London:20281130T151500
DTSTAMP:20260422T200544
CREATED:20250827T140933Z
LAST-MODIFIED:20250827T140933Z
UID:10001159-1859191200-1859210100@affc.org.uk
SUMMARY:Epping Older Person Activity Group
DESCRIPTION:Every Thursday: \nJack Silley Pavillion\nEpping\nCM16 6SS\n(reached via Tidy’s Lane) \nKeeping Active: 10am-12.30pm\nActive Minds: 12.45pm – 3.15pm \nMore details here or please contact activityGroups@affc.org.uk.  \nPlease note these groups have a charge attached to them. £21 per session or £42 for the day. Lunch is not supplied\, but attendees can can bring their own lunch and socialise with others in the group as they eat.
URL:https://affc.org.uk/event/epping-older-person-activity-group/2028-11-30/
CATEGORIES:Activity Group
END:VEVENT
BEGIN:VEVENT
DTSTART;TZID=Europe/London:20281207T100000
DTEND;TZID=Europe/London:20281207T151500
DTSTAMP:20260422T200544
CREATED:20250827T140933Z
LAST-MODIFIED:20250827T140933Z
UID:10001160-1859796000-1859814900@affc.org.uk
SUMMARY:Epping Older Person Activity Group
DESCRIPTION:Every Thursday: \nJack Silley Pavillion\nEpping\nCM16 6SS\n(reached via Tidy’s Lane) \nKeeping Active: 10am-12.30pm\nActive Minds: 12.45pm – 3.15pm \nMore details here or please contact activityGroups@affc.org.uk.  \nPlease note these groups have a charge attached to them. £21 per session or £42 for the day. Lunch is not supplied\, but attendees can can bring their own lunch and socialise with others in the group as they eat.
URL:https://affc.org.uk/event/epping-older-person-activity-group/2028-12-07/
CATEGORIES:Activity Group
END:VEVENT
BEGIN:VEVENT
DTSTART;TZID=Europe/London:20281214T100000
DTEND;TZID=Europe/London:20281214T151500
DTSTAMP:20260422T200544
CREATED:20250827T140933Z
LAST-MODIFIED:20250827T140933Z
UID:10001161-1860400800-1860419700@affc.org.uk
SUMMARY:Epping Older Person Activity Group
DESCRIPTION:Every Thursday: \nJack Silley Pavillion\nEpping\nCM16 6SS\n(reached via Tidy’s Lane) \nKeeping Active: 10am-12.30pm\nActive Minds: 12.45pm – 3.15pm \nMore details here or please contact activityGroups@affc.org.uk.  \nPlease note these groups have a charge attached to them. £21 per session or £42 for the day. Lunch is not supplied\, but attendees can can bring their own lunch and socialise with others in the group as they eat.
URL:https://affc.org.uk/event/epping-older-person-activity-group/2028-12-14/
CATEGORIES:Activity Group
END:VEVENT
BEGIN:VEVENT
DTSTART;TZID=Europe/London:20281221T100000
DTEND;TZID=Europe/London:20281221T151500
DTSTAMP:20260422T200544
CREATED:20250827T140933Z
LAST-MODIFIED:20250827T140933Z
UID:10001162-1861005600-1861024500@affc.org.uk
SUMMARY:Epping Older Person Activity Group
DESCRIPTION:Every Thursday: \nJack Silley Pavillion\nEpping\nCM16 6SS\n(reached via Tidy’s Lane) \nKeeping Active: 10am-12.30pm\nActive Minds: 12.45pm – 3.15pm \nMore details here or please contact activityGroups@affc.org.uk.  \nPlease note these groups have a charge attached to them. £21 per session or £42 for the day. Lunch is not supplied\, but attendees can can bring their own lunch and socialise with others in the group as they eat.
URL:https://affc.org.uk/event/epping-older-person-activity-group/2028-12-21/
CATEGORIES:Activity Group
END:VEVENT
BEGIN:VEVENT
DTSTART;TZID=Europe/London:20281228T100000
DTEND;TZID=Europe/London:20281228T151500
DTSTAMP:20260422T200544
CREATED:20250827T140933Z
LAST-MODIFIED:20250827T140933Z
UID:10001163-1861610400-1861629300@affc.org.uk
SUMMARY:Epping Older Person Activity Group
DESCRIPTION:Every Thursday: \nJack Silley Pavillion\nEpping\nCM16 6SS\n(reached via Tidy’s Lane) \nKeeping Active: 10am-12.30pm\nActive Minds: 12.45pm – 3.15pm \nMore details here or please contact activityGroups@affc.org.uk.  \nPlease note these groups have a charge attached to them. £21 per session or £42 for the day. Lunch is not supplied\, but attendees can can bring their own lunch and socialise with others in the group as they eat.
URL:https://affc.org.uk/event/epping-older-person-activity-group/2028-12-28/
CATEGORIES:Activity Group
END:VEVENT
BEGIN:VEVENT
DTSTART;TZID=Europe/London:20290104T100000
DTEND;TZID=Europe/London:20290104T151500
DTSTAMP:20260422T200544
CREATED:20250827T140933Z
LAST-MODIFIED:20250827T140933Z
UID:10001164-1862215200-1862234100@affc.org.uk
SUMMARY:Epping Older Person Activity Group
DESCRIPTION:Every Thursday: \nJack Silley Pavillion\nEpping\nCM16 6SS\n(reached via Tidy’s Lane) \nKeeping Active: 10am-12.30pm\nActive Minds: 12.45pm – 3.15pm \nMore details here or please contact activityGroups@affc.org.uk.  \nPlease note these groups have a charge attached to them. £21 per session or £42 for the day. Lunch is not supplied\, but attendees can can bring their own lunch and socialise with others in the group as they eat.
URL:https://affc.org.uk/event/epping-older-person-activity-group/2029-01-04/
CATEGORIES:Activity Group
END:VEVENT
BEGIN:VEVENT
DTSTART;TZID=Europe/London:20290111T100000
DTEND;TZID=Europe/London:20290111T151500
DTSTAMP:20260422T200544
CREATED:20250827T140933Z
LAST-MODIFIED:20250827T140933Z
UID:10001165-1862820000-1862838900@affc.org.uk
SUMMARY:Epping Older Person Activity Group
DESCRIPTION:Every Thursday: \nJack Silley Pavillion\nEpping\nCM16 6SS\n(reached via Tidy’s Lane) \nKeeping Active: 10am-12.30pm\nActive Minds: 12.45pm – 3.15pm \nMore details here or please contact activityGroups@affc.org.uk.  \nPlease note these groups have a charge attached to them. £21 per session or £42 for the day. Lunch is not supplied\, but attendees can can bring their own lunch and socialise with others in the group as they eat.
URL:https://affc.org.uk/event/epping-older-person-activity-group/2029-01-11/
CATEGORIES:Activity Group
END:VEVENT
BEGIN:VEVENT
DTSTART;TZID=Europe/London:20290118T100000
DTEND;TZID=Europe/London:20290118T151500
DTSTAMP:20260422T200544
CREATED:20250827T140933Z
LAST-MODIFIED:20250827T140933Z
UID:10001166-1863424800-1863443700@affc.org.uk
SUMMARY:Epping Older Person Activity Group
DESCRIPTION:Every Thursday: \nJack Silley Pavillion\nEpping\nCM16 6SS\n(reached via Tidy’s Lane) \nKeeping Active: 10am-12.30pm\nActive Minds: 12.45pm – 3.15pm \nMore details here or please contact activityGroups@affc.org.uk.  \nPlease note these groups have a charge attached to them. £21 per session or £42 for the day. Lunch is not supplied\, but attendees can can bring their own lunch and socialise with others in the group as they eat.
URL:https://affc.org.uk/event/epping-older-person-activity-group/2029-01-18/
CATEGORIES:Activity Group
END:VEVENT
BEGIN:VEVENT
DTSTART;TZID=Europe/London:20290125T100000
DTEND;TZID=Europe/London:20290125T151500
DTSTAMP:20260422T200544
CREATED:20250827T140933Z
LAST-MODIFIED:20250827T140933Z
UID:10001167-1864029600-1864048500@affc.org.uk
SUMMARY:Epping Older Person Activity Group
DESCRIPTION:Every Thursday: \nJack Silley Pavillion\nEpping\nCM16 6SS\n(reached via Tidy’s Lane) \nKeeping Active: 10am-12.30pm\nActive Minds: 12.45pm – 3.15pm \nMore details here or please contact activityGroups@affc.org.uk.  \nPlease note these groups have a charge attached to them. £21 per session or £42 for the day. Lunch is not supplied\, but attendees can can bring their own lunch and socialise with others in the group as they eat.
URL:https://affc.org.uk/event/epping-older-person-activity-group/2029-01-25/
CATEGORIES:Activity Group
END:VEVENT
BEGIN:VEVENT
DTSTART;TZID=Europe/London:20290201T100000
DTEND;TZID=Europe/London:20290201T151500
DTSTAMP:20260422T200544
CREATED:20250827T140933Z
LAST-MODIFIED:20250827T140933Z
UID:10001168-1864634400-1864653300@affc.org.uk
SUMMARY:Epping Older Person Activity Group
DESCRIPTION:Every Thursday: \nJack Silley Pavillion\nEpping\nCM16 6SS\n(reached via Tidy’s Lane) \nKeeping Active: 10am-12.30pm\nActive Minds: 12.45pm – 3.15pm \nMore details here or please contact activityGroups@affc.org.uk.  \nPlease note these groups have a charge attached to them. £21 per session or £42 for the day. Lunch is not supplied\, but attendees can can bring their own lunch and socialise with others in the group as they eat.
URL:https://affc.org.uk/event/epping-older-person-activity-group/2029-02-01/
CATEGORIES:Activity Group
END:VEVENT
BEGIN:VEVENT
DTSTART;TZID=Europe/London:20290208T100000
DTEND;TZID=Europe/London:20290208T151500
DTSTAMP:20260422T200544
CREATED:20250827T140933Z
LAST-MODIFIED:20250827T140933Z
UID:10001169-1865239200-1865258100@affc.org.uk
SUMMARY:Epping Older Person Activity Group
DESCRIPTION:Every Thursday: \nJack Silley Pavillion\nEpping\nCM16 6SS\n(reached via Tidy’s Lane) \nKeeping Active: 10am-12.30pm\nActive Minds: 12.45pm – 3.15pm \nMore details here or please contact activityGroups@affc.org.uk.  \nPlease note these groups have a charge attached to them. £21 per session or £42 for the day. Lunch is not supplied\, but attendees can can bring their own lunch and socialise with others in the group as they eat.
URL:https://affc.org.uk/event/epping-older-person-activity-group/2029-02-08/
CATEGORIES:Activity Group
END:VEVENT
BEGIN:VEVENT
DTSTART;TZID=Europe/London:20290215T100000
DTEND;TZID=Europe/London:20290215T151500
DTSTAMP:20260422T200544
CREATED:20250827T140933Z
LAST-MODIFIED:20250827T140933Z
UID:10001170-1865844000-1865862900@affc.org.uk
SUMMARY:Epping Older Person Activity Group
DESCRIPTION:Every Thursday: \nJack Silley Pavillion\nEpping\nCM16 6SS\n(reached via Tidy’s Lane) \nKeeping Active: 10am-12.30pm\nActive Minds: 12.45pm – 3.15pm \nMore details here or please contact activityGroups@affc.org.uk.  \nPlease note these groups have a charge attached to them. £21 per session or £42 for the day. Lunch is not supplied\, but attendees can can bring their own lunch and socialise with others in the group as they eat.
URL:https://affc.org.uk/event/epping-older-person-activity-group/2029-02-15/
CATEGORIES:Activity Group
END:VEVENT
BEGIN:VEVENT
DTSTART;TZID=Europe/London:20290222T100000
DTEND;TZID=Europe/London:20290222T151500
DTSTAMP:20260422T200544
CREATED:20250827T140933Z
LAST-MODIFIED:20250827T140933Z
UID:10001171-1866448800-1866467700@affc.org.uk
SUMMARY:Epping Older Person Activity Group
DESCRIPTION:Every Thursday: \nJack Silley Pavillion\nEpping\nCM16 6SS\n(reached via Tidy’s Lane) \nKeeping Active: 10am-12.30pm\nActive Minds: 12.45pm – 3.15pm \nMore details here or please contact activityGroups@affc.org.uk.  \nPlease note these groups have a charge attached to them. £21 per session or £42 for the day. Lunch is not supplied\, but attendees can can bring their own lunch and socialise with others in the group as they eat.
URL:https://affc.org.uk/event/epping-older-person-activity-group/2029-02-22/
CATEGORIES:Activity Group
END:VEVENT
BEGIN:VEVENT
DTSTART;TZID=Europe/London:20290301T100000
DTEND;TZID=Europe/London:20290301T151500
DTSTAMP:20260422T200544
CREATED:20250827T140933Z
LAST-MODIFIED:20250827T140933Z
UID:10001172-1867053600-1867072500@affc.org.uk
SUMMARY:Epping Older Person Activity Group
DESCRIPTION:Every Thursday: \nJack Silley Pavillion\nEpping\nCM16 6SS\n(reached via Tidy’s Lane) \nKeeping Active: 10am-12.30pm\nActive Minds: 12.45pm – 3.15pm \nMore details here or please contact activityGroups@affc.org.uk.  \nPlease note these groups have a charge attached to them. £21 per session or £42 for the day. Lunch is not supplied\, but attendees can can bring their own lunch and socialise with others in the group as they eat.
URL:https://affc.org.uk/event/epping-older-person-activity-group/2029-03-01/
CATEGORIES:Activity Group
END:VEVENT
END:VCALENDAR