BEGIN:VCALENDAR
VERSION:2.0
PRODID:-//Action for Family Carers - ECPv6.15.20//NONSGML v1.0//EN
CALSCALE:GREGORIAN
METHOD:PUBLISH
X-WR-CALNAME:Action for Family Carers
X-ORIGINAL-URL:https://affc.org.uk
X-WR-CALDESC:Events for Action for Family Carers
REFRESH-INTERVAL;VALUE=DURATION:PT1H
X-Robots-Tag:noindex
X-PUBLISHED-TTL:PT1H
BEGIN:VTIMEZONE
TZID:Europe/London
BEGIN:DAYLIGHT
TZOFFSETFROM:+0000
TZOFFSETTO:+0100
TZNAME:BST
DTSTART:20280326T010000
END:DAYLIGHT
BEGIN:STANDARD
TZOFFSETFROM:+0100
TZOFFSETTO:+0000
TZNAME:GMT
DTSTART:20281029T010000
END:STANDARD
BEGIN:DAYLIGHT
TZOFFSETFROM:+0000
TZOFFSETTO:+0100
TZNAME:BST
DTSTART:20290325T010000
END:DAYLIGHT
BEGIN:STANDARD
TZOFFSETFROM:+0100
TZOFFSETTO:+0000
TZNAME:GMT
DTSTART:20291028T010000
END:STANDARD
BEGIN:DAYLIGHT
TZOFFSETFROM:+0000
TZOFFSETTO:+0100
TZNAME:BST
DTSTART:20300331T010000
END:DAYLIGHT
BEGIN:STANDARD
TZOFFSETFROM:+0100
TZOFFSETTO:+0000
TZNAME:GMT
DTSTART:20301027T010000
END:STANDARD
BEGIN:DAYLIGHT
TZOFFSETFROM:+0000
TZOFFSETTO:+0100
TZNAME:BST
DTSTART:20310330T010000
END:DAYLIGHT
BEGIN:STANDARD
TZOFFSETFROM:+0100
TZOFFSETTO:+0000
TZNAME:GMT
DTSTART:20311026T010000
END:STANDARD
END:VTIMEZONE
BEGIN:VEVENT
DTSTART;TZID=Europe/London:20290712T100000
DTEND;TZID=Europe/London:20290712T151500
DTSTAMP:20260423T022352
CREATED:20250827T140933Z
LAST-MODIFIED:20250827T140933Z
UID:10001191-1878544800-1878563700@affc.org.uk
SUMMARY:Epping Older Person Activity Group
DESCRIPTION:Every Thursday: \nJack Silley Pavillion\nEpping\nCM16 6SS\n(reached via Tidy’s Lane) \nKeeping Active: 10am-12.30pm\nActive Minds: 12.45pm – 3.15pm \nMore details here or please contact activityGroups@affc.org.uk.  \nPlease note these groups have a charge attached to them. £21 per session or £42 for the day. Lunch is not supplied\, but attendees can can bring their own lunch and socialise with others in the group as they eat.
URL:https://affc.org.uk/event/epping-older-person-activity-group/2029-07-12/
CATEGORIES:Activity Group
END:VEVENT
BEGIN:VEVENT
DTSTART;TZID=Europe/London:20290719T100000
DTEND;TZID=Europe/London:20290719T151500
DTSTAMP:20260423T022352
CREATED:20250827T140933Z
LAST-MODIFIED:20250827T140933Z
UID:10001192-1879149600-1879168500@affc.org.uk
SUMMARY:Epping Older Person Activity Group
DESCRIPTION:Every Thursday: \nJack Silley Pavillion\nEpping\nCM16 6SS\n(reached via Tidy’s Lane) \nKeeping Active: 10am-12.30pm\nActive Minds: 12.45pm – 3.15pm \nMore details here or please contact activityGroups@affc.org.uk.  \nPlease note these groups have a charge attached to them. £21 per session or £42 for the day. Lunch is not supplied\, but attendees can can bring their own lunch and socialise with others in the group as they eat.
URL:https://affc.org.uk/event/epping-older-person-activity-group/2029-07-19/
CATEGORIES:Activity Group
END:VEVENT
BEGIN:VEVENT
DTSTART;TZID=Europe/London:20290726T100000
DTEND;TZID=Europe/London:20290726T151500
DTSTAMP:20260423T022352
CREATED:20250827T140933Z
LAST-MODIFIED:20250827T140933Z
UID:10001193-1879754400-1879773300@affc.org.uk
SUMMARY:Epping Older Person Activity Group
DESCRIPTION:Every Thursday: \nJack Silley Pavillion\nEpping\nCM16 6SS\n(reached via Tidy’s Lane) \nKeeping Active: 10am-12.30pm\nActive Minds: 12.45pm – 3.15pm \nMore details here or please contact activityGroups@affc.org.uk.  \nPlease note these groups have a charge attached to them. £21 per session or £42 for the day. Lunch is not supplied\, but attendees can can bring their own lunch and socialise with others in the group as they eat.
URL:https://affc.org.uk/event/epping-older-person-activity-group/2029-07-26/
CATEGORIES:Activity Group
END:VEVENT
BEGIN:VEVENT
DTSTART;TZID=Europe/London:20290802T100000
DTEND;TZID=Europe/London:20290802T151500
DTSTAMP:20260423T022352
CREATED:20250827T140933Z
LAST-MODIFIED:20250827T140933Z
UID:10001194-1880359200-1880378100@affc.org.uk
SUMMARY:Epping Older Person Activity Group
DESCRIPTION:Every Thursday: \nJack Silley Pavillion\nEpping\nCM16 6SS\n(reached via Tidy’s Lane) \nKeeping Active: 10am-12.30pm\nActive Minds: 12.45pm – 3.15pm \nMore details here or please contact activityGroups@affc.org.uk.  \nPlease note these groups have a charge attached to them. £21 per session or £42 for the day. Lunch is not supplied\, but attendees can can bring their own lunch and socialise with others in the group as they eat.
URL:https://affc.org.uk/event/epping-older-person-activity-group/2029-08-02/
CATEGORIES:Activity Group
END:VEVENT
BEGIN:VEVENT
DTSTART;TZID=Europe/London:20290809T100000
DTEND;TZID=Europe/London:20290809T151500
DTSTAMP:20260423T022353
CREATED:20250827T140933Z
LAST-MODIFIED:20250827T140933Z
UID:10001195-1880964000-1880982900@affc.org.uk
SUMMARY:Epping Older Person Activity Group
DESCRIPTION:Every Thursday: \nJack Silley Pavillion\nEpping\nCM16 6SS\n(reached via Tidy’s Lane) \nKeeping Active: 10am-12.30pm\nActive Minds: 12.45pm – 3.15pm \nMore details here or please contact activityGroups@affc.org.uk.  \nPlease note these groups have a charge attached to them. £21 per session or £42 for the day. Lunch is not supplied\, but attendees can can bring their own lunch and socialise with others in the group as they eat.
URL:https://affc.org.uk/event/epping-older-person-activity-group/2029-08-09/
CATEGORIES:Activity Group
END:VEVENT
BEGIN:VEVENT
DTSTART;TZID=Europe/London:20290816T100000
DTEND;TZID=Europe/London:20290816T151500
DTSTAMP:20260423T022353
CREATED:20250827T140933Z
LAST-MODIFIED:20250827T140933Z
UID:10001196-1881568800-1881587700@affc.org.uk
SUMMARY:Epping Older Person Activity Group
DESCRIPTION:Every Thursday: \nJack Silley Pavillion\nEpping\nCM16 6SS\n(reached via Tidy’s Lane) \nKeeping Active: 10am-12.30pm\nActive Minds: 12.45pm – 3.15pm \nMore details here or please contact activityGroups@affc.org.uk.  \nPlease note these groups have a charge attached to them. £21 per session or £42 for the day. Lunch is not supplied\, but attendees can can bring their own lunch and socialise with others in the group as they eat.
URL:https://affc.org.uk/event/epping-older-person-activity-group/2029-08-16/
CATEGORIES:Activity Group
END:VEVENT
BEGIN:VEVENT
DTSTART;TZID=Europe/London:20290823T100000
DTEND;TZID=Europe/London:20290823T151500
DTSTAMP:20260423T022353
CREATED:20250827T140933Z
LAST-MODIFIED:20250827T140933Z
UID:10001197-1882173600-1882192500@affc.org.uk
SUMMARY:Epping Older Person Activity Group
DESCRIPTION:Every Thursday: \nJack Silley Pavillion\nEpping\nCM16 6SS\n(reached via Tidy’s Lane) \nKeeping Active: 10am-12.30pm\nActive Minds: 12.45pm – 3.15pm \nMore details here or please contact activityGroups@affc.org.uk.  \nPlease note these groups have a charge attached to them. £21 per session or £42 for the day. Lunch is not supplied\, but attendees can can bring their own lunch and socialise with others in the group as they eat.
URL:https://affc.org.uk/event/epping-older-person-activity-group/2029-08-23/
CATEGORIES:Activity Group
END:VEVENT
BEGIN:VEVENT
DTSTART;TZID=Europe/London:20290830T100000
DTEND;TZID=Europe/London:20290830T151500
DTSTAMP:20260423T022353
CREATED:20250827T140933Z
LAST-MODIFIED:20250827T140933Z
UID:10001198-1882778400-1882797300@affc.org.uk
SUMMARY:Epping Older Person Activity Group
DESCRIPTION:Every Thursday: \nJack Silley Pavillion\nEpping\nCM16 6SS\n(reached via Tidy’s Lane) \nKeeping Active: 10am-12.30pm\nActive Minds: 12.45pm – 3.15pm \nMore details here or please contact activityGroups@affc.org.uk.  \nPlease note these groups have a charge attached to them. £21 per session or £42 for the day. Lunch is not supplied\, but attendees can can bring their own lunch and socialise with others in the group as they eat.
URL:https://affc.org.uk/event/epping-older-person-activity-group/2029-08-30/
CATEGORIES:Activity Group
END:VEVENT
BEGIN:VEVENT
DTSTART;TZID=Europe/London:20290906T100000
DTEND;TZID=Europe/London:20290906T151500
DTSTAMP:20260423T022353
CREATED:20250827T140933Z
LAST-MODIFIED:20250827T140933Z
UID:10001199-1883383200-1883402100@affc.org.uk
SUMMARY:Epping Older Person Activity Group
DESCRIPTION:Every Thursday: \nJack Silley Pavillion\nEpping\nCM16 6SS\n(reached via Tidy’s Lane) \nKeeping Active: 10am-12.30pm\nActive Minds: 12.45pm – 3.15pm \nMore details here or please contact activityGroups@affc.org.uk.  \nPlease note these groups have a charge attached to them. £21 per session or £42 for the day. Lunch is not supplied\, but attendees can can bring their own lunch and socialise with others in the group as they eat.
URL:https://affc.org.uk/event/epping-older-person-activity-group/2029-09-06/
CATEGORIES:Activity Group
END:VEVENT
BEGIN:VEVENT
DTSTART;TZID=Europe/London:20290913T100000
DTEND;TZID=Europe/London:20290913T151500
DTSTAMP:20260423T022353
CREATED:20250827T140933Z
LAST-MODIFIED:20250827T140933Z
UID:10001200-1883988000-1884006900@affc.org.uk
SUMMARY:Epping Older Person Activity Group
DESCRIPTION:Every Thursday: \nJack Silley Pavillion\nEpping\nCM16 6SS\n(reached via Tidy’s Lane) \nKeeping Active: 10am-12.30pm\nActive Minds: 12.45pm – 3.15pm \nMore details here or please contact activityGroups@affc.org.uk.  \nPlease note these groups have a charge attached to them. £21 per session or £42 for the day. Lunch is not supplied\, but attendees can can bring their own lunch and socialise with others in the group as they eat.
URL:https://affc.org.uk/event/epping-older-person-activity-group/2029-09-13/
CATEGORIES:Activity Group
END:VEVENT
BEGIN:VEVENT
DTSTART;TZID=Europe/London:20290920T100000
DTEND;TZID=Europe/London:20290920T151500
DTSTAMP:20260423T022353
CREATED:20250827T140933Z
LAST-MODIFIED:20250827T140933Z
UID:10001201-1884592800-1884611700@affc.org.uk
SUMMARY:Epping Older Person Activity Group
DESCRIPTION:Every Thursday: \nJack Silley Pavillion\nEpping\nCM16 6SS\n(reached via Tidy’s Lane) \nKeeping Active: 10am-12.30pm\nActive Minds: 12.45pm – 3.15pm \nMore details here or please contact activityGroups@affc.org.uk.  \nPlease note these groups have a charge attached to them. £21 per session or £42 for the day. Lunch is not supplied\, but attendees can can bring their own lunch and socialise with others in the group as they eat.
URL:https://affc.org.uk/event/epping-older-person-activity-group/2029-09-20/
CATEGORIES:Activity Group
END:VEVENT
BEGIN:VEVENT
DTSTART;TZID=Europe/London:20290927T100000
DTEND;TZID=Europe/London:20290927T151500
DTSTAMP:20260423T022353
CREATED:20250827T140933Z
LAST-MODIFIED:20250827T140933Z
UID:10001202-1885197600-1885216500@affc.org.uk
SUMMARY:Epping Older Person Activity Group
DESCRIPTION:Every Thursday: \nJack Silley Pavillion\nEpping\nCM16 6SS\n(reached via Tidy’s Lane) \nKeeping Active: 10am-12.30pm\nActive Minds: 12.45pm – 3.15pm \nMore details here or please contact activityGroups@affc.org.uk.  \nPlease note these groups have a charge attached to them. £21 per session or £42 for the day. Lunch is not supplied\, but attendees can can bring their own lunch and socialise with others in the group as they eat.
URL:https://affc.org.uk/event/epping-older-person-activity-group/2029-09-27/
CATEGORIES:Activity Group
END:VEVENT
BEGIN:VEVENT
DTSTART;TZID=Europe/London:20291004T100000
DTEND;TZID=Europe/London:20291004T151500
DTSTAMP:20260423T022353
CREATED:20250827T140933Z
LAST-MODIFIED:20250827T140933Z
UID:10001203-1885802400-1885821300@affc.org.uk
SUMMARY:Epping Older Person Activity Group
DESCRIPTION:Every Thursday: \nJack Silley Pavillion\nEpping\nCM16 6SS\n(reached via Tidy’s Lane) \nKeeping Active: 10am-12.30pm\nActive Minds: 12.45pm – 3.15pm \nMore details here or please contact activityGroups@affc.org.uk.  \nPlease note these groups have a charge attached to them. £21 per session or £42 for the day. Lunch is not supplied\, but attendees can can bring their own lunch and socialise with others in the group as they eat.
URL:https://affc.org.uk/event/epping-older-person-activity-group/2029-10-04/
CATEGORIES:Activity Group
END:VEVENT
BEGIN:VEVENT
DTSTART;TZID=Europe/London:20291011T100000
DTEND;TZID=Europe/London:20291011T151500
DTSTAMP:20260423T022353
CREATED:20250827T140933Z
LAST-MODIFIED:20250827T140933Z
UID:10001204-1886407200-1886426100@affc.org.uk
SUMMARY:Epping Older Person Activity Group
DESCRIPTION:Every Thursday: \nJack Silley Pavillion\nEpping\nCM16 6SS\n(reached via Tidy’s Lane) \nKeeping Active: 10am-12.30pm\nActive Minds: 12.45pm – 3.15pm \nMore details here or please contact activityGroups@affc.org.uk.  \nPlease note these groups have a charge attached to them. £21 per session or £42 for the day. Lunch is not supplied\, but attendees can can bring their own lunch and socialise with others in the group as they eat.
URL:https://affc.org.uk/event/epping-older-person-activity-group/2029-10-11/
CATEGORIES:Activity Group
END:VEVENT
BEGIN:VEVENT
DTSTART;TZID=Europe/London:20291018T100000
DTEND;TZID=Europe/London:20291018T151500
DTSTAMP:20260423T022353
CREATED:20250827T140933Z
LAST-MODIFIED:20250827T140933Z
UID:10001205-1887012000-1887030900@affc.org.uk
SUMMARY:Epping Older Person Activity Group
DESCRIPTION:Every Thursday: \nJack Silley Pavillion\nEpping\nCM16 6SS\n(reached via Tidy’s Lane) \nKeeping Active: 10am-12.30pm\nActive Minds: 12.45pm – 3.15pm \nMore details here or please contact activityGroups@affc.org.uk.  \nPlease note these groups have a charge attached to them. £21 per session or £42 for the day. Lunch is not supplied\, but attendees can can bring their own lunch and socialise with others in the group as they eat.
URL:https://affc.org.uk/event/epping-older-person-activity-group/2029-10-18/
CATEGORIES:Activity Group
END:VEVENT
BEGIN:VEVENT
DTSTART;TZID=Europe/London:20291025T100000
DTEND;TZID=Europe/London:20291025T151500
DTSTAMP:20260423T022353
CREATED:20250827T140933Z
LAST-MODIFIED:20250827T140933Z
UID:10001206-1887616800-1887635700@affc.org.uk
SUMMARY:Epping Older Person Activity Group
DESCRIPTION:Every Thursday: \nJack Silley Pavillion\nEpping\nCM16 6SS\n(reached via Tidy’s Lane) \nKeeping Active: 10am-12.30pm\nActive Minds: 12.45pm – 3.15pm \nMore details here or please contact activityGroups@affc.org.uk.  \nPlease note these groups have a charge attached to them. £21 per session or £42 for the day. Lunch is not supplied\, but attendees can can bring their own lunch and socialise with others in the group as they eat.
URL:https://affc.org.uk/event/epping-older-person-activity-group/2029-10-25/
CATEGORIES:Activity Group
END:VEVENT
BEGIN:VEVENT
DTSTART;TZID=Europe/London:20291101T100000
DTEND;TZID=Europe/London:20291101T151500
DTSTAMP:20260423T022353
CREATED:20250827T140933Z
LAST-MODIFIED:20250827T140933Z
UID:10001207-1888221600-1888240500@affc.org.uk
SUMMARY:Epping Older Person Activity Group
DESCRIPTION:Every Thursday: \nJack Silley Pavillion\nEpping\nCM16 6SS\n(reached via Tidy’s Lane) \nKeeping Active: 10am-12.30pm\nActive Minds: 12.45pm – 3.15pm \nMore details here or please contact activityGroups@affc.org.uk.  \nPlease note these groups have a charge attached to them. £21 per session or £42 for the day. Lunch is not supplied\, but attendees can can bring their own lunch and socialise with others in the group as they eat.
URL:https://affc.org.uk/event/epping-older-person-activity-group/2029-11-01/
CATEGORIES:Activity Group
END:VEVENT
BEGIN:VEVENT
DTSTART;TZID=Europe/London:20291108T100000
DTEND;TZID=Europe/London:20291108T151500
DTSTAMP:20260423T022353
CREATED:20250827T140933Z
LAST-MODIFIED:20250827T140933Z
UID:10001208-1888826400-1888845300@affc.org.uk
SUMMARY:Epping Older Person Activity Group
DESCRIPTION:Every Thursday: \nJack Silley Pavillion\nEpping\nCM16 6SS\n(reached via Tidy’s Lane) \nKeeping Active: 10am-12.30pm\nActive Minds: 12.45pm – 3.15pm \nMore details here or please contact activityGroups@affc.org.uk.  \nPlease note these groups have a charge attached to them. £21 per session or £42 for the day. Lunch is not supplied\, but attendees can can bring their own lunch and socialise with others in the group as they eat.
URL:https://affc.org.uk/event/epping-older-person-activity-group/2029-11-08/
CATEGORIES:Activity Group
END:VEVENT
BEGIN:VEVENT
DTSTART;TZID=Europe/London:20291115T100000
DTEND;TZID=Europe/London:20291115T151500
DTSTAMP:20260423T022353
CREATED:20250827T140933Z
LAST-MODIFIED:20250827T140933Z
UID:10001209-1889431200-1889450100@affc.org.uk
SUMMARY:Epping Older Person Activity Group
DESCRIPTION:Every Thursday: \nJack Silley Pavillion\nEpping\nCM16 6SS\n(reached via Tidy’s Lane) \nKeeping Active: 10am-12.30pm\nActive Minds: 12.45pm – 3.15pm \nMore details here or please contact activityGroups@affc.org.uk.  \nPlease note these groups have a charge attached to them. £21 per session or £42 for the day. Lunch is not supplied\, but attendees can can bring their own lunch and socialise with others in the group as they eat.
URL:https://affc.org.uk/event/epping-older-person-activity-group/2029-11-15/
CATEGORIES:Activity Group
END:VEVENT
BEGIN:VEVENT
DTSTART;TZID=Europe/London:20291122T100000
DTEND;TZID=Europe/London:20291122T151500
DTSTAMP:20260423T022353
CREATED:20250827T140933Z
LAST-MODIFIED:20250827T140933Z
UID:10001210-1890036000-1890054900@affc.org.uk
SUMMARY:Epping Older Person Activity Group
DESCRIPTION:Every Thursday: \nJack Silley Pavillion\nEpping\nCM16 6SS\n(reached via Tidy’s Lane) \nKeeping Active: 10am-12.30pm\nActive Minds: 12.45pm – 3.15pm \nMore details here or please contact activityGroups@affc.org.uk.  \nPlease note these groups have a charge attached to them. £21 per session or £42 for the day. Lunch is not supplied\, but attendees can can bring their own lunch and socialise with others in the group as they eat.
URL:https://affc.org.uk/event/epping-older-person-activity-group/2029-11-22/
CATEGORIES:Activity Group
END:VEVENT
BEGIN:VEVENT
DTSTART;TZID=Europe/London:20291129T100000
DTEND;TZID=Europe/London:20291129T151500
DTSTAMP:20260423T022353
CREATED:20250827T140933Z
LAST-MODIFIED:20250827T140933Z
UID:10001211-1890640800-1890659700@affc.org.uk
SUMMARY:Epping Older Person Activity Group
DESCRIPTION:Every Thursday: \nJack Silley Pavillion\nEpping\nCM16 6SS\n(reached via Tidy’s Lane) \nKeeping Active: 10am-12.30pm\nActive Minds: 12.45pm – 3.15pm \nMore details here or please contact activityGroups@affc.org.uk.  \nPlease note these groups have a charge attached to them. £21 per session or £42 for the day. Lunch is not supplied\, but attendees can can bring their own lunch and socialise with others in the group as they eat.
URL:https://affc.org.uk/event/epping-older-person-activity-group/2029-11-29/
CATEGORIES:Activity Group
END:VEVENT
BEGIN:VEVENT
DTSTART;TZID=Europe/London:20291206T100000
DTEND;TZID=Europe/London:20291206T151500
DTSTAMP:20260423T022353
CREATED:20250827T140933Z
LAST-MODIFIED:20250827T140933Z
UID:10001212-1891245600-1891264500@affc.org.uk
SUMMARY:Epping Older Person Activity Group
DESCRIPTION:Every Thursday: \nJack Silley Pavillion\nEpping\nCM16 6SS\n(reached via Tidy’s Lane) \nKeeping Active: 10am-12.30pm\nActive Minds: 12.45pm – 3.15pm \nMore details here or please contact activityGroups@affc.org.uk.  \nPlease note these groups have a charge attached to them. £21 per session or £42 for the day. Lunch is not supplied\, but attendees can can bring their own lunch and socialise with others in the group as they eat.
URL:https://affc.org.uk/event/epping-older-person-activity-group/2029-12-06/
CATEGORIES:Activity Group
END:VEVENT
BEGIN:VEVENT
DTSTART;TZID=Europe/London:20291213T100000
DTEND;TZID=Europe/London:20291213T151500
DTSTAMP:20260423T022353
CREATED:20250827T140933Z
LAST-MODIFIED:20250827T140933Z
UID:10001213-1891850400-1891869300@affc.org.uk
SUMMARY:Epping Older Person Activity Group
DESCRIPTION:Every Thursday: \nJack Silley Pavillion\nEpping\nCM16 6SS\n(reached via Tidy’s Lane) \nKeeping Active: 10am-12.30pm\nActive Minds: 12.45pm – 3.15pm \nMore details here or please contact activityGroups@affc.org.uk.  \nPlease note these groups have a charge attached to them. £21 per session or £42 for the day. Lunch is not supplied\, but attendees can can bring their own lunch and socialise with others in the group as they eat.
URL:https://affc.org.uk/event/epping-older-person-activity-group/2029-12-13/
CATEGORIES:Activity Group
END:VEVENT
BEGIN:VEVENT
DTSTART;TZID=Europe/London:20291220T100000
DTEND;TZID=Europe/London:20291220T151500
DTSTAMP:20260423T022353
CREATED:20250827T140933Z
LAST-MODIFIED:20250827T140933Z
UID:10001214-1892455200-1892474100@affc.org.uk
SUMMARY:Epping Older Person Activity Group
DESCRIPTION:Every Thursday: \nJack Silley Pavillion\nEpping\nCM16 6SS\n(reached via Tidy’s Lane) \nKeeping Active: 10am-12.30pm\nActive Minds: 12.45pm – 3.15pm \nMore details here or please contact activityGroups@affc.org.uk.  \nPlease note these groups have a charge attached to them. £21 per session or £42 for the day. Lunch is not supplied\, but attendees can can bring their own lunch and socialise with others in the group as they eat.
URL:https://affc.org.uk/event/epping-older-person-activity-group/2029-12-20/
CATEGORIES:Activity Group
END:VEVENT
BEGIN:VEVENT
DTSTART;TZID=Europe/London:20291227T100000
DTEND;TZID=Europe/London:20291227T151500
DTSTAMP:20260423T022353
CREATED:20250827T140933Z
LAST-MODIFIED:20250827T140933Z
UID:10001215-1893060000-1893078900@affc.org.uk
SUMMARY:Epping Older Person Activity Group
DESCRIPTION:Every Thursday: \nJack Silley Pavillion\nEpping\nCM16 6SS\n(reached via Tidy’s Lane) \nKeeping Active: 10am-12.30pm\nActive Minds: 12.45pm – 3.15pm \nMore details here or please contact activityGroups@affc.org.uk.  \nPlease note these groups have a charge attached to them. £21 per session or £42 for the day. Lunch is not supplied\, but attendees can can bring their own lunch and socialise with others in the group as they eat.
URL:https://affc.org.uk/event/epping-older-person-activity-group/2029-12-27/
CATEGORIES:Activity Group
END:VEVENT
BEGIN:VEVENT
DTSTART;TZID=Europe/London:20300103T100000
DTEND;TZID=Europe/London:20300103T151500
DTSTAMP:20260423T022353
CREATED:20250827T140933Z
LAST-MODIFIED:20250827T140933Z
UID:10001216-1893664800-1893683700@affc.org.uk
SUMMARY:Epping Older Person Activity Group
DESCRIPTION:Every Thursday: \nJack Silley Pavillion\nEpping\nCM16 6SS\n(reached via Tidy’s Lane) \nKeeping Active: 10am-12.30pm\nActive Minds: 12.45pm – 3.15pm \nMore details here or please contact activityGroups@affc.org.uk.  \nPlease note these groups have a charge attached to them. £21 per session or £42 for the day. Lunch is not supplied\, but attendees can can bring their own lunch and socialise with others in the group as they eat.
URL:https://affc.org.uk/event/epping-older-person-activity-group/2030-01-03/
CATEGORIES:Activity Group
END:VEVENT
BEGIN:VEVENT
DTSTART;TZID=Europe/London:20300110T100000
DTEND;TZID=Europe/London:20300110T151500
DTSTAMP:20260423T022353
CREATED:20250827T140933Z
LAST-MODIFIED:20250827T140933Z
UID:10001217-1894269600-1894288500@affc.org.uk
SUMMARY:Epping Older Person Activity Group
DESCRIPTION:Every Thursday: \nJack Silley Pavillion\nEpping\nCM16 6SS\n(reached via Tidy’s Lane) \nKeeping Active: 10am-12.30pm\nActive Minds: 12.45pm – 3.15pm \nMore details here or please contact activityGroups@affc.org.uk.  \nPlease note these groups have a charge attached to them. £21 per session or £42 for the day. Lunch is not supplied\, but attendees can can bring their own lunch and socialise with others in the group as they eat.
URL:https://affc.org.uk/event/epping-older-person-activity-group/2030-01-10/
CATEGORIES:Activity Group
END:VEVENT
BEGIN:VEVENT
DTSTART;TZID=Europe/London:20300117T100000
DTEND;TZID=Europe/London:20300117T151500
DTSTAMP:20260423T022353
CREATED:20250827T140933Z
LAST-MODIFIED:20250827T140933Z
UID:10001218-1894874400-1894893300@affc.org.uk
SUMMARY:Epping Older Person Activity Group
DESCRIPTION:Every Thursday: \nJack Silley Pavillion\nEpping\nCM16 6SS\n(reached via Tidy’s Lane) \nKeeping Active: 10am-12.30pm\nActive Minds: 12.45pm – 3.15pm \nMore details here or please contact activityGroups@affc.org.uk.  \nPlease note these groups have a charge attached to them. £21 per session or £42 for the day. Lunch is not supplied\, but attendees can can bring their own lunch and socialise with others in the group as they eat.
URL:https://affc.org.uk/event/epping-older-person-activity-group/2030-01-17/
CATEGORIES:Activity Group
END:VEVENT
BEGIN:VEVENT
DTSTART;TZID=Europe/London:20300124T100000
DTEND;TZID=Europe/London:20300124T151500
DTSTAMP:20260423T022353
CREATED:20250827T140933Z
LAST-MODIFIED:20250827T140933Z
UID:10001219-1895479200-1895498100@affc.org.uk
SUMMARY:Epping Older Person Activity Group
DESCRIPTION:Every Thursday: \nJack Silley Pavillion\nEpping\nCM16 6SS\n(reached via Tidy’s Lane) \nKeeping Active: 10am-12.30pm\nActive Minds: 12.45pm – 3.15pm \nMore details here or please contact activityGroups@affc.org.uk.  \nPlease note these groups have a charge attached to them. £21 per session or £42 for the day. Lunch is not supplied\, but attendees can can bring their own lunch and socialise with others in the group as they eat.
URL:https://affc.org.uk/event/epping-older-person-activity-group/2030-01-24/
CATEGORIES:Activity Group
END:VEVENT
BEGIN:VEVENT
DTSTART;TZID=Europe/London:20300131T100000
DTEND;TZID=Europe/London:20300131T151500
DTSTAMP:20260423T022353
CREATED:20250827T140933Z
LAST-MODIFIED:20250827T140933Z
UID:10001220-1896084000-1896102900@affc.org.uk
SUMMARY:Epping Older Person Activity Group
DESCRIPTION:Every Thursday: \nJack Silley Pavillion\nEpping\nCM16 6SS\n(reached via Tidy’s Lane) \nKeeping Active: 10am-12.30pm\nActive Minds: 12.45pm – 3.15pm \nMore details here or please contact activityGroups@affc.org.uk.  \nPlease note these groups have a charge attached to them. £21 per session or £42 for the day. Lunch is not supplied\, but attendees can can bring their own lunch and socialise with others in the group as they eat.
URL:https://affc.org.uk/event/epping-older-person-activity-group/2030-01-31/
CATEGORIES:Activity Group
END:VEVENT
END:VCALENDAR