BEGIN:VCALENDAR
VERSION:2.0
PRODID:-//Action for Family Carers - ECPv6.15.20//NONSGML v1.0//EN
CALSCALE:GREGORIAN
METHOD:PUBLISH
X-WR-CALNAME:Action for Family Carers
X-ORIGINAL-URL:https://affc.org.uk
X-WR-CALDESC:Events for Action for Family Carers
REFRESH-INTERVAL;VALUE=DURATION:PT1H
X-Robots-Tag:noindex
X-PUBLISHED-TTL:PT1H
BEGIN:VTIMEZONE
TZID:Europe/London
BEGIN:DAYLIGHT
TZOFFSETFROM:+0000
TZOFFSETTO:+0100
TZNAME:BST
DTSTART:20270328T010000
END:DAYLIGHT
BEGIN:STANDARD
TZOFFSETFROM:+0100
TZOFFSETTO:+0000
TZNAME:GMT
DTSTART:20271031T010000
END:STANDARD
BEGIN:DAYLIGHT
TZOFFSETFROM:+0000
TZOFFSETTO:+0100
TZNAME:BST
DTSTART:20280326T010000
END:DAYLIGHT
BEGIN:STANDARD
TZOFFSETFROM:+0100
TZOFFSETTO:+0000
TZNAME:GMT
DTSTART:20281029T010000
END:STANDARD
BEGIN:DAYLIGHT
TZOFFSETFROM:+0000
TZOFFSETTO:+0100
TZNAME:BST
DTSTART:20290325T010000
END:DAYLIGHT
BEGIN:STANDARD
TZOFFSETFROM:+0100
TZOFFSETTO:+0000
TZNAME:GMT
DTSTART:20291028T010000
END:STANDARD
END:VTIMEZONE
BEGIN:VEVENT
DTSTART;TZID=Europe/London:20280510T100000
DTEND;TZID=Europe/London:20280510T153000
DTSTAMP:20260421T210416
CREATED:20250827T140616Z
LAST-MODIFIED:20250827T140616Z
UID:10000869-1841565600-1841585400@affc.org.uk
SUMMARY:Harlow Older Person Activity Group
DESCRIPTION:Every Wednesday: \nSt Andrew’s Church\nThe Stow\nCM20 3AF \nKeeping Active: 10am-12.30pm\nActive Minds: 1pm – 3.30pm \nMore details here or please contact activityGroups@affc.org.uk.  \nPlease note these groups have a charge attached to them. £21 per session or £42 for the day. Lunch is not supplied\, but attendees can can bring their own lunch and socialise with others in the group as they eat.
URL:https://affc.org.uk/event/harlow-older-person-activity-group/2028-05-10/
END:VEVENT
BEGIN:VEVENT
DTSTART;TZID=Europe/London:20280517T100000
DTEND;TZID=Europe/London:20280517T153000
DTSTAMP:20260421T210416
CREATED:20250827T140616Z
LAST-MODIFIED:20250827T140616Z
UID:10000870-1842170400-1842190200@affc.org.uk
SUMMARY:Harlow Older Person Activity Group
DESCRIPTION:Every Wednesday: \nSt Andrew’s Church\nThe Stow\nCM20 3AF \nKeeping Active: 10am-12.30pm\nActive Minds: 1pm – 3.30pm \nMore details here or please contact activityGroups@affc.org.uk.  \nPlease note these groups have a charge attached to them. £21 per session or £42 for the day. Lunch is not supplied\, but attendees can can bring their own lunch and socialise with others in the group as they eat.
URL:https://affc.org.uk/event/harlow-older-person-activity-group/2028-05-17/
END:VEVENT
BEGIN:VEVENT
DTSTART;TZID=Europe/London:20280524T100000
DTEND;TZID=Europe/London:20280524T153000
DTSTAMP:20260421T210416
CREATED:20250827T140616Z
LAST-MODIFIED:20250827T140616Z
UID:10000871-1842775200-1842795000@affc.org.uk
SUMMARY:Harlow Older Person Activity Group
DESCRIPTION:Every Wednesday: \nSt Andrew’s Church\nThe Stow\nCM20 3AF \nKeeping Active: 10am-12.30pm\nActive Minds: 1pm – 3.30pm \nMore details here or please contact activityGroups@affc.org.uk.  \nPlease note these groups have a charge attached to them. £21 per session or £42 for the day. Lunch is not supplied\, but attendees can can bring their own lunch and socialise with others in the group as they eat.
URL:https://affc.org.uk/event/harlow-older-person-activity-group/2028-05-24/
END:VEVENT
BEGIN:VEVENT
DTSTART;TZID=Europe/London:20280531T100000
DTEND;TZID=Europe/London:20280531T153000
DTSTAMP:20260421T210416
CREATED:20250827T140616Z
LAST-MODIFIED:20250827T140616Z
UID:10000872-1843380000-1843399800@affc.org.uk
SUMMARY:Harlow Older Person Activity Group
DESCRIPTION:Every Wednesday: \nSt Andrew’s Church\nThe Stow\nCM20 3AF \nKeeping Active: 10am-12.30pm\nActive Minds: 1pm – 3.30pm \nMore details here or please contact activityGroups@affc.org.uk.  \nPlease note these groups have a charge attached to them. £21 per session or £42 for the day. Lunch is not supplied\, but attendees can can bring their own lunch and socialise with others in the group as they eat.
URL:https://affc.org.uk/event/harlow-older-person-activity-group/2028-05-31/
END:VEVENT
BEGIN:VEVENT
DTSTART;TZID=Europe/London:20280607T100000
DTEND;TZID=Europe/London:20280607T153000
DTSTAMP:20260421T210416
CREATED:20250827T140616Z
LAST-MODIFIED:20250827T140616Z
UID:10000873-1843984800-1844004600@affc.org.uk
SUMMARY:Harlow Older Person Activity Group
DESCRIPTION:Every Wednesday: \nSt Andrew’s Church\nThe Stow\nCM20 3AF \nKeeping Active: 10am-12.30pm\nActive Minds: 1pm – 3.30pm \nMore details here or please contact activityGroups@affc.org.uk.  \nPlease note these groups have a charge attached to them. £21 per session or £42 for the day. Lunch is not supplied\, but attendees can can bring their own lunch and socialise with others in the group as they eat.
URL:https://affc.org.uk/event/harlow-older-person-activity-group/2028-06-07/
END:VEVENT
BEGIN:VEVENT
DTSTART;TZID=Europe/London:20280614T100000
DTEND;TZID=Europe/London:20280614T153000
DTSTAMP:20260421T210416
CREATED:20250827T140616Z
LAST-MODIFIED:20250827T140616Z
UID:10000874-1844589600-1844609400@affc.org.uk
SUMMARY:Harlow Older Person Activity Group
DESCRIPTION:Every Wednesday: \nSt Andrew’s Church\nThe Stow\nCM20 3AF \nKeeping Active: 10am-12.30pm\nActive Minds: 1pm – 3.30pm \nMore details here or please contact activityGroups@affc.org.uk.  \nPlease note these groups have a charge attached to them. £21 per session or £42 for the day. Lunch is not supplied\, but attendees can can bring their own lunch and socialise with others in the group as they eat.
URL:https://affc.org.uk/event/harlow-older-person-activity-group/2028-06-14/
END:VEVENT
BEGIN:VEVENT
DTSTART;TZID=Europe/London:20280621T100000
DTEND;TZID=Europe/London:20280621T153000
DTSTAMP:20260421T210416
CREATED:20250827T140616Z
LAST-MODIFIED:20250827T140616Z
UID:10000875-1845194400-1845214200@affc.org.uk
SUMMARY:Harlow Older Person Activity Group
DESCRIPTION:Every Wednesday: \nSt Andrew’s Church\nThe Stow\nCM20 3AF \nKeeping Active: 10am-12.30pm\nActive Minds: 1pm – 3.30pm \nMore details here or please contact activityGroups@affc.org.uk.  \nPlease note these groups have a charge attached to them. £21 per session or £42 for the day. Lunch is not supplied\, but attendees can can bring their own lunch and socialise with others in the group as they eat.
URL:https://affc.org.uk/event/harlow-older-person-activity-group/2028-06-21/
END:VEVENT
BEGIN:VEVENT
DTSTART;TZID=Europe/London:20280628T100000
DTEND;TZID=Europe/London:20280628T153000
DTSTAMP:20260421T210416
CREATED:20250827T140616Z
LAST-MODIFIED:20250827T140616Z
UID:10000876-1845799200-1845819000@affc.org.uk
SUMMARY:Harlow Older Person Activity Group
DESCRIPTION:Every Wednesday: \nSt Andrew’s Church\nThe Stow\nCM20 3AF \nKeeping Active: 10am-12.30pm\nActive Minds: 1pm – 3.30pm \nMore details here or please contact activityGroups@affc.org.uk.  \nPlease note these groups have a charge attached to them. £21 per session or £42 for the day. Lunch is not supplied\, but attendees can can bring their own lunch and socialise with others in the group as they eat.
URL:https://affc.org.uk/event/harlow-older-person-activity-group/2028-06-28/
END:VEVENT
BEGIN:VEVENT
DTSTART;TZID=Europe/London:20280705T100000
DTEND;TZID=Europe/London:20280705T153000
DTSTAMP:20260421T210416
CREATED:20250827T140616Z
LAST-MODIFIED:20250827T140616Z
UID:10000877-1846404000-1846423800@affc.org.uk
SUMMARY:Harlow Older Person Activity Group
DESCRIPTION:Every Wednesday: \nSt Andrew’s Church\nThe Stow\nCM20 3AF \nKeeping Active: 10am-12.30pm\nActive Minds: 1pm – 3.30pm \nMore details here or please contact activityGroups@affc.org.uk.  \nPlease note these groups have a charge attached to them. £21 per session or £42 for the day. Lunch is not supplied\, but attendees can can bring their own lunch and socialise with others in the group as they eat.
URL:https://affc.org.uk/event/harlow-older-person-activity-group/2028-07-05/
END:VEVENT
BEGIN:VEVENT
DTSTART;TZID=Europe/London:20280712T100000
DTEND;TZID=Europe/London:20280712T153000
DTSTAMP:20260421T210416
CREATED:20250827T140616Z
LAST-MODIFIED:20250827T140616Z
UID:10000878-1847008800-1847028600@affc.org.uk
SUMMARY:Harlow Older Person Activity Group
DESCRIPTION:Every Wednesday: \nSt Andrew’s Church\nThe Stow\nCM20 3AF \nKeeping Active: 10am-12.30pm\nActive Minds: 1pm – 3.30pm \nMore details here or please contact activityGroups@affc.org.uk.  \nPlease note these groups have a charge attached to them. £21 per session or £42 for the day. Lunch is not supplied\, but attendees can can bring their own lunch and socialise with others in the group as they eat.
URL:https://affc.org.uk/event/harlow-older-person-activity-group/2028-07-12/
END:VEVENT
BEGIN:VEVENT
DTSTART;TZID=Europe/London:20280719T100000
DTEND;TZID=Europe/London:20280719T153000
DTSTAMP:20260421T210416
CREATED:20250827T140616Z
LAST-MODIFIED:20250827T140616Z
UID:10000879-1847613600-1847633400@affc.org.uk
SUMMARY:Harlow Older Person Activity Group
DESCRIPTION:Every Wednesday: \nSt Andrew’s Church\nThe Stow\nCM20 3AF \nKeeping Active: 10am-12.30pm\nActive Minds: 1pm – 3.30pm \nMore details here or please contact activityGroups@affc.org.uk.  \nPlease note these groups have a charge attached to them. £21 per session or £42 for the day. Lunch is not supplied\, but attendees can can bring their own lunch and socialise with others in the group as they eat.
URL:https://affc.org.uk/event/harlow-older-person-activity-group/2028-07-19/
END:VEVENT
BEGIN:VEVENT
DTSTART;TZID=Europe/London:20280726T100000
DTEND;TZID=Europe/London:20280726T153000
DTSTAMP:20260421T210416
CREATED:20250827T140616Z
LAST-MODIFIED:20250827T140616Z
UID:10000880-1848218400-1848238200@affc.org.uk
SUMMARY:Harlow Older Person Activity Group
DESCRIPTION:Every Wednesday: \nSt Andrew’s Church\nThe Stow\nCM20 3AF \nKeeping Active: 10am-12.30pm\nActive Minds: 1pm – 3.30pm \nMore details here or please contact activityGroups@affc.org.uk.  \nPlease note these groups have a charge attached to them. £21 per session or £42 for the day. Lunch is not supplied\, but attendees can can bring their own lunch and socialise with others in the group as they eat.
URL:https://affc.org.uk/event/harlow-older-person-activity-group/2028-07-26/
END:VEVENT
BEGIN:VEVENT
DTSTART;TZID=Europe/London:20280802T100000
DTEND;TZID=Europe/London:20280802T153000
DTSTAMP:20260421T210416
CREATED:20250827T140616Z
LAST-MODIFIED:20250827T140616Z
UID:10000881-1848823200-1848843000@affc.org.uk
SUMMARY:Harlow Older Person Activity Group
DESCRIPTION:Every Wednesday: \nSt Andrew’s Church\nThe Stow\nCM20 3AF \nKeeping Active: 10am-12.30pm\nActive Minds: 1pm – 3.30pm \nMore details here or please contact activityGroups@affc.org.uk.  \nPlease note these groups have a charge attached to them. £21 per session or £42 for the day. Lunch is not supplied\, but attendees can can bring their own lunch and socialise with others in the group as they eat.
URL:https://affc.org.uk/event/harlow-older-person-activity-group/2028-08-02/
END:VEVENT
BEGIN:VEVENT
DTSTART;TZID=Europe/London:20280809T100000
DTEND;TZID=Europe/London:20280809T153000
DTSTAMP:20260421T210416
CREATED:20250827T140616Z
LAST-MODIFIED:20250827T140616Z
UID:10000882-1849428000-1849447800@affc.org.uk
SUMMARY:Harlow Older Person Activity Group
DESCRIPTION:Every Wednesday: \nSt Andrew’s Church\nThe Stow\nCM20 3AF \nKeeping Active: 10am-12.30pm\nActive Minds: 1pm – 3.30pm \nMore details here or please contact activityGroups@affc.org.uk.  \nPlease note these groups have a charge attached to them. £21 per session or £42 for the day. Lunch is not supplied\, but attendees can can bring their own lunch and socialise with others in the group as they eat.
URL:https://affc.org.uk/event/harlow-older-person-activity-group/2028-08-09/
END:VEVENT
BEGIN:VEVENT
DTSTART;TZID=Europe/London:20280816T100000
DTEND;TZID=Europe/London:20280816T153000
DTSTAMP:20260421T210416
CREATED:20250827T140616Z
LAST-MODIFIED:20250827T140616Z
UID:10000883-1850032800-1850052600@affc.org.uk
SUMMARY:Harlow Older Person Activity Group
DESCRIPTION:Every Wednesday: \nSt Andrew’s Church\nThe Stow\nCM20 3AF \nKeeping Active: 10am-12.30pm\nActive Minds: 1pm – 3.30pm \nMore details here or please contact activityGroups@affc.org.uk.  \nPlease note these groups have a charge attached to them. £21 per session or £42 for the day. Lunch is not supplied\, but attendees can can bring their own lunch and socialise with others in the group as they eat.
URL:https://affc.org.uk/event/harlow-older-person-activity-group/2028-08-16/
END:VEVENT
BEGIN:VEVENT
DTSTART;TZID=Europe/London:20280823T100000
DTEND;TZID=Europe/London:20280823T153000
DTSTAMP:20260421T210416
CREATED:20250827T140616Z
LAST-MODIFIED:20250827T140616Z
UID:10000884-1850637600-1850657400@affc.org.uk
SUMMARY:Harlow Older Person Activity Group
DESCRIPTION:Every Wednesday: \nSt Andrew’s Church\nThe Stow\nCM20 3AF \nKeeping Active: 10am-12.30pm\nActive Minds: 1pm – 3.30pm \nMore details here or please contact activityGroups@affc.org.uk.  \nPlease note these groups have a charge attached to them. £21 per session or £42 for the day. Lunch is not supplied\, but attendees can can bring their own lunch and socialise with others in the group as they eat.
URL:https://affc.org.uk/event/harlow-older-person-activity-group/2028-08-23/
END:VEVENT
BEGIN:VEVENT
DTSTART;TZID=Europe/London:20280830T100000
DTEND;TZID=Europe/London:20280830T153000
DTSTAMP:20260421T210416
CREATED:20250827T140616Z
LAST-MODIFIED:20250827T140616Z
UID:10000885-1851242400-1851262200@affc.org.uk
SUMMARY:Harlow Older Person Activity Group
DESCRIPTION:Every Wednesday: \nSt Andrew’s Church\nThe Stow\nCM20 3AF \nKeeping Active: 10am-12.30pm\nActive Minds: 1pm – 3.30pm \nMore details here or please contact activityGroups@affc.org.uk.  \nPlease note these groups have a charge attached to them. £21 per session or £42 for the day. Lunch is not supplied\, but attendees can can bring their own lunch and socialise with others in the group as they eat.
URL:https://affc.org.uk/event/harlow-older-person-activity-group/2028-08-30/
END:VEVENT
BEGIN:VEVENT
DTSTART;TZID=Europe/London:20280906T100000
DTEND;TZID=Europe/London:20280906T153000
DTSTAMP:20260421T210416
CREATED:20250827T140616Z
LAST-MODIFIED:20250827T140616Z
UID:10000886-1851847200-1851867000@affc.org.uk
SUMMARY:Harlow Older Person Activity Group
DESCRIPTION:Every Wednesday: \nSt Andrew’s Church\nThe Stow\nCM20 3AF \nKeeping Active: 10am-12.30pm\nActive Minds: 1pm – 3.30pm \nMore details here or please contact activityGroups@affc.org.uk.  \nPlease note these groups have a charge attached to them. £21 per session or £42 for the day. Lunch is not supplied\, but attendees can can bring their own lunch and socialise with others in the group as they eat.
URL:https://affc.org.uk/event/harlow-older-person-activity-group/2028-09-06/
END:VEVENT
BEGIN:VEVENT
DTSTART;TZID=Europe/London:20280913T100000
DTEND;TZID=Europe/London:20280913T153000
DTSTAMP:20260421T210416
CREATED:20250827T140616Z
LAST-MODIFIED:20250827T140616Z
UID:10000887-1852452000-1852471800@affc.org.uk
SUMMARY:Harlow Older Person Activity Group
DESCRIPTION:Every Wednesday: \nSt Andrew’s Church\nThe Stow\nCM20 3AF \nKeeping Active: 10am-12.30pm\nActive Minds: 1pm – 3.30pm \nMore details here or please contact activityGroups@affc.org.uk.  \nPlease note these groups have a charge attached to them. £21 per session or £42 for the day. Lunch is not supplied\, but attendees can can bring their own lunch and socialise with others in the group as they eat.
URL:https://affc.org.uk/event/harlow-older-person-activity-group/2028-09-13/
END:VEVENT
BEGIN:VEVENT
DTSTART;TZID=Europe/London:20280920T100000
DTEND;TZID=Europe/London:20280920T153000
DTSTAMP:20260421T210416
CREATED:20250827T140616Z
LAST-MODIFIED:20250827T140616Z
UID:10000888-1853056800-1853076600@affc.org.uk
SUMMARY:Harlow Older Person Activity Group
DESCRIPTION:Every Wednesday: \nSt Andrew’s Church\nThe Stow\nCM20 3AF \nKeeping Active: 10am-12.30pm\nActive Minds: 1pm – 3.30pm \nMore details here or please contact activityGroups@affc.org.uk.  \nPlease note these groups have a charge attached to them. £21 per session or £42 for the day. Lunch is not supplied\, but attendees can can bring their own lunch and socialise with others in the group as they eat.
URL:https://affc.org.uk/event/harlow-older-person-activity-group/2028-09-20/
END:VEVENT
BEGIN:VEVENT
DTSTART;TZID=Europe/London:20280927T100000
DTEND;TZID=Europe/London:20280927T153000
DTSTAMP:20260421T210416
CREATED:20250827T140616Z
LAST-MODIFIED:20250827T140616Z
UID:10000889-1853661600-1853681400@affc.org.uk
SUMMARY:Harlow Older Person Activity Group
DESCRIPTION:Every Wednesday: \nSt Andrew’s Church\nThe Stow\nCM20 3AF \nKeeping Active: 10am-12.30pm\nActive Minds: 1pm – 3.30pm \nMore details here or please contact activityGroups@affc.org.uk.  \nPlease note these groups have a charge attached to them. £21 per session or £42 for the day. Lunch is not supplied\, but attendees can can bring their own lunch and socialise with others in the group as they eat.
URL:https://affc.org.uk/event/harlow-older-person-activity-group/2028-09-27/
END:VEVENT
BEGIN:VEVENT
DTSTART;TZID=Europe/London:20281004T100000
DTEND;TZID=Europe/London:20281004T153000
DTSTAMP:20260421T210416
CREATED:20250827T140616Z
LAST-MODIFIED:20250827T140616Z
UID:10000890-1854266400-1854286200@affc.org.uk
SUMMARY:Harlow Older Person Activity Group
DESCRIPTION:Every Wednesday: \nSt Andrew’s Church\nThe Stow\nCM20 3AF \nKeeping Active: 10am-12.30pm\nActive Minds: 1pm – 3.30pm \nMore details here or please contact activityGroups@affc.org.uk.  \nPlease note these groups have a charge attached to them. £21 per session or £42 for the day. Lunch is not supplied\, but attendees can can bring their own lunch and socialise with others in the group as they eat.
URL:https://affc.org.uk/event/harlow-older-person-activity-group/2028-10-04/
END:VEVENT
BEGIN:VEVENT
DTSTART;TZID=Europe/London:20281011T100000
DTEND;TZID=Europe/London:20281011T153000
DTSTAMP:20260421T210416
CREATED:20250827T140616Z
LAST-MODIFIED:20250827T140616Z
UID:10000891-1854871200-1854891000@affc.org.uk
SUMMARY:Harlow Older Person Activity Group
DESCRIPTION:Every Wednesday: \nSt Andrew’s Church\nThe Stow\nCM20 3AF \nKeeping Active: 10am-12.30pm\nActive Minds: 1pm – 3.30pm \nMore details here or please contact activityGroups@affc.org.uk.  \nPlease note these groups have a charge attached to them. £21 per session or £42 for the day. Lunch is not supplied\, but attendees can can bring their own lunch and socialise with others in the group as they eat.
URL:https://affc.org.uk/event/harlow-older-person-activity-group/2028-10-11/
END:VEVENT
BEGIN:VEVENT
DTSTART;TZID=Europe/London:20281018T100000
DTEND;TZID=Europe/London:20281018T153000
DTSTAMP:20260421T210416
CREATED:20250827T140616Z
LAST-MODIFIED:20250827T140616Z
UID:10000892-1855476000-1855495800@affc.org.uk
SUMMARY:Harlow Older Person Activity Group
DESCRIPTION:Every Wednesday: \nSt Andrew’s Church\nThe Stow\nCM20 3AF \nKeeping Active: 10am-12.30pm\nActive Minds: 1pm – 3.30pm \nMore details here or please contact activityGroups@affc.org.uk.  \nPlease note these groups have a charge attached to them. £21 per session or £42 for the day. Lunch is not supplied\, but attendees can can bring their own lunch and socialise with others in the group as they eat.
URL:https://affc.org.uk/event/harlow-older-person-activity-group/2028-10-18/
END:VEVENT
BEGIN:VEVENT
DTSTART;TZID=Europe/London:20281025T100000
DTEND;TZID=Europe/London:20281025T153000
DTSTAMP:20260421T210416
CREATED:20250827T140616Z
LAST-MODIFIED:20250827T140616Z
UID:10000893-1856080800-1856100600@affc.org.uk
SUMMARY:Harlow Older Person Activity Group
DESCRIPTION:Every Wednesday: \nSt Andrew’s Church\nThe Stow\nCM20 3AF \nKeeping Active: 10am-12.30pm\nActive Minds: 1pm – 3.30pm \nMore details here or please contact activityGroups@affc.org.uk.  \nPlease note these groups have a charge attached to them. £21 per session or £42 for the day. Lunch is not supplied\, but attendees can can bring their own lunch and socialise with others in the group as they eat.
URL:https://affc.org.uk/event/harlow-older-person-activity-group/2028-10-25/
END:VEVENT
BEGIN:VEVENT
DTSTART;TZID=Europe/London:20281101T100000
DTEND;TZID=Europe/London:20281101T153000
DTSTAMP:20260421T210416
CREATED:20250827T140616Z
LAST-MODIFIED:20250827T140616Z
UID:10000894-1856685600-1856705400@affc.org.uk
SUMMARY:Harlow Older Person Activity Group
DESCRIPTION:Every Wednesday: \nSt Andrew’s Church\nThe Stow\nCM20 3AF \nKeeping Active: 10am-12.30pm\nActive Minds: 1pm – 3.30pm \nMore details here or please contact activityGroups@affc.org.uk.  \nPlease note these groups have a charge attached to them. £21 per session or £42 for the day. Lunch is not supplied\, but attendees can can bring their own lunch and socialise with others in the group as they eat.
URL:https://affc.org.uk/event/harlow-older-person-activity-group/2028-11-01/
END:VEVENT
BEGIN:VEVENT
DTSTART;TZID=Europe/London:20281108T100000
DTEND;TZID=Europe/London:20281108T153000
DTSTAMP:20260421T210416
CREATED:20250827T140616Z
LAST-MODIFIED:20250827T140616Z
UID:10000895-1857290400-1857310200@affc.org.uk
SUMMARY:Harlow Older Person Activity Group
DESCRIPTION:Every Wednesday: \nSt Andrew’s Church\nThe Stow\nCM20 3AF \nKeeping Active: 10am-12.30pm\nActive Minds: 1pm – 3.30pm \nMore details here or please contact activityGroups@affc.org.uk.  \nPlease note these groups have a charge attached to them. £21 per session or £42 for the day. Lunch is not supplied\, but attendees can can bring their own lunch and socialise with others in the group as they eat.
URL:https://affc.org.uk/event/harlow-older-person-activity-group/2028-11-08/
END:VEVENT
BEGIN:VEVENT
DTSTART;TZID=Europe/London:20281115T100000
DTEND;TZID=Europe/London:20281115T153000
DTSTAMP:20260421T210416
CREATED:20250827T140616Z
LAST-MODIFIED:20250827T140616Z
UID:10000896-1857895200-1857915000@affc.org.uk
SUMMARY:Harlow Older Person Activity Group
DESCRIPTION:Every Wednesday: \nSt Andrew’s Church\nThe Stow\nCM20 3AF \nKeeping Active: 10am-12.30pm\nActive Minds: 1pm – 3.30pm \nMore details here or please contact activityGroups@affc.org.uk.  \nPlease note these groups have a charge attached to them. £21 per session or £42 for the day. Lunch is not supplied\, but attendees can can bring their own lunch and socialise with others in the group as they eat.
URL:https://affc.org.uk/event/harlow-older-person-activity-group/2028-11-15/
END:VEVENT
BEGIN:VEVENT
DTSTART;TZID=Europe/London:20281122T100000
DTEND;TZID=Europe/London:20281122T153000
DTSTAMP:20260421T210416
CREATED:20250827T140616Z
LAST-MODIFIED:20250827T140616Z
UID:10000897-1858500000-1858519800@affc.org.uk
SUMMARY:Harlow Older Person Activity Group
DESCRIPTION:Every Wednesday: \nSt Andrew’s Church\nThe Stow\nCM20 3AF \nKeeping Active: 10am-12.30pm\nActive Minds: 1pm – 3.30pm \nMore details here or please contact activityGroups@affc.org.uk.  \nPlease note these groups have a charge attached to them. £21 per session or £42 for the day. Lunch is not supplied\, but attendees can can bring their own lunch and socialise with others in the group as they eat.
URL:https://affc.org.uk/event/harlow-older-person-activity-group/2028-11-22/
END:VEVENT
BEGIN:VEVENT
DTSTART;TZID=Europe/London:20281129T100000
DTEND;TZID=Europe/London:20281129T153000
DTSTAMP:20260421T210416
CREATED:20250827T140616Z
LAST-MODIFIED:20250827T140616Z
UID:10000898-1859104800-1859124600@affc.org.uk
SUMMARY:Harlow Older Person Activity Group
DESCRIPTION:Every Wednesday: \nSt Andrew’s Church\nThe Stow\nCM20 3AF \nKeeping Active: 10am-12.30pm\nActive Minds: 1pm – 3.30pm \nMore details here or please contact activityGroups@affc.org.uk.  \nPlease note these groups have a charge attached to them. £21 per session or £42 for the day. Lunch is not supplied\, but attendees can can bring their own lunch and socialise with others in the group as they eat.
URL:https://affc.org.uk/event/harlow-older-person-activity-group/2028-11-29/
END:VEVENT
END:VCALENDAR