BEGIN:VCALENDAR
VERSION:2.0
PRODID:-//Action for Family Carers - ECPv6.15.20//NONSGML v1.0//EN
CALSCALE:GREGORIAN
METHOD:PUBLISH
X-WR-CALNAME:Action for Family Carers
X-ORIGINAL-URL:https://affc.org.uk
X-WR-CALDESC:Events for Action for Family Carers
REFRESH-INTERVAL;VALUE=DURATION:PT1H
X-Robots-Tag:noindex
X-PUBLISHED-TTL:PT1H
BEGIN:VTIMEZONE
TZID:Europe/London
BEGIN:DAYLIGHT
TZOFFSETFROM:+0000
TZOFFSETTO:+0100
TZNAME:BST
DTSTART:20280326T010000
END:DAYLIGHT
BEGIN:STANDARD
TZOFFSETFROM:+0100
TZOFFSETTO:+0000
TZNAME:GMT
DTSTART:20281029T010000
END:STANDARD
BEGIN:DAYLIGHT
TZOFFSETFROM:+0000
TZOFFSETTO:+0100
TZNAME:BST
DTSTART:20290325T010000
END:DAYLIGHT
BEGIN:STANDARD
TZOFFSETFROM:+0100
TZOFFSETTO:+0000
TZNAME:GMT
DTSTART:20291028T010000
END:STANDARD
BEGIN:DAYLIGHT
TZOFFSETFROM:+0000
TZOFFSETTO:+0100
TZNAME:BST
DTSTART:20300331T010000
END:DAYLIGHT
BEGIN:STANDARD
TZOFFSETFROM:+0100
TZOFFSETTO:+0000
TZNAME:GMT
DTSTART:20301027T010000
END:STANDARD
END:VTIMEZONE
BEGIN:VEVENT
DTSTART;TZID=Europe/London:20290117T100000
DTEND;TZID=Europe/London:20290117T153000
DTSTAMP:20260422T012548
CREATED:20250827T140616Z
LAST-MODIFIED:20250827T140616Z
UID:10000905-1863338400-1863358200@affc.org.uk
SUMMARY:Harlow Older Person Activity Group
DESCRIPTION:Every Wednesday: \nSt Andrew’s Church\nThe Stow\nCM20 3AF \nKeeping Active: 10am-12.30pm\nActive Minds: 1pm – 3.30pm \nMore details here or please contact activityGroups@affc.org.uk.  \nPlease note these groups have a charge attached to them. £21 per session or £42 for the day. Lunch is not supplied\, but attendees can can bring their own lunch and socialise with others in the group as they eat.
URL:https://affc.org.uk/event/harlow-older-person-activity-group/2029-01-17/
END:VEVENT
BEGIN:VEVENT
DTSTART;TZID=Europe/London:20290124T100000
DTEND;TZID=Europe/London:20290124T153000
DTSTAMP:20260422T012548
CREATED:20250827T140616Z
LAST-MODIFIED:20250827T140616Z
UID:10000906-1863943200-1863963000@affc.org.uk
SUMMARY:Harlow Older Person Activity Group
DESCRIPTION:Every Wednesday: \nSt Andrew’s Church\nThe Stow\nCM20 3AF \nKeeping Active: 10am-12.30pm\nActive Minds: 1pm – 3.30pm \nMore details here or please contact activityGroups@affc.org.uk.  \nPlease note these groups have a charge attached to them. £21 per session or £42 for the day. Lunch is not supplied\, but attendees can can bring their own lunch and socialise with others in the group as they eat.
URL:https://affc.org.uk/event/harlow-older-person-activity-group/2029-01-24/
END:VEVENT
BEGIN:VEVENT
DTSTART;TZID=Europe/London:20290131T100000
DTEND;TZID=Europe/London:20290131T153000
DTSTAMP:20260422T012548
CREATED:20250827T140616Z
LAST-MODIFIED:20250827T140616Z
UID:10000907-1864548000-1864567800@affc.org.uk
SUMMARY:Harlow Older Person Activity Group
DESCRIPTION:Every Wednesday: \nSt Andrew’s Church\nThe Stow\nCM20 3AF \nKeeping Active: 10am-12.30pm\nActive Minds: 1pm – 3.30pm \nMore details here or please contact activityGroups@affc.org.uk.  \nPlease note these groups have a charge attached to them. £21 per session or £42 for the day. Lunch is not supplied\, but attendees can can bring their own lunch and socialise with others in the group as they eat.
URL:https://affc.org.uk/event/harlow-older-person-activity-group/2029-01-31/
END:VEVENT
BEGIN:VEVENT
DTSTART;TZID=Europe/London:20290207T100000
DTEND;TZID=Europe/London:20290207T153000
DTSTAMP:20260422T012548
CREATED:20250827T140616Z
LAST-MODIFIED:20250827T140616Z
UID:10000908-1865152800-1865172600@affc.org.uk
SUMMARY:Harlow Older Person Activity Group
DESCRIPTION:Every Wednesday: \nSt Andrew’s Church\nThe Stow\nCM20 3AF \nKeeping Active: 10am-12.30pm\nActive Minds: 1pm – 3.30pm \nMore details here or please contact activityGroups@affc.org.uk.  \nPlease note these groups have a charge attached to them. £21 per session or £42 for the day. Lunch is not supplied\, but attendees can can bring their own lunch and socialise with others in the group as they eat.
URL:https://affc.org.uk/event/harlow-older-person-activity-group/2029-02-07/
END:VEVENT
BEGIN:VEVENT
DTSTART;TZID=Europe/London:20290214T100000
DTEND;TZID=Europe/London:20290214T153000
DTSTAMP:20260422T012548
CREATED:20250827T140616Z
LAST-MODIFIED:20250827T140616Z
UID:10000909-1865757600-1865777400@affc.org.uk
SUMMARY:Harlow Older Person Activity Group
DESCRIPTION:Every Wednesday: \nSt Andrew’s Church\nThe Stow\nCM20 3AF \nKeeping Active: 10am-12.30pm\nActive Minds: 1pm – 3.30pm \nMore details here or please contact activityGroups@affc.org.uk.  \nPlease note these groups have a charge attached to them. £21 per session or £42 for the day. Lunch is not supplied\, but attendees can can bring their own lunch and socialise with others in the group as they eat.
URL:https://affc.org.uk/event/harlow-older-person-activity-group/2029-02-14/
END:VEVENT
BEGIN:VEVENT
DTSTART;TZID=Europe/London:20290221T100000
DTEND;TZID=Europe/London:20290221T153000
DTSTAMP:20260422T012548
CREATED:20250827T140616Z
LAST-MODIFIED:20250827T140616Z
UID:10000910-1866362400-1866382200@affc.org.uk
SUMMARY:Harlow Older Person Activity Group
DESCRIPTION:Every Wednesday: \nSt Andrew’s Church\nThe Stow\nCM20 3AF \nKeeping Active: 10am-12.30pm\nActive Minds: 1pm – 3.30pm \nMore details here or please contact activityGroups@affc.org.uk.  \nPlease note these groups have a charge attached to them. £21 per session or £42 for the day. Lunch is not supplied\, but attendees can can bring their own lunch and socialise with others in the group as they eat.
URL:https://affc.org.uk/event/harlow-older-person-activity-group/2029-02-21/
END:VEVENT
BEGIN:VEVENT
DTSTART;TZID=Europe/London:20290228T100000
DTEND;TZID=Europe/London:20290228T153000
DTSTAMP:20260422T012548
CREATED:20250827T140616Z
LAST-MODIFIED:20250827T140616Z
UID:10000911-1866967200-1866987000@affc.org.uk
SUMMARY:Harlow Older Person Activity Group
DESCRIPTION:Every Wednesday: \nSt Andrew’s Church\nThe Stow\nCM20 3AF \nKeeping Active: 10am-12.30pm\nActive Minds: 1pm – 3.30pm \nMore details here or please contact activityGroups@affc.org.uk.  \nPlease note these groups have a charge attached to them. £21 per session or £42 for the day. Lunch is not supplied\, but attendees can can bring their own lunch and socialise with others in the group as they eat.
URL:https://affc.org.uk/event/harlow-older-person-activity-group/2029-02-28/
END:VEVENT
BEGIN:VEVENT
DTSTART;TZID=Europe/London:20290307T100000
DTEND;TZID=Europe/London:20290307T153000
DTSTAMP:20260422T012548
CREATED:20250827T140616Z
LAST-MODIFIED:20250827T140616Z
UID:10000912-1867572000-1867591800@affc.org.uk
SUMMARY:Harlow Older Person Activity Group
DESCRIPTION:Every Wednesday: \nSt Andrew’s Church\nThe Stow\nCM20 3AF \nKeeping Active: 10am-12.30pm\nActive Minds: 1pm – 3.30pm \nMore details here or please contact activityGroups@affc.org.uk.  \nPlease note these groups have a charge attached to them. £21 per session or £42 for the day. Lunch is not supplied\, but attendees can can bring their own lunch and socialise with others in the group as they eat.
URL:https://affc.org.uk/event/harlow-older-person-activity-group/2029-03-07/
END:VEVENT
BEGIN:VEVENT
DTSTART;TZID=Europe/London:20290314T100000
DTEND;TZID=Europe/London:20290314T153000
DTSTAMP:20260422T012548
CREATED:20250827T140616Z
LAST-MODIFIED:20250827T140616Z
UID:10000913-1868176800-1868196600@affc.org.uk
SUMMARY:Harlow Older Person Activity Group
DESCRIPTION:Every Wednesday: \nSt Andrew’s Church\nThe Stow\nCM20 3AF \nKeeping Active: 10am-12.30pm\nActive Minds: 1pm – 3.30pm \nMore details here or please contact activityGroups@affc.org.uk.  \nPlease note these groups have a charge attached to them. £21 per session or £42 for the day. Lunch is not supplied\, but attendees can can bring their own lunch and socialise with others in the group as they eat.
URL:https://affc.org.uk/event/harlow-older-person-activity-group/2029-03-14/
END:VEVENT
BEGIN:VEVENT
DTSTART;TZID=Europe/London:20290321T100000
DTEND;TZID=Europe/London:20290321T153000
DTSTAMP:20260422T012548
CREATED:20250827T140616Z
LAST-MODIFIED:20250827T140616Z
UID:10000914-1868781600-1868801400@affc.org.uk
SUMMARY:Harlow Older Person Activity Group
DESCRIPTION:Every Wednesday: \nSt Andrew’s Church\nThe Stow\nCM20 3AF \nKeeping Active: 10am-12.30pm\nActive Minds: 1pm – 3.30pm \nMore details here or please contact activityGroups@affc.org.uk.  \nPlease note these groups have a charge attached to them. £21 per session or £42 for the day. Lunch is not supplied\, but attendees can can bring their own lunch and socialise with others in the group as they eat.
URL:https://affc.org.uk/event/harlow-older-person-activity-group/2029-03-21/
END:VEVENT
BEGIN:VEVENT
DTSTART;TZID=Europe/London:20290328T100000
DTEND;TZID=Europe/London:20290328T153000
DTSTAMP:20260422T012548
CREATED:20250827T140616Z
LAST-MODIFIED:20250827T140616Z
UID:10000915-1869386400-1869406200@affc.org.uk
SUMMARY:Harlow Older Person Activity Group
DESCRIPTION:Every Wednesday: \nSt Andrew’s Church\nThe Stow\nCM20 3AF \nKeeping Active: 10am-12.30pm\nActive Minds: 1pm – 3.30pm \nMore details here or please contact activityGroups@affc.org.uk.  \nPlease note these groups have a charge attached to them. £21 per session or £42 for the day. Lunch is not supplied\, but attendees can can bring their own lunch and socialise with others in the group as they eat.
URL:https://affc.org.uk/event/harlow-older-person-activity-group/2029-03-28/
END:VEVENT
BEGIN:VEVENT
DTSTART;TZID=Europe/London:20290404T100000
DTEND;TZID=Europe/London:20290404T153000
DTSTAMP:20260422T012548
CREATED:20250827T140616Z
LAST-MODIFIED:20250827T140616Z
UID:10000916-1869991200-1870011000@affc.org.uk
SUMMARY:Harlow Older Person Activity Group
DESCRIPTION:Every Wednesday: \nSt Andrew’s Church\nThe Stow\nCM20 3AF \nKeeping Active: 10am-12.30pm\nActive Minds: 1pm – 3.30pm \nMore details here or please contact activityGroups@affc.org.uk.  \nPlease note these groups have a charge attached to them. £21 per session or £42 for the day. Lunch is not supplied\, but attendees can can bring their own lunch and socialise with others in the group as they eat.
URL:https://affc.org.uk/event/harlow-older-person-activity-group/2029-04-04/
END:VEVENT
BEGIN:VEVENT
DTSTART;TZID=Europe/London:20290411T100000
DTEND;TZID=Europe/London:20290411T153000
DTSTAMP:20260422T012548
CREATED:20250827T140616Z
LAST-MODIFIED:20250827T140616Z
UID:10000917-1870596000-1870615800@affc.org.uk
SUMMARY:Harlow Older Person Activity Group
DESCRIPTION:Every Wednesday: \nSt Andrew’s Church\nThe Stow\nCM20 3AF \nKeeping Active: 10am-12.30pm\nActive Minds: 1pm – 3.30pm \nMore details here or please contact activityGroups@affc.org.uk.  \nPlease note these groups have a charge attached to them. £21 per session or £42 for the day. Lunch is not supplied\, but attendees can can bring their own lunch and socialise with others in the group as they eat.
URL:https://affc.org.uk/event/harlow-older-person-activity-group/2029-04-11/
END:VEVENT
BEGIN:VEVENT
DTSTART;TZID=Europe/London:20290418T100000
DTEND;TZID=Europe/London:20290418T153000
DTSTAMP:20260422T012548
CREATED:20250827T140616Z
LAST-MODIFIED:20250827T140616Z
UID:10000918-1871200800-1871220600@affc.org.uk
SUMMARY:Harlow Older Person Activity Group
DESCRIPTION:Every Wednesday: \nSt Andrew’s Church\nThe Stow\nCM20 3AF \nKeeping Active: 10am-12.30pm\nActive Minds: 1pm – 3.30pm \nMore details here or please contact activityGroups@affc.org.uk.  \nPlease note these groups have a charge attached to them. £21 per session or £42 for the day. Lunch is not supplied\, but attendees can can bring their own lunch and socialise with others in the group as they eat.
URL:https://affc.org.uk/event/harlow-older-person-activity-group/2029-04-18/
END:VEVENT
BEGIN:VEVENT
DTSTART;TZID=Europe/London:20290425T100000
DTEND;TZID=Europe/London:20290425T153000
DTSTAMP:20260422T012548
CREATED:20250827T140616Z
LAST-MODIFIED:20250827T140616Z
UID:10000919-1871805600-1871825400@affc.org.uk
SUMMARY:Harlow Older Person Activity Group
DESCRIPTION:Every Wednesday: \nSt Andrew’s Church\nThe Stow\nCM20 3AF \nKeeping Active: 10am-12.30pm\nActive Minds: 1pm – 3.30pm \nMore details here or please contact activityGroups@affc.org.uk.  \nPlease note these groups have a charge attached to them. £21 per session or £42 for the day. Lunch is not supplied\, but attendees can can bring their own lunch and socialise with others in the group as they eat.
URL:https://affc.org.uk/event/harlow-older-person-activity-group/2029-04-25/
END:VEVENT
BEGIN:VEVENT
DTSTART;TZID=Europe/London:20290502T100000
DTEND;TZID=Europe/London:20290502T153000
DTSTAMP:20260422T012548
CREATED:20250827T140616Z
LAST-MODIFIED:20250827T140616Z
UID:10000920-1872410400-1872430200@affc.org.uk
SUMMARY:Harlow Older Person Activity Group
DESCRIPTION:Every Wednesday: \nSt Andrew’s Church\nThe Stow\nCM20 3AF \nKeeping Active: 10am-12.30pm\nActive Minds: 1pm – 3.30pm \nMore details here or please contact activityGroups@affc.org.uk.  \nPlease note these groups have a charge attached to them. £21 per session or £42 for the day. Lunch is not supplied\, but attendees can can bring their own lunch and socialise with others in the group as they eat.
URL:https://affc.org.uk/event/harlow-older-person-activity-group/2029-05-02/
END:VEVENT
BEGIN:VEVENT
DTSTART;TZID=Europe/London:20290509T100000
DTEND;TZID=Europe/London:20290509T153000
DTSTAMP:20260422T012548
CREATED:20250827T140616Z
LAST-MODIFIED:20250827T140616Z
UID:10000921-1873015200-1873035000@affc.org.uk
SUMMARY:Harlow Older Person Activity Group
DESCRIPTION:Every Wednesday: \nSt Andrew’s Church\nThe Stow\nCM20 3AF \nKeeping Active: 10am-12.30pm\nActive Minds: 1pm – 3.30pm \nMore details here or please contact activityGroups@affc.org.uk.  \nPlease note these groups have a charge attached to them. £21 per session or £42 for the day. Lunch is not supplied\, but attendees can can bring their own lunch and socialise with others in the group as they eat.
URL:https://affc.org.uk/event/harlow-older-person-activity-group/2029-05-09/
END:VEVENT
BEGIN:VEVENT
DTSTART;TZID=Europe/London:20290516T100000
DTEND;TZID=Europe/London:20290516T153000
DTSTAMP:20260422T012548
CREATED:20250827T140616Z
LAST-MODIFIED:20250827T140616Z
UID:10000922-1873620000-1873639800@affc.org.uk
SUMMARY:Harlow Older Person Activity Group
DESCRIPTION:Every Wednesday: \nSt Andrew’s Church\nThe Stow\nCM20 3AF \nKeeping Active: 10am-12.30pm\nActive Minds: 1pm – 3.30pm \nMore details here or please contact activityGroups@affc.org.uk.  \nPlease note these groups have a charge attached to them. £21 per session or £42 for the day. Lunch is not supplied\, but attendees can can bring their own lunch and socialise with others in the group as they eat.
URL:https://affc.org.uk/event/harlow-older-person-activity-group/2029-05-16/
END:VEVENT
BEGIN:VEVENT
DTSTART;TZID=Europe/London:20290523T100000
DTEND;TZID=Europe/London:20290523T153000
DTSTAMP:20260422T012548
CREATED:20250827T140616Z
LAST-MODIFIED:20250827T140616Z
UID:10000923-1874224800-1874244600@affc.org.uk
SUMMARY:Harlow Older Person Activity Group
DESCRIPTION:Every Wednesday: \nSt Andrew’s Church\nThe Stow\nCM20 3AF \nKeeping Active: 10am-12.30pm\nActive Minds: 1pm – 3.30pm \nMore details here or please contact activityGroups@affc.org.uk.  \nPlease note these groups have a charge attached to them. £21 per session or £42 for the day. Lunch is not supplied\, but attendees can can bring their own lunch and socialise with others in the group as they eat.
URL:https://affc.org.uk/event/harlow-older-person-activity-group/2029-05-23/
END:VEVENT
BEGIN:VEVENT
DTSTART;TZID=Europe/London:20290530T100000
DTEND;TZID=Europe/London:20290530T153000
DTSTAMP:20260422T012548
CREATED:20250827T140616Z
LAST-MODIFIED:20250827T140616Z
UID:10000924-1874829600-1874849400@affc.org.uk
SUMMARY:Harlow Older Person Activity Group
DESCRIPTION:Every Wednesday: \nSt Andrew’s Church\nThe Stow\nCM20 3AF \nKeeping Active: 10am-12.30pm\nActive Minds: 1pm – 3.30pm \nMore details here or please contact activityGroups@affc.org.uk.  \nPlease note these groups have a charge attached to them. £21 per session or £42 for the day. Lunch is not supplied\, but attendees can can bring their own lunch and socialise with others in the group as they eat.
URL:https://affc.org.uk/event/harlow-older-person-activity-group/2029-05-30/
END:VEVENT
BEGIN:VEVENT
DTSTART;TZID=Europe/London:20290606T100000
DTEND;TZID=Europe/London:20290606T153000
DTSTAMP:20260422T012548
CREATED:20250827T140616Z
LAST-MODIFIED:20250827T140616Z
UID:10000925-1875434400-1875454200@affc.org.uk
SUMMARY:Harlow Older Person Activity Group
DESCRIPTION:Every Wednesday: \nSt Andrew’s Church\nThe Stow\nCM20 3AF \nKeeping Active: 10am-12.30pm\nActive Minds: 1pm – 3.30pm \nMore details here or please contact activityGroups@affc.org.uk.  \nPlease note these groups have a charge attached to them. £21 per session or £42 for the day. Lunch is not supplied\, but attendees can can bring their own lunch and socialise with others in the group as they eat.
URL:https://affc.org.uk/event/harlow-older-person-activity-group/2029-06-06/
END:VEVENT
BEGIN:VEVENT
DTSTART;TZID=Europe/London:20290613T100000
DTEND;TZID=Europe/London:20290613T153000
DTSTAMP:20260422T012548
CREATED:20250827T140616Z
LAST-MODIFIED:20250827T140616Z
UID:10000926-1876039200-1876059000@affc.org.uk
SUMMARY:Harlow Older Person Activity Group
DESCRIPTION:Every Wednesday: \nSt Andrew’s Church\nThe Stow\nCM20 3AF \nKeeping Active: 10am-12.30pm\nActive Minds: 1pm – 3.30pm \nMore details here or please contact activityGroups@affc.org.uk.  \nPlease note these groups have a charge attached to them. £21 per session or £42 for the day. Lunch is not supplied\, but attendees can can bring their own lunch and socialise with others in the group as they eat.
URL:https://affc.org.uk/event/harlow-older-person-activity-group/2029-06-13/
END:VEVENT
BEGIN:VEVENT
DTSTART;TZID=Europe/London:20290620T100000
DTEND;TZID=Europe/London:20290620T153000
DTSTAMP:20260422T012548
CREATED:20250827T140616Z
LAST-MODIFIED:20250827T140616Z
UID:10000927-1876644000-1876663800@affc.org.uk
SUMMARY:Harlow Older Person Activity Group
DESCRIPTION:Every Wednesday: \nSt Andrew’s Church\nThe Stow\nCM20 3AF \nKeeping Active: 10am-12.30pm\nActive Minds: 1pm – 3.30pm \nMore details here or please contact activityGroups@affc.org.uk.  \nPlease note these groups have a charge attached to them. £21 per session or £42 for the day. Lunch is not supplied\, but attendees can can bring their own lunch and socialise with others in the group as they eat.
URL:https://affc.org.uk/event/harlow-older-person-activity-group/2029-06-20/
END:VEVENT
BEGIN:VEVENT
DTSTART;TZID=Europe/London:20290627T100000
DTEND;TZID=Europe/London:20290627T153000
DTSTAMP:20260422T012548
CREATED:20250827T140616Z
LAST-MODIFIED:20250827T140616Z
UID:10000928-1877248800-1877268600@affc.org.uk
SUMMARY:Harlow Older Person Activity Group
DESCRIPTION:Every Wednesday: \nSt Andrew’s Church\nThe Stow\nCM20 3AF \nKeeping Active: 10am-12.30pm\nActive Minds: 1pm – 3.30pm \nMore details here or please contact activityGroups@affc.org.uk.  \nPlease note these groups have a charge attached to them. £21 per session or £42 for the day. Lunch is not supplied\, but attendees can can bring their own lunch and socialise with others in the group as they eat.
URL:https://affc.org.uk/event/harlow-older-person-activity-group/2029-06-27/
END:VEVENT
BEGIN:VEVENT
DTSTART;TZID=Europe/London:20290704T100000
DTEND;TZID=Europe/London:20290704T153000
DTSTAMP:20260422T012548
CREATED:20250827T140616Z
LAST-MODIFIED:20250827T140616Z
UID:10000929-1877853600-1877873400@affc.org.uk
SUMMARY:Harlow Older Person Activity Group
DESCRIPTION:Every Wednesday: \nSt Andrew’s Church\nThe Stow\nCM20 3AF \nKeeping Active: 10am-12.30pm\nActive Minds: 1pm – 3.30pm \nMore details here or please contact activityGroups@affc.org.uk.  \nPlease note these groups have a charge attached to them. £21 per session or £42 for the day. Lunch is not supplied\, but attendees can can bring their own lunch and socialise with others in the group as they eat.
URL:https://affc.org.uk/event/harlow-older-person-activity-group/2029-07-04/
END:VEVENT
BEGIN:VEVENT
DTSTART;TZID=Europe/London:20290711T100000
DTEND;TZID=Europe/London:20290711T153000
DTSTAMP:20260422T012548
CREATED:20250827T140616Z
LAST-MODIFIED:20250827T140616Z
UID:10000930-1878458400-1878478200@affc.org.uk
SUMMARY:Harlow Older Person Activity Group
DESCRIPTION:Every Wednesday: \nSt Andrew’s Church\nThe Stow\nCM20 3AF \nKeeping Active: 10am-12.30pm\nActive Minds: 1pm – 3.30pm \nMore details here or please contact activityGroups@affc.org.uk.  \nPlease note these groups have a charge attached to them. £21 per session or £42 for the day. Lunch is not supplied\, but attendees can can bring their own lunch and socialise with others in the group as they eat.
URL:https://affc.org.uk/event/harlow-older-person-activity-group/2029-07-11/
END:VEVENT
BEGIN:VEVENT
DTSTART;TZID=Europe/London:20290718T100000
DTEND;TZID=Europe/London:20290718T153000
DTSTAMP:20260422T012548
CREATED:20250827T140616Z
LAST-MODIFIED:20250827T140616Z
UID:10000931-1879063200-1879083000@affc.org.uk
SUMMARY:Harlow Older Person Activity Group
DESCRIPTION:Every Wednesday: \nSt Andrew’s Church\nThe Stow\nCM20 3AF \nKeeping Active: 10am-12.30pm\nActive Minds: 1pm – 3.30pm \nMore details here or please contact activityGroups@affc.org.uk.  \nPlease note these groups have a charge attached to them. £21 per session or £42 for the day. Lunch is not supplied\, but attendees can can bring their own lunch and socialise with others in the group as they eat.
URL:https://affc.org.uk/event/harlow-older-person-activity-group/2029-07-18/
END:VEVENT
BEGIN:VEVENT
DTSTART;TZID=Europe/London:20290725T100000
DTEND;TZID=Europe/London:20290725T153000
DTSTAMP:20260422T012548
CREATED:20250827T140616Z
LAST-MODIFIED:20250827T140616Z
UID:10000932-1879668000-1879687800@affc.org.uk
SUMMARY:Harlow Older Person Activity Group
DESCRIPTION:Every Wednesday: \nSt Andrew’s Church\nThe Stow\nCM20 3AF \nKeeping Active: 10am-12.30pm\nActive Minds: 1pm – 3.30pm \nMore details here or please contact activityGroups@affc.org.uk.  \nPlease note these groups have a charge attached to them. £21 per session or £42 for the day. Lunch is not supplied\, but attendees can can bring their own lunch and socialise with others in the group as they eat.
URL:https://affc.org.uk/event/harlow-older-person-activity-group/2029-07-25/
END:VEVENT
BEGIN:VEVENT
DTSTART;TZID=Europe/London:20290801T100000
DTEND;TZID=Europe/London:20290801T153000
DTSTAMP:20260422T012548
CREATED:20250827T140616Z
LAST-MODIFIED:20250827T140616Z
UID:10000933-1880272800-1880292600@affc.org.uk
SUMMARY:Harlow Older Person Activity Group
DESCRIPTION:Every Wednesday: \nSt Andrew’s Church\nThe Stow\nCM20 3AF \nKeeping Active: 10am-12.30pm\nActive Minds: 1pm – 3.30pm \nMore details here or please contact activityGroups@affc.org.uk.  \nPlease note these groups have a charge attached to them. £21 per session or £42 for the day. Lunch is not supplied\, but attendees can can bring their own lunch and socialise with others in the group as they eat.
URL:https://affc.org.uk/event/harlow-older-person-activity-group/2029-08-01/
END:VEVENT
BEGIN:VEVENT
DTSTART;TZID=Europe/London:20290808T100000
DTEND;TZID=Europe/London:20290808T153000
DTSTAMP:20260422T012548
CREATED:20250827T140616Z
LAST-MODIFIED:20250827T140616Z
UID:10000934-1880877600-1880897400@affc.org.uk
SUMMARY:Harlow Older Person Activity Group
DESCRIPTION:Every Wednesday: \nSt Andrew’s Church\nThe Stow\nCM20 3AF \nKeeping Active: 10am-12.30pm\nActive Minds: 1pm – 3.30pm \nMore details here or please contact activityGroups@affc.org.uk.  \nPlease note these groups have a charge attached to them. £21 per session or £42 for the day. Lunch is not supplied\, but attendees can can bring their own lunch and socialise with others in the group as they eat.
URL:https://affc.org.uk/event/harlow-older-person-activity-group/2029-08-08/
END:VEVENT
END:VCALENDAR