BEGIN:VCALENDAR
VERSION:2.0
PRODID:-//Action for Family Carers - ECPv6.15.20//NONSGML v1.0//EN
CALSCALE:GREGORIAN
METHOD:PUBLISH
X-WR-CALNAME:Action for Family Carers
X-ORIGINAL-URL:https://affc.org.uk
X-WR-CALDESC:Events for Action for Family Carers
REFRESH-INTERVAL;VALUE=DURATION:PT1H
X-Robots-Tag:noindex
X-PUBLISHED-TTL:PT1H
BEGIN:VTIMEZONE
TZID:Europe/London
BEGIN:DAYLIGHT
TZOFFSETFROM:+0000
TZOFFSETTO:+0100
TZNAME:BST
DTSTART:20280326T010000
END:DAYLIGHT
BEGIN:STANDARD
TZOFFSETFROM:+0100
TZOFFSETTO:+0000
TZNAME:GMT
DTSTART:20281029T010000
END:STANDARD
BEGIN:DAYLIGHT
TZOFFSETFROM:+0000
TZOFFSETTO:+0100
TZNAME:BST
DTSTART:20290325T010000
END:DAYLIGHT
BEGIN:STANDARD
TZOFFSETFROM:+0100
TZOFFSETTO:+0000
TZNAME:GMT
DTSTART:20291028T010000
END:STANDARD
BEGIN:DAYLIGHT
TZOFFSETFROM:+0000
TZOFFSETTO:+0100
TZNAME:BST
DTSTART:20300331T010000
END:DAYLIGHT
BEGIN:STANDARD
TZOFFSETFROM:+0100
TZOFFSETTO:+0000
TZNAME:GMT
DTSTART:20301027T010000
END:STANDARD
BEGIN:DAYLIGHT
TZOFFSETFROM:+0000
TZOFFSETTO:+0100
TZNAME:BST
DTSTART:20310330T010000
END:DAYLIGHT
BEGIN:STANDARD
TZOFFSETFROM:+0100
TZOFFSETTO:+0000
TZNAME:GMT
DTSTART:20311026T010000
END:STANDARD
END:VTIMEZONE
BEGIN:VEVENT
DTSTART;TZID=Europe/London:20290704T100000
DTEND;TZID=Europe/London:20290704T153000
DTSTAMP:20260422T041527
CREATED:20250827T140616Z
LAST-MODIFIED:20250827T140616Z
UID:10000929-1877853600-1877873400@affc.org.uk
SUMMARY:Harlow Older Person Activity Group
DESCRIPTION:Every Wednesday: \nSt Andrew’s Church\nThe Stow\nCM20 3AF \nKeeping Active: 10am-12.30pm\nActive Minds: 1pm – 3.30pm \nMore details here or please contact activityGroups@affc.org.uk.  \nPlease note these groups have a charge attached to them. £21 per session or £42 for the day. Lunch is not supplied\, but attendees can can bring their own lunch and socialise with others in the group as they eat.
URL:https://affc.org.uk/event/harlow-older-person-activity-group/2029-07-04/
END:VEVENT
BEGIN:VEVENT
DTSTART;TZID=Europe/London:20290711T100000
DTEND;TZID=Europe/London:20290711T153000
DTSTAMP:20260422T041527
CREATED:20250827T140616Z
LAST-MODIFIED:20250827T140616Z
UID:10000930-1878458400-1878478200@affc.org.uk
SUMMARY:Harlow Older Person Activity Group
DESCRIPTION:Every Wednesday: \nSt Andrew’s Church\nThe Stow\nCM20 3AF \nKeeping Active: 10am-12.30pm\nActive Minds: 1pm – 3.30pm \nMore details here or please contact activityGroups@affc.org.uk.  \nPlease note these groups have a charge attached to them. £21 per session or £42 for the day. Lunch is not supplied\, but attendees can can bring their own lunch and socialise with others in the group as they eat.
URL:https://affc.org.uk/event/harlow-older-person-activity-group/2029-07-11/
END:VEVENT
BEGIN:VEVENT
DTSTART;TZID=Europe/London:20290718T100000
DTEND;TZID=Europe/London:20290718T153000
DTSTAMP:20260422T041527
CREATED:20250827T140616Z
LAST-MODIFIED:20250827T140616Z
UID:10000931-1879063200-1879083000@affc.org.uk
SUMMARY:Harlow Older Person Activity Group
DESCRIPTION:Every Wednesday: \nSt Andrew’s Church\nThe Stow\nCM20 3AF \nKeeping Active: 10am-12.30pm\nActive Minds: 1pm – 3.30pm \nMore details here or please contact activityGroups@affc.org.uk.  \nPlease note these groups have a charge attached to them. £21 per session or £42 for the day. Lunch is not supplied\, but attendees can can bring their own lunch and socialise with others in the group as they eat.
URL:https://affc.org.uk/event/harlow-older-person-activity-group/2029-07-18/
END:VEVENT
BEGIN:VEVENT
DTSTART;TZID=Europe/London:20290725T100000
DTEND;TZID=Europe/London:20290725T153000
DTSTAMP:20260422T041527
CREATED:20250827T140616Z
LAST-MODIFIED:20250827T140616Z
UID:10000932-1879668000-1879687800@affc.org.uk
SUMMARY:Harlow Older Person Activity Group
DESCRIPTION:Every Wednesday: \nSt Andrew’s Church\nThe Stow\nCM20 3AF \nKeeping Active: 10am-12.30pm\nActive Minds: 1pm – 3.30pm \nMore details here or please contact activityGroups@affc.org.uk.  \nPlease note these groups have a charge attached to them. £21 per session or £42 for the day. Lunch is not supplied\, but attendees can can bring their own lunch and socialise with others in the group as they eat.
URL:https://affc.org.uk/event/harlow-older-person-activity-group/2029-07-25/
END:VEVENT
BEGIN:VEVENT
DTSTART;TZID=Europe/London:20290801T100000
DTEND;TZID=Europe/London:20290801T153000
DTSTAMP:20260422T041527
CREATED:20250827T140616Z
LAST-MODIFIED:20250827T140616Z
UID:10000933-1880272800-1880292600@affc.org.uk
SUMMARY:Harlow Older Person Activity Group
DESCRIPTION:Every Wednesday: \nSt Andrew’s Church\nThe Stow\nCM20 3AF \nKeeping Active: 10am-12.30pm\nActive Minds: 1pm – 3.30pm \nMore details here or please contact activityGroups@affc.org.uk.  \nPlease note these groups have a charge attached to them. £21 per session or £42 for the day. Lunch is not supplied\, but attendees can can bring their own lunch and socialise with others in the group as they eat.
URL:https://affc.org.uk/event/harlow-older-person-activity-group/2029-08-01/
END:VEVENT
BEGIN:VEVENT
DTSTART;TZID=Europe/London:20290808T100000
DTEND;TZID=Europe/London:20290808T153000
DTSTAMP:20260422T041527
CREATED:20250827T140616Z
LAST-MODIFIED:20250827T140616Z
UID:10000934-1880877600-1880897400@affc.org.uk
SUMMARY:Harlow Older Person Activity Group
DESCRIPTION:Every Wednesday: \nSt Andrew’s Church\nThe Stow\nCM20 3AF \nKeeping Active: 10am-12.30pm\nActive Minds: 1pm – 3.30pm \nMore details here or please contact activityGroups@affc.org.uk.  \nPlease note these groups have a charge attached to them. £21 per session or £42 for the day. Lunch is not supplied\, but attendees can can bring their own lunch and socialise with others in the group as they eat.
URL:https://affc.org.uk/event/harlow-older-person-activity-group/2029-08-08/
END:VEVENT
BEGIN:VEVENT
DTSTART;TZID=Europe/London:20290815T100000
DTEND;TZID=Europe/London:20290815T153000
DTSTAMP:20260422T041527
CREATED:20250827T140616Z
LAST-MODIFIED:20250827T140616Z
UID:10000935-1881482400-1881502200@affc.org.uk
SUMMARY:Harlow Older Person Activity Group
DESCRIPTION:Every Wednesday: \nSt Andrew’s Church\nThe Stow\nCM20 3AF \nKeeping Active: 10am-12.30pm\nActive Minds: 1pm – 3.30pm \nMore details here or please contact activityGroups@affc.org.uk.  \nPlease note these groups have a charge attached to them. £21 per session or £42 for the day. Lunch is not supplied\, but attendees can can bring their own lunch and socialise with others in the group as they eat.
URL:https://affc.org.uk/event/harlow-older-person-activity-group/2029-08-15/
END:VEVENT
BEGIN:VEVENT
DTSTART;TZID=Europe/London:20290822T100000
DTEND;TZID=Europe/London:20290822T153000
DTSTAMP:20260422T041527
CREATED:20250827T140616Z
LAST-MODIFIED:20250827T140616Z
UID:10000936-1882087200-1882107000@affc.org.uk
SUMMARY:Harlow Older Person Activity Group
DESCRIPTION:Every Wednesday: \nSt Andrew’s Church\nThe Stow\nCM20 3AF \nKeeping Active: 10am-12.30pm\nActive Minds: 1pm – 3.30pm \nMore details here or please contact activityGroups@affc.org.uk.  \nPlease note these groups have a charge attached to them. £21 per session or £42 for the day. Lunch is not supplied\, but attendees can can bring their own lunch and socialise with others in the group as they eat.
URL:https://affc.org.uk/event/harlow-older-person-activity-group/2029-08-22/
END:VEVENT
BEGIN:VEVENT
DTSTART;TZID=Europe/London:20290829T100000
DTEND;TZID=Europe/London:20290829T153000
DTSTAMP:20260422T041527
CREATED:20250827T140616Z
LAST-MODIFIED:20250827T140616Z
UID:10000937-1882692000-1882711800@affc.org.uk
SUMMARY:Harlow Older Person Activity Group
DESCRIPTION:Every Wednesday: \nSt Andrew’s Church\nThe Stow\nCM20 3AF \nKeeping Active: 10am-12.30pm\nActive Minds: 1pm – 3.30pm \nMore details here or please contact activityGroups@affc.org.uk.  \nPlease note these groups have a charge attached to them. £21 per session or £42 for the day. Lunch is not supplied\, but attendees can can bring their own lunch and socialise with others in the group as they eat.
URL:https://affc.org.uk/event/harlow-older-person-activity-group/2029-08-29/
END:VEVENT
BEGIN:VEVENT
DTSTART;TZID=Europe/London:20290905T100000
DTEND;TZID=Europe/London:20290905T153000
DTSTAMP:20260422T041527
CREATED:20250827T140616Z
LAST-MODIFIED:20250827T140616Z
UID:10000938-1883296800-1883316600@affc.org.uk
SUMMARY:Harlow Older Person Activity Group
DESCRIPTION:Every Wednesday: \nSt Andrew’s Church\nThe Stow\nCM20 3AF \nKeeping Active: 10am-12.30pm\nActive Minds: 1pm – 3.30pm \nMore details here or please contact activityGroups@affc.org.uk.  \nPlease note these groups have a charge attached to them. £21 per session or £42 for the day. Lunch is not supplied\, but attendees can can bring their own lunch and socialise with others in the group as they eat.
URL:https://affc.org.uk/event/harlow-older-person-activity-group/2029-09-05/
END:VEVENT
BEGIN:VEVENT
DTSTART;TZID=Europe/London:20290912T100000
DTEND;TZID=Europe/London:20290912T153000
DTSTAMP:20260422T041527
CREATED:20250827T140616Z
LAST-MODIFIED:20250827T140616Z
UID:10000939-1883901600-1883921400@affc.org.uk
SUMMARY:Harlow Older Person Activity Group
DESCRIPTION:Every Wednesday: \nSt Andrew’s Church\nThe Stow\nCM20 3AF \nKeeping Active: 10am-12.30pm\nActive Minds: 1pm – 3.30pm \nMore details here or please contact activityGroups@affc.org.uk.  \nPlease note these groups have a charge attached to them. £21 per session or £42 for the day. Lunch is not supplied\, but attendees can can bring their own lunch and socialise with others in the group as they eat.
URL:https://affc.org.uk/event/harlow-older-person-activity-group/2029-09-12/
END:VEVENT
BEGIN:VEVENT
DTSTART;TZID=Europe/London:20290919T100000
DTEND;TZID=Europe/London:20290919T153000
DTSTAMP:20260422T041527
CREATED:20250827T140616Z
LAST-MODIFIED:20250827T140616Z
UID:10000940-1884506400-1884526200@affc.org.uk
SUMMARY:Harlow Older Person Activity Group
DESCRIPTION:Every Wednesday: \nSt Andrew’s Church\nThe Stow\nCM20 3AF \nKeeping Active: 10am-12.30pm\nActive Minds: 1pm – 3.30pm \nMore details here or please contact activityGroups@affc.org.uk.  \nPlease note these groups have a charge attached to them. £21 per session or £42 for the day. Lunch is not supplied\, but attendees can can bring their own lunch and socialise with others in the group as they eat.
URL:https://affc.org.uk/event/harlow-older-person-activity-group/2029-09-19/
END:VEVENT
BEGIN:VEVENT
DTSTART;TZID=Europe/London:20290926T100000
DTEND;TZID=Europe/London:20290926T153000
DTSTAMP:20260422T041527
CREATED:20250827T140616Z
LAST-MODIFIED:20250827T140616Z
UID:10000941-1885111200-1885131000@affc.org.uk
SUMMARY:Harlow Older Person Activity Group
DESCRIPTION:Every Wednesday: \nSt Andrew’s Church\nThe Stow\nCM20 3AF \nKeeping Active: 10am-12.30pm\nActive Minds: 1pm – 3.30pm \nMore details here or please contact activityGroups@affc.org.uk.  \nPlease note these groups have a charge attached to them. £21 per session or £42 for the day. Lunch is not supplied\, but attendees can can bring their own lunch and socialise with others in the group as they eat.
URL:https://affc.org.uk/event/harlow-older-person-activity-group/2029-09-26/
END:VEVENT
BEGIN:VEVENT
DTSTART;TZID=Europe/London:20291003T100000
DTEND;TZID=Europe/London:20291003T153000
DTSTAMP:20260422T041527
CREATED:20250827T140616Z
LAST-MODIFIED:20250827T140616Z
UID:10000942-1885716000-1885735800@affc.org.uk
SUMMARY:Harlow Older Person Activity Group
DESCRIPTION:Every Wednesday: \nSt Andrew’s Church\nThe Stow\nCM20 3AF \nKeeping Active: 10am-12.30pm\nActive Minds: 1pm – 3.30pm \nMore details here or please contact activityGroups@affc.org.uk.  \nPlease note these groups have a charge attached to them. £21 per session or £42 for the day. Lunch is not supplied\, but attendees can can bring their own lunch and socialise with others in the group as they eat.
URL:https://affc.org.uk/event/harlow-older-person-activity-group/2029-10-03/
END:VEVENT
BEGIN:VEVENT
DTSTART;TZID=Europe/London:20291010T100000
DTEND;TZID=Europe/London:20291010T153000
DTSTAMP:20260422T041527
CREATED:20250827T140616Z
LAST-MODIFIED:20250827T140616Z
UID:10000943-1886320800-1886340600@affc.org.uk
SUMMARY:Harlow Older Person Activity Group
DESCRIPTION:Every Wednesday: \nSt Andrew’s Church\nThe Stow\nCM20 3AF \nKeeping Active: 10am-12.30pm\nActive Minds: 1pm – 3.30pm \nMore details here or please contact activityGroups@affc.org.uk.  \nPlease note these groups have a charge attached to them. £21 per session or £42 for the day. Lunch is not supplied\, but attendees can can bring their own lunch and socialise with others in the group as they eat.
URL:https://affc.org.uk/event/harlow-older-person-activity-group/2029-10-10/
END:VEVENT
BEGIN:VEVENT
DTSTART;TZID=Europe/London:20291017T100000
DTEND;TZID=Europe/London:20291017T153000
DTSTAMP:20260422T041527
CREATED:20250827T140616Z
LAST-MODIFIED:20250827T140616Z
UID:10000944-1886925600-1886945400@affc.org.uk
SUMMARY:Harlow Older Person Activity Group
DESCRIPTION:Every Wednesday: \nSt Andrew’s Church\nThe Stow\nCM20 3AF \nKeeping Active: 10am-12.30pm\nActive Minds: 1pm – 3.30pm \nMore details here or please contact activityGroups@affc.org.uk.  \nPlease note these groups have a charge attached to them. £21 per session or £42 for the day. Lunch is not supplied\, but attendees can can bring their own lunch and socialise with others in the group as they eat.
URL:https://affc.org.uk/event/harlow-older-person-activity-group/2029-10-17/
END:VEVENT
BEGIN:VEVENT
DTSTART;TZID=Europe/London:20291024T100000
DTEND;TZID=Europe/London:20291024T153000
DTSTAMP:20260422T041527
CREATED:20250827T140616Z
LAST-MODIFIED:20250827T140616Z
UID:10000945-1887530400-1887550200@affc.org.uk
SUMMARY:Harlow Older Person Activity Group
DESCRIPTION:Every Wednesday: \nSt Andrew’s Church\nThe Stow\nCM20 3AF \nKeeping Active: 10am-12.30pm\nActive Minds: 1pm – 3.30pm \nMore details here or please contact activityGroups@affc.org.uk.  \nPlease note these groups have a charge attached to them. £21 per session or £42 for the day. Lunch is not supplied\, but attendees can can bring their own lunch and socialise with others in the group as they eat.
URL:https://affc.org.uk/event/harlow-older-person-activity-group/2029-10-24/
END:VEVENT
BEGIN:VEVENT
DTSTART;TZID=Europe/London:20291031T100000
DTEND;TZID=Europe/London:20291031T153000
DTSTAMP:20260422T041527
CREATED:20250827T140616Z
LAST-MODIFIED:20250827T140616Z
UID:10000946-1888135200-1888155000@affc.org.uk
SUMMARY:Harlow Older Person Activity Group
DESCRIPTION:Every Wednesday: \nSt Andrew’s Church\nThe Stow\nCM20 3AF \nKeeping Active: 10am-12.30pm\nActive Minds: 1pm – 3.30pm \nMore details here or please contact activityGroups@affc.org.uk.  \nPlease note these groups have a charge attached to them. £21 per session or £42 for the day. Lunch is not supplied\, but attendees can can bring their own lunch and socialise with others in the group as they eat.
URL:https://affc.org.uk/event/harlow-older-person-activity-group/2029-10-31/
END:VEVENT
BEGIN:VEVENT
DTSTART;TZID=Europe/London:20291107T100000
DTEND;TZID=Europe/London:20291107T153000
DTSTAMP:20260422T041527
CREATED:20250827T140616Z
LAST-MODIFIED:20250827T140616Z
UID:10000947-1888740000-1888759800@affc.org.uk
SUMMARY:Harlow Older Person Activity Group
DESCRIPTION:Every Wednesday: \nSt Andrew’s Church\nThe Stow\nCM20 3AF \nKeeping Active: 10am-12.30pm\nActive Minds: 1pm – 3.30pm \nMore details here or please contact activityGroups@affc.org.uk.  \nPlease note these groups have a charge attached to them. £21 per session or £42 for the day. Lunch is not supplied\, but attendees can can bring their own lunch and socialise with others in the group as they eat.
URL:https://affc.org.uk/event/harlow-older-person-activity-group/2029-11-07/
END:VEVENT
BEGIN:VEVENT
DTSTART;TZID=Europe/London:20291114T100000
DTEND;TZID=Europe/London:20291114T153000
DTSTAMP:20260422T041527
CREATED:20250827T140616Z
LAST-MODIFIED:20250827T140616Z
UID:10000948-1889344800-1889364600@affc.org.uk
SUMMARY:Harlow Older Person Activity Group
DESCRIPTION:Every Wednesday: \nSt Andrew’s Church\nThe Stow\nCM20 3AF \nKeeping Active: 10am-12.30pm\nActive Minds: 1pm – 3.30pm \nMore details here or please contact activityGroups@affc.org.uk.  \nPlease note these groups have a charge attached to them. £21 per session or £42 for the day. Lunch is not supplied\, but attendees can can bring their own lunch and socialise with others in the group as they eat.
URL:https://affc.org.uk/event/harlow-older-person-activity-group/2029-11-14/
END:VEVENT
BEGIN:VEVENT
DTSTART;TZID=Europe/London:20291121T100000
DTEND;TZID=Europe/London:20291121T153000
DTSTAMP:20260422T041527
CREATED:20250827T140616Z
LAST-MODIFIED:20250827T140616Z
UID:10000949-1889949600-1889969400@affc.org.uk
SUMMARY:Harlow Older Person Activity Group
DESCRIPTION:Every Wednesday: \nSt Andrew’s Church\nThe Stow\nCM20 3AF \nKeeping Active: 10am-12.30pm\nActive Minds: 1pm – 3.30pm \nMore details here or please contact activityGroups@affc.org.uk.  \nPlease note these groups have a charge attached to them. £21 per session or £42 for the day. Lunch is not supplied\, but attendees can can bring their own lunch and socialise with others in the group as they eat.
URL:https://affc.org.uk/event/harlow-older-person-activity-group/2029-11-21/
END:VEVENT
BEGIN:VEVENT
DTSTART;TZID=Europe/London:20291128T100000
DTEND;TZID=Europe/London:20291128T153000
DTSTAMP:20260422T041527
CREATED:20250827T140616Z
LAST-MODIFIED:20250827T140616Z
UID:10000950-1890554400-1890574200@affc.org.uk
SUMMARY:Harlow Older Person Activity Group
DESCRIPTION:Every Wednesday: \nSt Andrew’s Church\nThe Stow\nCM20 3AF \nKeeping Active: 10am-12.30pm\nActive Minds: 1pm – 3.30pm \nMore details here or please contact activityGroups@affc.org.uk.  \nPlease note these groups have a charge attached to them. £21 per session or £42 for the day. Lunch is not supplied\, but attendees can can bring their own lunch and socialise with others in the group as they eat.
URL:https://affc.org.uk/event/harlow-older-person-activity-group/2029-11-28/
END:VEVENT
BEGIN:VEVENT
DTSTART;TZID=Europe/London:20291205T100000
DTEND;TZID=Europe/London:20291205T153000
DTSTAMP:20260422T041527
CREATED:20250827T140616Z
LAST-MODIFIED:20250827T140616Z
UID:10000951-1891159200-1891179000@affc.org.uk
SUMMARY:Harlow Older Person Activity Group
DESCRIPTION:Every Wednesday: \nSt Andrew’s Church\nThe Stow\nCM20 3AF \nKeeping Active: 10am-12.30pm\nActive Minds: 1pm – 3.30pm \nMore details here or please contact activityGroups@affc.org.uk.  \nPlease note these groups have a charge attached to them. £21 per session or £42 for the day. Lunch is not supplied\, but attendees can can bring their own lunch and socialise with others in the group as they eat.
URL:https://affc.org.uk/event/harlow-older-person-activity-group/2029-12-05/
END:VEVENT
BEGIN:VEVENT
DTSTART;TZID=Europe/London:20291212T100000
DTEND;TZID=Europe/London:20291212T153000
DTSTAMP:20260422T041527
CREATED:20250827T140616Z
LAST-MODIFIED:20250827T140616Z
UID:10000952-1891764000-1891783800@affc.org.uk
SUMMARY:Harlow Older Person Activity Group
DESCRIPTION:Every Wednesday: \nSt Andrew’s Church\nThe Stow\nCM20 3AF \nKeeping Active: 10am-12.30pm\nActive Minds: 1pm – 3.30pm \nMore details here or please contact activityGroups@affc.org.uk.  \nPlease note these groups have a charge attached to them. £21 per session or £42 for the day. Lunch is not supplied\, but attendees can can bring their own lunch and socialise with others in the group as they eat.
URL:https://affc.org.uk/event/harlow-older-person-activity-group/2029-12-12/
END:VEVENT
BEGIN:VEVENT
DTSTART;TZID=Europe/London:20291219T100000
DTEND;TZID=Europe/London:20291219T153000
DTSTAMP:20260422T041527
CREATED:20250827T140616Z
LAST-MODIFIED:20250827T140616Z
UID:10000953-1892368800-1892388600@affc.org.uk
SUMMARY:Harlow Older Person Activity Group
DESCRIPTION:Every Wednesday: \nSt Andrew’s Church\nThe Stow\nCM20 3AF \nKeeping Active: 10am-12.30pm\nActive Minds: 1pm – 3.30pm \nMore details here or please contact activityGroups@affc.org.uk.  \nPlease note these groups have a charge attached to them. £21 per session or £42 for the day. Lunch is not supplied\, but attendees can can bring their own lunch and socialise with others in the group as they eat.
URL:https://affc.org.uk/event/harlow-older-person-activity-group/2029-12-19/
END:VEVENT
BEGIN:VEVENT
DTSTART;TZID=Europe/London:20291226T100000
DTEND;TZID=Europe/London:20291226T153000
DTSTAMP:20260422T041527
CREATED:20250827T140616Z
LAST-MODIFIED:20250827T140616Z
UID:10000954-1892973600-1892993400@affc.org.uk
SUMMARY:Harlow Older Person Activity Group
DESCRIPTION:Every Wednesday: \nSt Andrew’s Church\nThe Stow\nCM20 3AF \nKeeping Active: 10am-12.30pm\nActive Minds: 1pm – 3.30pm \nMore details here or please contact activityGroups@affc.org.uk.  \nPlease note these groups have a charge attached to them. £21 per session or £42 for the day. Lunch is not supplied\, but attendees can can bring their own lunch and socialise with others in the group as they eat.
URL:https://affc.org.uk/event/harlow-older-person-activity-group/2029-12-26/
END:VEVENT
BEGIN:VEVENT
DTSTART;TZID=Europe/London:20300102T100000
DTEND;TZID=Europe/London:20300102T153000
DTSTAMP:20260422T041527
CREATED:20250827T140616Z
LAST-MODIFIED:20250827T140616Z
UID:10000955-1893578400-1893598200@affc.org.uk
SUMMARY:Harlow Older Person Activity Group
DESCRIPTION:Every Wednesday: \nSt Andrew’s Church\nThe Stow\nCM20 3AF \nKeeping Active: 10am-12.30pm\nActive Minds: 1pm – 3.30pm \nMore details here or please contact activityGroups@affc.org.uk.  \nPlease note these groups have a charge attached to them. £21 per session or £42 for the day. Lunch is not supplied\, but attendees can can bring their own lunch and socialise with others in the group as they eat.
URL:https://affc.org.uk/event/harlow-older-person-activity-group/2030-01-02/
END:VEVENT
BEGIN:VEVENT
DTSTART;TZID=Europe/London:20300109T100000
DTEND;TZID=Europe/London:20300109T153000
DTSTAMP:20260422T041527
CREATED:20250827T140616Z
LAST-MODIFIED:20250827T140616Z
UID:10000956-1894183200-1894203000@affc.org.uk
SUMMARY:Harlow Older Person Activity Group
DESCRIPTION:Every Wednesday: \nSt Andrew’s Church\nThe Stow\nCM20 3AF \nKeeping Active: 10am-12.30pm\nActive Minds: 1pm – 3.30pm \nMore details here or please contact activityGroups@affc.org.uk.  \nPlease note these groups have a charge attached to them. £21 per session or £42 for the day. Lunch is not supplied\, but attendees can can bring their own lunch and socialise with others in the group as they eat.
URL:https://affc.org.uk/event/harlow-older-person-activity-group/2030-01-09/
END:VEVENT
BEGIN:VEVENT
DTSTART;TZID=Europe/London:20300116T100000
DTEND;TZID=Europe/London:20300116T153000
DTSTAMP:20260422T041527
CREATED:20250827T140616Z
LAST-MODIFIED:20250827T140616Z
UID:10000957-1894788000-1894807800@affc.org.uk
SUMMARY:Harlow Older Person Activity Group
DESCRIPTION:Every Wednesday: \nSt Andrew’s Church\nThe Stow\nCM20 3AF \nKeeping Active: 10am-12.30pm\nActive Minds: 1pm – 3.30pm \nMore details here or please contact activityGroups@affc.org.uk.  \nPlease note these groups have a charge attached to them. £21 per session or £42 for the day. Lunch is not supplied\, but attendees can can bring their own lunch and socialise with others in the group as they eat.
URL:https://affc.org.uk/event/harlow-older-person-activity-group/2030-01-16/
END:VEVENT
BEGIN:VEVENT
DTSTART;TZID=Europe/London:20300123T100000
DTEND;TZID=Europe/London:20300123T153000
DTSTAMP:20260422T041527
CREATED:20250827T140616Z
LAST-MODIFIED:20250827T140616Z
UID:10000958-1895392800-1895412600@affc.org.uk
SUMMARY:Harlow Older Person Activity Group
DESCRIPTION:Every Wednesday: \nSt Andrew’s Church\nThe Stow\nCM20 3AF \nKeeping Active: 10am-12.30pm\nActive Minds: 1pm – 3.30pm \nMore details here or please contact activityGroups@affc.org.uk.  \nPlease note these groups have a charge attached to them. £21 per session or £42 for the day. Lunch is not supplied\, but attendees can can bring their own lunch and socialise with others in the group as they eat.
URL:https://affc.org.uk/event/harlow-older-person-activity-group/2030-01-23/
END:VEVENT
END:VCALENDAR