BEGIN:VCALENDAR
VERSION:2.0
PRODID:-//Action for Family Carers - ECPv6.15.20//NONSGML v1.0//EN
CALSCALE:GREGORIAN
METHOD:PUBLISH
X-ORIGINAL-URL:https://affc.org.uk
X-WR-CALDESC:Events for Action for Family Carers
REFRESH-INTERVAL;VALUE=DURATION:PT1H
X-Robots-Tag:noindex
X-PUBLISHED-TTL:PT1H
BEGIN:VTIMEZONE
TZID:Europe/London
BEGIN:DAYLIGHT
TZOFFSETFROM:+0000
TZOFFSETTO:+0100
TZNAME:BST
DTSTART:20260329T010000
END:DAYLIGHT
BEGIN:STANDARD
TZOFFSETFROM:+0100
TZOFFSETTO:+0000
TZNAME:GMT
DTSTART:20261025T010000
END:STANDARD
BEGIN:DAYLIGHT
TZOFFSETFROM:+0000
TZOFFSETTO:+0100
TZNAME:BST
DTSTART:20270328T010000
END:DAYLIGHT
BEGIN:STANDARD
TZOFFSETFROM:+0100
TZOFFSETTO:+0000
TZNAME:GMT
DTSTART:20271031T010000
END:STANDARD
BEGIN:DAYLIGHT
TZOFFSETFROM:+0000
TZOFFSETTO:+0100
TZNAME:BST
DTSTART:20280326T010000
END:DAYLIGHT
BEGIN:STANDARD
TZOFFSETFROM:+0100
TZOFFSETTO:+0000
TZNAME:GMT
DTSTART:20281029T010000
END:STANDARD
END:VTIMEZONE
BEGIN:VEVENT
DTSTART;TZID=Europe/London:20270317T100000
DTEND;TZID=Europe/London:20270317T153000
DTSTAMP:20260421T134032
CREATED:20250827T140616Z
LAST-MODIFIED:20250827T140616Z
UID:10000809-1805277600-1805297400@affc.org.uk
SUMMARY:Harlow Older Person Activity Group
DESCRIPTION:Every Wednesday: \nSt Andrew’s Church\nThe Stow\nCM20 3AF \nKeeping Active: 10am-12.30pm\nActive Minds: 1pm – 3.30pm \nMore details here or please contact activityGroups@affc.org.uk.  \nPlease note these groups have a charge attached to them. £21 per session or £42 for the day. Lunch is not supplied\, but attendees can can bring their own lunch and socialise with others in the group as they eat.
URL:https://affc.org.uk/event/harlow-older-person-activity-group/2027-03-17/
END:VEVENT
BEGIN:VEVENT
DTSTART;TZID=Europe/London:20270324T100000
DTEND;TZID=Europe/London:20270324T153000
DTSTAMP:20260421T134032
CREATED:20250827T140616Z
LAST-MODIFIED:20250827T140616Z
UID:10000810-1805882400-1805902200@affc.org.uk
SUMMARY:Harlow Older Person Activity Group
DESCRIPTION:Every Wednesday: \nSt Andrew’s Church\nThe Stow\nCM20 3AF \nKeeping Active: 10am-12.30pm\nActive Minds: 1pm – 3.30pm \nMore details here or please contact activityGroups@affc.org.uk.  \nPlease note these groups have a charge attached to them. £21 per session or £42 for the day. Lunch is not supplied\, but attendees can can bring their own lunch and socialise with others in the group as they eat.
URL:https://affc.org.uk/event/harlow-older-person-activity-group/2027-03-24/
END:VEVENT
BEGIN:VEVENT
DTSTART;TZID=Europe/London:20270331T100000
DTEND;TZID=Europe/London:20270331T153000
DTSTAMP:20260421T134032
CREATED:20250827T140616Z
LAST-MODIFIED:20250827T140616Z
UID:10000811-1806487200-1806507000@affc.org.uk
SUMMARY:Harlow Older Person Activity Group
DESCRIPTION:Every Wednesday: \nSt Andrew’s Church\nThe Stow\nCM20 3AF \nKeeping Active: 10am-12.30pm\nActive Minds: 1pm – 3.30pm \nMore details here or please contact activityGroups@affc.org.uk.  \nPlease note these groups have a charge attached to them. £21 per session or £42 for the day. Lunch is not supplied\, but attendees can can bring their own lunch and socialise with others in the group as they eat.
URL:https://affc.org.uk/event/harlow-older-person-activity-group/2027-03-31/
END:VEVENT
BEGIN:VEVENT
DTSTART;TZID=Europe/London:20270407T100000
DTEND;TZID=Europe/London:20270407T153000
DTSTAMP:20260421T134032
CREATED:20250827T140616Z
LAST-MODIFIED:20250827T140616Z
UID:10000812-1807092000-1807111800@affc.org.uk
SUMMARY:Harlow Older Person Activity Group
DESCRIPTION:Every Wednesday: \nSt Andrew’s Church\nThe Stow\nCM20 3AF \nKeeping Active: 10am-12.30pm\nActive Minds: 1pm – 3.30pm \nMore details here or please contact activityGroups@affc.org.uk.  \nPlease note these groups have a charge attached to them. £21 per session or £42 for the day. Lunch is not supplied\, but attendees can can bring their own lunch and socialise with others in the group as they eat.
URL:https://affc.org.uk/event/harlow-older-person-activity-group/2027-04-07/
END:VEVENT
BEGIN:VEVENT
DTSTART;TZID=Europe/London:20270414T100000
DTEND;TZID=Europe/London:20270414T153000
DTSTAMP:20260421T134032
CREATED:20250827T140616Z
LAST-MODIFIED:20250827T140616Z
UID:10000813-1807696800-1807716600@affc.org.uk
SUMMARY:Harlow Older Person Activity Group
DESCRIPTION:Every Wednesday: \nSt Andrew’s Church\nThe Stow\nCM20 3AF \nKeeping Active: 10am-12.30pm\nActive Minds: 1pm – 3.30pm \nMore details here or please contact activityGroups@affc.org.uk.  \nPlease note these groups have a charge attached to them. £21 per session or £42 for the day. Lunch is not supplied\, but attendees can can bring their own lunch and socialise with others in the group as they eat.
URL:https://affc.org.uk/event/harlow-older-person-activity-group/2027-04-14/
END:VEVENT
BEGIN:VEVENT
DTSTART;TZID=Europe/London:20270421T100000
DTEND;TZID=Europe/London:20270421T153000
DTSTAMP:20260421T134032
CREATED:20250827T140616Z
LAST-MODIFIED:20250827T140616Z
UID:10000814-1808301600-1808321400@affc.org.uk
SUMMARY:Harlow Older Person Activity Group
DESCRIPTION:Every Wednesday: \nSt Andrew’s Church\nThe Stow\nCM20 3AF \nKeeping Active: 10am-12.30pm\nActive Minds: 1pm – 3.30pm \nMore details here or please contact activityGroups@affc.org.uk.  \nPlease note these groups have a charge attached to them. £21 per session or £42 for the day. Lunch is not supplied\, but attendees can can bring their own lunch and socialise with others in the group as they eat.
URL:https://affc.org.uk/event/harlow-older-person-activity-group/2027-04-21/
END:VEVENT
BEGIN:VEVENT
DTSTART;TZID=Europe/London:20270428T100000
DTEND;TZID=Europe/London:20270428T153000
DTSTAMP:20260421T134032
CREATED:20250827T140616Z
LAST-MODIFIED:20250827T140616Z
UID:10000815-1808906400-1808926200@affc.org.uk
SUMMARY:Harlow Older Person Activity Group
DESCRIPTION:Every Wednesday: \nSt Andrew’s Church\nThe Stow\nCM20 3AF \nKeeping Active: 10am-12.30pm\nActive Minds: 1pm – 3.30pm \nMore details here or please contact activityGroups@affc.org.uk.  \nPlease note these groups have a charge attached to them. £21 per session or £42 for the day. Lunch is not supplied\, but attendees can can bring their own lunch and socialise with others in the group as they eat.
URL:https://affc.org.uk/event/harlow-older-person-activity-group/2027-04-28/
END:VEVENT
BEGIN:VEVENT
DTSTART;TZID=Europe/London:20270505T100000
DTEND;TZID=Europe/London:20270505T153000
DTSTAMP:20260421T134032
CREATED:20250827T140616Z
LAST-MODIFIED:20250827T140616Z
UID:10000816-1809511200-1809531000@affc.org.uk
SUMMARY:Harlow Older Person Activity Group
DESCRIPTION:Every Wednesday: \nSt Andrew’s Church\nThe Stow\nCM20 3AF \nKeeping Active: 10am-12.30pm\nActive Minds: 1pm – 3.30pm \nMore details here or please contact activityGroups@affc.org.uk.  \nPlease note these groups have a charge attached to them. £21 per session or £42 for the day. Lunch is not supplied\, but attendees can can bring their own lunch and socialise with others in the group as they eat.
URL:https://affc.org.uk/event/harlow-older-person-activity-group/2027-05-05/
END:VEVENT
BEGIN:VEVENT
DTSTART;TZID=Europe/London:20270512T100000
DTEND;TZID=Europe/London:20270512T153000
DTSTAMP:20260421T134032
CREATED:20250827T140616Z
LAST-MODIFIED:20250827T140616Z
UID:10000817-1810116000-1810135800@affc.org.uk
SUMMARY:Harlow Older Person Activity Group
DESCRIPTION:Every Wednesday: \nSt Andrew’s Church\nThe Stow\nCM20 3AF \nKeeping Active: 10am-12.30pm\nActive Minds: 1pm – 3.30pm \nMore details here or please contact activityGroups@affc.org.uk.  \nPlease note these groups have a charge attached to them. £21 per session or £42 for the day. Lunch is not supplied\, but attendees can can bring their own lunch and socialise with others in the group as they eat.
URL:https://affc.org.uk/event/harlow-older-person-activity-group/2027-05-12/
END:VEVENT
BEGIN:VEVENT
DTSTART;TZID=Europe/London:20270519T100000
DTEND;TZID=Europe/London:20270519T153000
DTSTAMP:20260421T134032
CREATED:20250827T140616Z
LAST-MODIFIED:20250827T140616Z
UID:10000818-1810720800-1810740600@affc.org.uk
SUMMARY:Harlow Older Person Activity Group
DESCRIPTION:Every Wednesday: \nSt Andrew’s Church\nThe Stow\nCM20 3AF \nKeeping Active: 10am-12.30pm\nActive Minds: 1pm – 3.30pm \nMore details here or please contact activityGroups@affc.org.uk.  \nPlease note these groups have a charge attached to them. £21 per session or £42 for the day. Lunch is not supplied\, but attendees can can bring their own lunch and socialise with others in the group as they eat.
URL:https://affc.org.uk/event/harlow-older-person-activity-group/2027-05-19/
END:VEVENT
BEGIN:VEVENT
DTSTART;TZID=Europe/London:20270526T100000
DTEND;TZID=Europe/London:20270526T153000
DTSTAMP:20260421T134032
CREATED:20250827T140616Z
LAST-MODIFIED:20250827T140616Z
UID:10000819-1811325600-1811345400@affc.org.uk
SUMMARY:Harlow Older Person Activity Group
DESCRIPTION:Every Wednesday: \nSt Andrew’s Church\nThe Stow\nCM20 3AF \nKeeping Active: 10am-12.30pm\nActive Minds: 1pm – 3.30pm \nMore details here or please contact activityGroups@affc.org.uk.  \nPlease note these groups have a charge attached to them. £21 per session or £42 for the day. Lunch is not supplied\, but attendees can can bring their own lunch and socialise with others in the group as they eat.
URL:https://affc.org.uk/event/harlow-older-person-activity-group/2027-05-26/
END:VEVENT
BEGIN:VEVENT
DTSTART;TZID=Europe/London:20270602T100000
DTEND;TZID=Europe/London:20270602T153000
DTSTAMP:20260421T134032
CREATED:20250827T140616Z
LAST-MODIFIED:20250827T140616Z
UID:10000820-1811930400-1811950200@affc.org.uk
SUMMARY:Harlow Older Person Activity Group
DESCRIPTION:Every Wednesday: \nSt Andrew’s Church\nThe Stow\nCM20 3AF \nKeeping Active: 10am-12.30pm\nActive Minds: 1pm – 3.30pm \nMore details here or please contact activityGroups@affc.org.uk.  \nPlease note these groups have a charge attached to them. £21 per session or £42 for the day. Lunch is not supplied\, but attendees can can bring their own lunch and socialise with others in the group as they eat.
URL:https://affc.org.uk/event/harlow-older-person-activity-group/2027-06-02/
END:VEVENT
BEGIN:VEVENT
DTSTART;TZID=Europe/London:20270609T100000
DTEND;TZID=Europe/London:20270609T153000
DTSTAMP:20260421T134032
CREATED:20250827T140616Z
LAST-MODIFIED:20250827T140616Z
UID:10000821-1812535200-1812555000@affc.org.uk
SUMMARY:Harlow Older Person Activity Group
DESCRIPTION:Every Wednesday: \nSt Andrew’s Church\nThe Stow\nCM20 3AF \nKeeping Active: 10am-12.30pm\nActive Minds: 1pm – 3.30pm \nMore details here or please contact activityGroups@affc.org.uk.  \nPlease note these groups have a charge attached to them. £21 per session or £42 for the day. Lunch is not supplied\, but attendees can can bring their own lunch and socialise with others in the group as they eat.
URL:https://affc.org.uk/event/harlow-older-person-activity-group/2027-06-09/
END:VEVENT
BEGIN:VEVENT
DTSTART;TZID=Europe/London:20270616T100000
DTEND;TZID=Europe/London:20270616T153000
DTSTAMP:20260421T134032
CREATED:20250827T140616Z
LAST-MODIFIED:20250827T140616Z
UID:10000822-1813140000-1813159800@affc.org.uk
SUMMARY:Harlow Older Person Activity Group
DESCRIPTION:Every Wednesday: \nSt Andrew’s Church\nThe Stow\nCM20 3AF \nKeeping Active: 10am-12.30pm\nActive Minds: 1pm – 3.30pm \nMore details here or please contact activityGroups@affc.org.uk.  \nPlease note these groups have a charge attached to them. £21 per session or £42 for the day. Lunch is not supplied\, but attendees can can bring their own lunch and socialise with others in the group as they eat.
URL:https://affc.org.uk/event/harlow-older-person-activity-group/2027-06-16/
END:VEVENT
BEGIN:VEVENT
DTSTART;TZID=Europe/London:20270623T100000
DTEND;TZID=Europe/London:20270623T153000
DTSTAMP:20260421T134032
CREATED:20250827T140616Z
LAST-MODIFIED:20250827T140616Z
UID:10000823-1813744800-1813764600@affc.org.uk
SUMMARY:Harlow Older Person Activity Group
DESCRIPTION:Every Wednesday: \nSt Andrew’s Church\nThe Stow\nCM20 3AF \nKeeping Active: 10am-12.30pm\nActive Minds: 1pm – 3.30pm \nMore details here or please contact activityGroups@affc.org.uk.  \nPlease note these groups have a charge attached to them. £21 per session or £42 for the day. Lunch is not supplied\, but attendees can can bring their own lunch and socialise with others in the group as they eat.
URL:https://affc.org.uk/event/harlow-older-person-activity-group/2027-06-23/
END:VEVENT
BEGIN:VEVENT
DTSTART;TZID=Europe/London:20270630T100000
DTEND;TZID=Europe/London:20270630T153000
DTSTAMP:20260421T134032
CREATED:20250827T140616Z
LAST-MODIFIED:20250827T140616Z
UID:10000824-1814349600-1814369400@affc.org.uk
SUMMARY:Harlow Older Person Activity Group
DESCRIPTION:Every Wednesday: \nSt Andrew’s Church\nThe Stow\nCM20 3AF \nKeeping Active: 10am-12.30pm\nActive Minds: 1pm – 3.30pm \nMore details here or please contact activityGroups@affc.org.uk.  \nPlease note these groups have a charge attached to them. £21 per session or £42 for the day. Lunch is not supplied\, but attendees can can bring their own lunch and socialise with others in the group as they eat.
URL:https://affc.org.uk/event/harlow-older-person-activity-group/2027-06-30/
END:VEVENT
BEGIN:VEVENT
DTSTART;TZID=Europe/London:20270707T100000
DTEND;TZID=Europe/London:20270707T153000
DTSTAMP:20260421T134032
CREATED:20250827T140616Z
LAST-MODIFIED:20250827T140616Z
UID:10000825-1814954400-1814974200@affc.org.uk
SUMMARY:Harlow Older Person Activity Group
DESCRIPTION:Every Wednesday: \nSt Andrew’s Church\nThe Stow\nCM20 3AF \nKeeping Active: 10am-12.30pm\nActive Minds: 1pm – 3.30pm \nMore details here or please contact activityGroups@affc.org.uk.  \nPlease note these groups have a charge attached to them. £21 per session or £42 for the day. Lunch is not supplied\, but attendees can can bring their own lunch and socialise with others in the group as they eat.
URL:https://affc.org.uk/event/harlow-older-person-activity-group/2027-07-07/
END:VEVENT
BEGIN:VEVENT
DTSTART;TZID=Europe/London:20270714T100000
DTEND;TZID=Europe/London:20270714T153000
DTSTAMP:20260421T134032
CREATED:20250827T140616Z
LAST-MODIFIED:20250827T140616Z
UID:10000826-1815559200-1815579000@affc.org.uk
SUMMARY:Harlow Older Person Activity Group
DESCRIPTION:Every Wednesday: \nSt Andrew’s Church\nThe Stow\nCM20 3AF \nKeeping Active: 10am-12.30pm\nActive Minds: 1pm – 3.30pm \nMore details here or please contact activityGroups@affc.org.uk.  \nPlease note these groups have a charge attached to them. £21 per session or £42 for the day. Lunch is not supplied\, but attendees can can bring their own lunch and socialise with others in the group as they eat.
URL:https://affc.org.uk/event/harlow-older-person-activity-group/2027-07-14/
END:VEVENT
BEGIN:VEVENT
DTSTART;TZID=Europe/London:20270721T100000
DTEND;TZID=Europe/London:20270721T153000
DTSTAMP:20260421T134032
CREATED:20250827T140616Z
LAST-MODIFIED:20250827T140616Z
UID:10000827-1816164000-1816183800@affc.org.uk
SUMMARY:Harlow Older Person Activity Group
DESCRIPTION:Every Wednesday: \nSt Andrew’s Church\nThe Stow\nCM20 3AF \nKeeping Active: 10am-12.30pm\nActive Minds: 1pm – 3.30pm \nMore details here or please contact activityGroups@affc.org.uk.  \nPlease note these groups have a charge attached to them. £21 per session or £42 for the day. Lunch is not supplied\, but attendees can can bring their own lunch and socialise with others in the group as they eat.
URL:https://affc.org.uk/event/harlow-older-person-activity-group/2027-07-21/
END:VEVENT
BEGIN:VEVENT
DTSTART;TZID=Europe/London:20270728T100000
DTEND;TZID=Europe/London:20270728T153000
DTSTAMP:20260421T134032
CREATED:20250827T140616Z
LAST-MODIFIED:20250827T140616Z
UID:10000828-1816768800-1816788600@affc.org.uk
SUMMARY:Harlow Older Person Activity Group
DESCRIPTION:Every Wednesday: \nSt Andrew’s Church\nThe Stow\nCM20 3AF \nKeeping Active: 10am-12.30pm\nActive Minds: 1pm – 3.30pm \nMore details here or please contact activityGroups@affc.org.uk.  \nPlease note these groups have a charge attached to them. £21 per session or £42 for the day. Lunch is not supplied\, but attendees can can bring their own lunch and socialise with others in the group as they eat.
URL:https://affc.org.uk/event/harlow-older-person-activity-group/2027-07-28/
END:VEVENT
BEGIN:VEVENT
DTSTART;TZID=Europe/London:20270804T100000
DTEND;TZID=Europe/London:20270804T153000
DTSTAMP:20260421T134032
CREATED:20250827T140616Z
LAST-MODIFIED:20250827T140616Z
UID:10000829-1817373600-1817393400@affc.org.uk
SUMMARY:Harlow Older Person Activity Group
DESCRIPTION:Every Wednesday: \nSt Andrew’s Church\nThe Stow\nCM20 3AF \nKeeping Active: 10am-12.30pm\nActive Minds: 1pm – 3.30pm \nMore details here or please contact activityGroups@affc.org.uk.  \nPlease note these groups have a charge attached to them. £21 per session or £42 for the day. Lunch is not supplied\, but attendees can can bring their own lunch and socialise with others in the group as they eat.
URL:https://affc.org.uk/event/harlow-older-person-activity-group/2027-08-04/
END:VEVENT
BEGIN:VEVENT
DTSTART;TZID=Europe/London:20270811T100000
DTEND;TZID=Europe/London:20270811T153000
DTSTAMP:20260421T134032
CREATED:20250827T140616Z
LAST-MODIFIED:20250827T140616Z
UID:10000830-1817978400-1817998200@affc.org.uk
SUMMARY:Harlow Older Person Activity Group
DESCRIPTION:Every Wednesday: \nSt Andrew’s Church\nThe Stow\nCM20 3AF \nKeeping Active: 10am-12.30pm\nActive Minds: 1pm – 3.30pm \nMore details here or please contact activityGroups@affc.org.uk.  \nPlease note these groups have a charge attached to them. £21 per session or £42 for the day. Lunch is not supplied\, but attendees can can bring their own lunch and socialise with others in the group as they eat.
URL:https://affc.org.uk/event/harlow-older-person-activity-group/2027-08-11/
END:VEVENT
BEGIN:VEVENT
DTSTART;TZID=Europe/London:20270818T100000
DTEND;TZID=Europe/London:20270818T153000
DTSTAMP:20260421T134032
CREATED:20250827T140616Z
LAST-MODIFIED:20250827T140616Z
UID:10000831-1818583200-1818603000@affc.org.uk
SUMMARY:Harlow Older Person Activity Group
DESCRIPTION:Every Wednesday: \nSt Andrew’s Church\nThe Stow\nCM20 3AF \nKeeping Active: 10am-12.30pm\nActive Minds: 1pm – 3.30pm \nMore details here or please contact activityGroups@affc.org.uk.  \nPlease note these groups have a charge attached to them. £21 per session or £42 for the day. Lunch is not supplied\, but attendees can can bring their own lunch and socialise with others in the group as they eat.
URL:https://affc.org.uk/event/harlow-older-person-activity-group/2027-08-18/
END:VEVENT
BEGIN:VEVENT
DTSTART;TZID=Europe/London:20270825T100000
DTEND;TZID=Europe/London:20270825T153000
DTSTAMP:20260421T134032
CREATED:20250827T140616Z
LAST-MODIFIED:20250827T140616Z
UID:10000832-1819188000-1819207800@affc.org.uk
SUMMARY:Harlow Older Person Activity Group
DESCRIPTION:Every Wednesday: \nSt Andrew’s Church\nThe Stow\nCM20 3AF \nKeeping Active: 10am-12.30pm\nActive Minds: 1pm – 3.30pm \nMore details here or please contact activityGroups@affc.org.uk.  \nPlease note these groups have a charge attached to them. £21 per session or £42 for the day. Lunch is not supplied\, but attendees can can bring their own lunch and socialise with others in the group as they eat.
URL:https://affc.org.uk/event/harlow-older-person-activity-group/2027-08-25/
END:VEVENT
BEGIN:VEVENT
DTSTART;TZID=Europe/London:20270901T100000
DTEND;TZID=Europe/London:20270901T153000
DTSTAMP:20260421T134032
CREATED:20250827T140616Z
LAST-MODIFIED:20250827T140616Z
UID:10000833-1819792800-1819812600@affc.org.uk
SUMMARY:Harlow Older Person Activity Group
DESCRIPTION:Every Wednesday: \nSt Andrew’s Church\nThe Stow\nCM20 3AF \nKeeping Active: 10am-12.30pm\nActive Minds: 1pm – 3.30pm \nMore details here or please contact activityGroups@affc.org.uk.  \nPlease note these groups have a charge attached to them. £21 per session or £42 for the day. Lunch is not supplied\, but attendees can can bring their own lunch and socialise with others in the group as they eat.
URL:https://affc.org.uk/event/harlow-older-person-activity-group/2027-09-01/
END:VEVENT
BEGIN:VEVENT
DTSTART;TZID=Europe/London:20270908T100000
DTEND;TZID=Europe/London:20270908T153000
DTSTAMP:20260421T134032
CREATED:20250827T140616Z
LAST-MODIFIED:20250827T140616Z
UID:10000834-1820397600-1820417400@affc.org.uk
SUMMARY:Harlow Older Person Activity Group
DESCRIPTION:Every Wednesday: \nSt Andrew’s Church\nThe Stow\nCM20 3AF \nKeeping Active: 10am-12.30pm\nActive Minds: 1pm – 3.30pm \nMore details here or please contact activityGroups@affc.org.uk.  \nPlease note these groups have a charge attached to them. £21 per session or £42 for the day. Lunch is not supplied\, but attendees can can bring their own lunch and socialise with others in the group as they eat.
URL:https://affc.org.uk/event/harlow-older-person-activity-group/2027-09-08/
END:VEVENT
BEGIN:VEVENT
DTSTART;TZID=Europe/London:20270915T100000
DTEND;TZID=Europe/London:20270915T153000
DTSTAMP:20260421T134032
CREATED:20250827T140616Z
LAST-MODIFIED:20250827T140616Z
UID:10000835-1821002400-1821022200@affc.org.uk
SUMMARY:Harlow Older Person Activity Group
DESCRIPTION:Every Wednesday: \nSt Andrew’s Church\nThe Stow\nCM20 3AF \nKeeping Active: 10am-12.30pm\nActive Minds: 1pm – 3.30pm \nMore details here or please contact activityGroups@affc.org.uk.  \nPlease note these groups have a charge attached to them. £21 per session or £42 for the day. Lunch is not supplied\, but attendees can can bring their own lunch and socialise with others in the group as they eat.
URL:https://affc.org.uk/event/harlow-older-person-activity-group/2027-09-15/
END:VEVENT
BEGIN:VEVENT
DTSTART;TZID=Europe/London:20270922T100000
DTEND;TZID=Europe/London:20270922T153000
DTSTAMP:20260421T134032
CREATED:20250827T140616Z
LAST-MODIFIED:20250827T140616Z
UID:10000836-1821607200-1821627000@affc.org.uk
SUMMARY:Harlow Older Person Activity Group
DESCRIPTION:Every Wednesday: \nSt Andrew’s Church\nThe Stow\nCM20 3AF \nKeeping Active: 10am-12.30pm\nActive Minds: 1pm – 3.30pm \nMore details here or please contact activityGroups@affc.org.uk.  \nPlease note these groups have a charge attached to them. £21 per session or £42 for the day. Lunch is not supplied\, but attendees can can bring their own lunch and socialise with others in the group as they eat.
URL:https://affc.org.uk/event/harlow-older-person-activity-group/2027-09-22/
END:VEVENT
BEGIN:VEVENT
DTSTART;TZID=Europe/London:20270929T100000
DTEND;TZID=Europe/London:20270929T153000
DTSTAMP:20260421T134032
CREATED:20250827T140616Z
LAST-MODIFIED:20250827T140616Z
UID:10000837-1822212000-1822231800@affc.org.uk
SUMMARY:Harlow Older Person Activity Group
DESCRIPTION:Every Wednesday: \nSt Andrew’s Church\nThe Stow\nCM20 3AF \nKeeping Active: 10am-12.30pm\nActive Minds: 1pm – 3.30pm \nMore details here or please contact activityGroups@affc.org.uk.  \nPlease note these groups have a charge attached to them. £21 per session or £42 for the day. Lunch is not supplied\, but attendees can can bring their own lunch and socialise with others in the group as they eat.
URL:https://affc.org.uk/event/harlow-older-person-activity-group/2027-09-29/
END:VEVENT
BEGIN:VEVENT
DTSTART;TZID=Europe/London:20271006T100000
DTEND;TZID=Europe/London:20271006T153000
DTSTAMP:20260421T134032
CREATED:20250827T140616Z
LAST-MODIFIED:20250827T140616Z
UID:10000838-1822816800-1822836600@affc.org.uk
SUMMARY:Harlow Older Person Activity Group
DESCRIPTION:Every Wednesday: \nSt Andrew’s Church\nThe Stow\nCM20 3AF \nKeeping Active: 10am-12.30pm\nActive Minds: 1pm – 3.30pm \nMore details here or please contact activityGroups@affc.org.uk.  \nPlease note these groups have a charge attached to them. £21 per session or £42 for the day. Lunch is not supplied\, but attendees can can bring their own lunch and socialise with others in the group as they eat.
URL:https://affc.org.uk/event/harlow-older-person-activity-group/2027-10-06/
END:VEVENT
END:VCALENDAR