BEGIN:VCALENDAR
VERSION:2.0
PRODID:-//Action for Family Carers - ECPv6.15.20//NONSGML v1.0//EN
CALSCALE:GREGORIAN
METHOD:PUBLISH
X-ORIGINAL-URL:https://affc.org.uk
X-WR-CALDESC:Events for Action for Family Carers
REFRESH-INTERVAL;VALUE=DURATION:PT1H
X-Robots-Tag:noindex
X-PUBLISHED-TTL:PT1H
BEGIN:VTIMEZONE
TZID:Europe/London
BEGIN:DAYLIGHT
TZOFFSETFROM:+0000
TZOFFSETTO:+0100
TZNAME:BST
DTSTART:20270328T010000
END:DAYLIGHT
BEGIN:STANDARD
TZOFFSETFROM:+0100
TZOFFSETTO:+0000
TZNAME:GMT
DTSTART:20271031T010000
END:STANDARD
BEGIN:DAYLIGHT
TZOFFSETFROM:+0000
TZOFFSETTO:+0100
TZNAME:BST
DTSTART:20280326T010000
END:DAYLIGHT
BEGIN:STANDARD
TZOFFSETFROM:+0100
TZOFFSETTO:+0000
TZNAME:GMT
DTSTART:20281029T010000
END:STANDARD
BEGIN:DAYLIGHT
TZOFFSETFROM:+0000
TZOFFSETTO:+0100
TZNAME:BST
DTSTART:20290325T010000
END:DAYLIGHT
BEGIN:STANDARD
TZOFFSETFROM:+0100
TZOFFSETTO:+0000
TZNAME:GMT
DTSTART:20291028T010000
END:STANDARD
END:VTIMEZONE
BEGIN:VEVENT
DTSTART;TZID=Europe/London:20280223T100000
DTEND;TZID=Europe/London:20280223T153000
DTSTAMP:20260422T104314
CREATED:20250827T140616Z
LAST-MODIFIED:20250827T140616Z
UID:10000858-1834912800-1834932600@affc.org.uk
SUMMARY:Harlow Older Person Activity Group
DESCRIPTION:Every Wednesday: \nSt Andrew’s Church\nThe Stow\nCM20 3AF \nKeeping Active: 10am-12.30pm\nActive Minds: 1pm – 3.30pm \nMore details here or please contact activityGroups@affc.org.uk.  \nPlease note these groups have a charge attached to them. £21 per session or £42 for the day. Lunch is not supplied\, but attendees can can bring their own lunch and socialise with others in the group as they eat.
URL:https://affc.org.uk/event/harlow-older-person-activity-group/2028-02-23/
END:VEVENT
BEGIN:VEVENT
DTSTART;TZID=Europe/London:20280224T100000
DTEND;TZID=Europe/London:20280224T151500
DTSTAMP:20260422T104314
CREATED:20250827T140933Z
LAST-MODIFIED:20250827T140933Z
UID:10001119-1834999200-1835018100@affc.org.uk
SUMMARY:Epping Older Person Activity Group
DESCRIPTION:Every Thursday: \nJack Silley Pavillion\nEpping\nCM16 6SS\n(reached via Tidy’s Lane) \nKeeping Active: 10am-12.30pm\nActive Minds: 12.45pm – 3.15pm \nMore details here or please contact activityGroups@affc.org.uk.  \nPlease note these groups have a charge attached to them. £21 per session or £42 for the day. Lunch is not supplied\, but attendees can can bring their own lunch and socialise with others in the group as they eat.
URL:https://affc.org.uk/event/epping-older-person-activity-group/2028-02-24/
CATEGORIES:Activity Group
END:VEVENT
BEGIN:VEVENT
DTSTART;TZID=Europe/London:20280301T100000
DTEND;TZID=Europe/London:20280301T153000
DTSTAMP:20260422T104314
CREATED:20250827T140616Z
LAST-MODIFIED:20250827T140616Z
UID:10000859-1835517600-1835537400@affc.org.uk
SUMMARY:Harlow Older Person Activity Group
DESCRIPTION:Every Wednesday: \nSt Andrew’s Church\nThe Stow\nCM20 3AF \nKeeping Active: 10am-12.30pm\nActive Minds: 1pm – 3.30pm \nMore details here or please contact activityGroups@affc.org.uk.  \nPlease note these groups have a charge attached to them. £21 per session or £42 for the day. Lunch is not supplied\, but attendees can can bring their own lunch and socialise with others in the group as they eat.
URL:https://affc.org.uk/event/harlow-older-person-activity-group/2028-03-01/
END:VEVENT
BEGIN:VEVENT
DTSTART;TZID=Europe/London:20280302T100000
DTEND;TZID=Europe/London:20280302T151500
DTSTAMP:20260422T104314
CREATED:20250827T140933Z
LAST-MODIFIED:20250827T140933Z
UID:10001120-1835604000-1835622900@affc.org.uk
SUMMARY:Epping Older Person Activity Group
DESCRIPTION:Every Thursday: \nJack Silley Pavillion\nEpping\nCM16 6SS\n(reached via Tidy’s Lane) \nKeeping Active: 10am-12.30pm\nActive Minds: 12.45pm – 3.15pm \nMore details here or please contact activityGroups@affc.org.uk.  \nPlease note these groups have a charge attached to them. £21 per session or £42 for the day. Lunch is not supplied\, but attendees can can bring their own lunch and socialise with others in the group as they eat.
URL:https://affc.org.uk/event/epping-older-person-activity-group/2028-03-02/
CATEGORIES:Activity Group
END:VEVENT
BEGIN:VEVENT
DTSTART;TZID=Europe/London:20280308T100000
DTEND;TZID=Europe/London:20280308T153000
DTSTAMP:20260422T104314
CREATED:20250827T140616Z
LAST-MODIFIED:20250827T140616Z
UID:10000860-1836122400-1836142200@affc.org.uk
SUMMARY:Harlow Older Person Activity Group
DESCRIPTION:Every Wednesday: \nSt Andrew’s Church\nThe Stow\nCM20 3AF \nKeeping Active: 10am-12.30pm\nActive Minds: 1pm – 3.30pm \nMore details here or please contact activityGroups@affc.org.uk.  \nPlease note these groups have a charge attached to them. £21 per session or £42 for the day. Lunch is not supplied\, but attendees can can bring their own lunch and socialise with others in the group as they eat.
URL:https://affc.org.uk/event/harlow-older-person-activity-group/2028-03-08/
END:VEVENT
BEGIN:VEVENT
DTSTART;TZID=Europe/London:20280309T100000
DTEND;TZID=Europe/London:20280309T151500
DTSTAMP:20260422T104314
CREATED:20250827T140933Z
LAST-MODIFIED:20250827T140933Z
UID:10001121-1836208800-1836227700@affc.org.uk
SUMMARY:Epping Older Person Activity Group
DESCRIPTION:Every Thursday: \nJack Silley Pavillion\nEpping\nCM16 6SS\n(reached via Tidy’s Lane) \nKeeping Active: 10am-12.30pm\nActive Minds: 12.45pm – 3.15pm \nMore details here or please contact activityGroups@affc.org.uk.  \nPlease note these groups have a charge attached to them. £21 per session or £42 for the day. Lunch is not supplied\, but attendees can can bring their own lunch and socialise with others in the group as they eat.
URL:https://affc.org.uk/event/epping-older-person-activity-group/2028-03-09/
CATEGORIES:Activity Group
END:VEVENT
BEGIN:VEVENT
DTSTART;TZID=Europe/London:20280315T100000
DTEND;TZID=Europe/London:20280315T153000
DTSTAMP:20260422T104314
CREATED:20250827T140616Z
LAST-MODIFIED:20250827T140616Z
UID:10000861-1836727200-1836747000@affc.org.uk
SUMMARY:Harlow Older Person Activity Group
DESCRIPTION:Every Wednesday: \nSt Andrew’s Church\nThe Stow\nCM20 3AF \nKeeping Active: 10am-12.30pm\nActive Minds: 1pm – 3.30pm \nMore details here or please contact activityGroups@affc.org.uk.  \nPlease note these groups have a charge attached to them. £21 per session or £42 for the day. Lunch is not supplied\, but attendees can can bring their own lunch and socialise with others in the group as they eat.
URL:https://affc.org.uk/event/harlow-older-person-activity-group/2028-03-15/
END:VEVENT
BEGIN:VEVENT
DTSTART;TZID=Europe/London:20280316T100000
DTEND;TZID=Europe/London:20280316T151500
DTSTAMP:20260422T104314
CREATED:20250827T140933Z
LAST-MODIFIED:20250827T140933Z
UID:10001122-1836813600-1836832500@affc.org.uk
SUMMARY:Epping Older Person Activity Group
DESCRIPTION:Every Thursday: \nJack Silley Pavillion\nEpping\nCM16 6SS\n(reached via Tidy’s Lane) \nKeeping Active: 10am-12.30pm\nActive Minds: 12.45pm – 3.15pm \nMore details here or please contact activityGroups@affc.org.uk.  \nPlease note these groups have a charge attached to them. £21 per session or £42 for the day. Lunch is not supplied\, but attendees can can bring their own lunch and socialise with others in the group as they eat.
URL:https://affc.org.uk/event/epping-older-person-activity-group/2028-03-16/
CATEGORIES:Activity Group
END:VEVENT
BEGIN:VEVENT
DTSTART;TZID=Europe/London:20280322T100000
DTEND;TZID=Europe/London:20280322T153000
DTSTAMP:20260422T104314
CREATED:20250827T140616Z
LAST-MODIFIED:20250827T140616Z
UID:10000862-1837332000-1837351800@affc.org.uk
SUMMARY:Harlow Older Person Activity Group
DESCRIPTION:Every Wednesday: \nSt Andrew’s Church\nThe Stow\nCM20 3AF \nKeeping Active: 10am-12.30pm\nActive Minds: 1pm – 3.30pm \nMore details here or please contact activityGroups@affc.org.uk.  \nPlease note these groups have a charge attached to them. £21 per session or £42 for the day. Lunch is not supplied\, but attendees can can bring their own lunch and socialise with others in the group as they eat.
URL:https://affc.org.uk/event/harlow-older-person-activity-group/2028-03-22/
END:VEVENT
BEGIN:VEVENT
DTSTART;TZID=Europe/London:20280323T100000
DTEND;TZID=Europe/London:20280323T151500
DTSTAMP:20260422T104314
CREATED:20250827T140933Z
LAST-MODIFIED:20250827T140933Z
UID:10001123-1837418400-1837437300@affc.org.uk
SUMMARY:Epping Older Person Activity Group
DESCRIPTION:Every Thursday: \nJack Silley Pavillion\nEpping\nCM16 6SS\n(reached via Tidy’s Lane) \nKeeping Active: 10am-12.30pm\nActive Minds: 12.45pm – 3.15pm \nMore details here or please contact activityGroups@affc.org.uk.  \nPlease note these groups have a charge attached to them. £21 per session or £42 for the day. Lunch is not supplied\, but attendees can can bring their own lunch and socialise with others in the group as they eat.
URL:https://affc.org.uk/event/epping-older-person-activity-group/2028-03-23/
CATEGORIES:Activity Group
END:VEVENT
BEGIN:VEVENT
DTSTART;TZID=Europe/London:20280329T100000
DTEND;TZID=Europe/London:20280329T153000
DTSTAMP:20260422T104314
CREATED:20250827T140616Z
LAST-MODIFIED:20250827T140616Z
UID:10000863-1837936800-1837956600@affc.org.uk
SUMMARY:Harlow Older Person Activity Group
DESCRIPTION:Every Wednesday: \nSt Andrew’s Church\nThe Stow\nCM20 3AF \nKeeping Active: 10am-12.30pm\nActive Minds: 1pm – 3.30pm \nMore details here or please contact activityGroups@affc.org.uk.  \nPlease note these groups have a charge attached to them. £21 per session or £42 for the day. Lunch is not supplied\, but attendees can can bring their own lunch and socialise with others in the group as they eat.
URL:https://affc.org.uk/event/harlow-older-person-activity-group/2028-03-29/
END:VEVENT
BEGIN:VEVENT
DTSTART;TZID=Europe/London:20280330T100000
DTEND;TZID=Europe/London:20280330T151500
DTSTAMP:20260422T104314
CREATED:20250827T140933Z
LAST-MODIFIED:20250827T140933Z
UID:10001124-1838023200-1838042100@affc.org.uk
SUMMARY:Epping Older Person Activity Group
DESCRIPTION:Every Thursday: \nJack Silley Pavillion\nEpping\nCM16 6SS\n(reached via Tidy’s Lane) \nKeeping Active: 10am-12.30pm\nActive Minds: 12.45pm – 3.15pm \nMore details here or please contact activityGroups@affc.org.uk.  \nPlease note these groups have a charge attached to them. £21 per session or £42 for the day. Lunch is not supplied\, but attendees can can bring their own lunch and socialise with others in the group as they eat.
URL:https://affc.org.uk/event/epping-older-person-activity-group/2028-03-30/
CATEGORIES:Activity Group
END:VEVENT
BEGIN:VEVENT
DTSTART;TZID=Europe/London:20280405T100000
DTEND;TZID=Europe/London:20280405T153000
DTSTAMP:20260422T104314
CREATED:20250827T140616Z
LAST-MODIFIED:20250827T140616Z
UID:10000864-1838541600-1838561400@affc.org.uk
SUMMARY:Harlow Older Person Activity Group
DESCRIPTION:Every Wednesday: \nSt Andrew’s Church\nThe Stow\nCM20 3AF \nKeeping Active: 10am-12.30pm\nActive Minds: 1pm – 3.30pm \nMore details here or please contact activityGroups@affc.org.uk.  \nPlease note these groups have a charge attached to them. £21 per session or £42 for the day. Lunch is not supplied\, but attendees can can bring their own lunch and socialise with others in the group as they eat.
URL:https://affc.org.uk/event/harlow-older-person-activity-group/2028-04-05/
END:VEVENT
BEGIN:VEVENT
DTSTART;TZID=Europe/London:20280406T100000
DTEND;TZID=Europe/London:20280406T151500
DTSTAMP:20260422T104314
CREATED:20250827T140933Z
LAST-MODIFIED:20250827T140933Z
UID:10001125-1838628000-1838646900@affc.org.uk
SUMMARY:Epping Older Person Activity Group
DESCRIPTION:Every Thursday: \nJack Silley Pavillion\nEpping\nCM16 6SS\n(reached via Tidy’s Lane) \nKeeping Active: 10am-12.30pm\nActive Minds: 12.45pm – 3.15pm \nMore details here or please contact activityGroups@affc.org.uk.  \nPlease note these groups have a charge attached to them. £21 per session or £42 for the day. Lunch is not supplied\, but attendees can can bring their own lunch and socialise with others in the group as they eat.
URL:https://affc.org.uk/event/epping-older-person-activity-group/2028-04-06/
CATEGORIES:Activity Group
END:VEVENT
BEGIN:VEVENT
DTSTART;TZID=Europe/London:20280412T100000
DTEND;TZID=Europe/London:20280412T153000
DTSTAMP:20260422T104314
CREATED:20250827T140616Z
LAST-MODIFIED:20250827T140616Z
UID:10000865-1839146400-1839166200@affc.org.uk
SUMMARY:Harlow Older Person Activity Group
DESCRIPTION:Every Wednesday: \nSt Andrew’s Church\nThe Stow\nCM20 3AF \nKeeping Active: 10am-12.30pm\nActive Minds: 1pm – 3.30pm \nMore details here or please contact activityGroups@affc.org.uk.  \nPlease note these groups have a charge attached to them. £21 per session or £42 for the day. Lunch is not supplied\, but attendees can can bring their own lunch and socialise with others in the group as they eat.
URL:https://affc.org.uk/event/harlow-older-person-activity-group/2028-04-12/
END:VEVENT
BEGIN:VEVENT
DTSTART;TZID=Europe/London:20280413T100000
DTEND;TZID=Europe/London:20280413T151500
DTSTAMP:20260422T104314
CREATED:20250827T140933Z
LAST-MODIFIED:20250827T140933Z
UID:10001126-1839232800-1839251700@affc.org.uk
SUMMARY:Epping Older Person Activity Group
DESCRIPTION:Every Thursday: \nJack Silley Pavillion\nEpping\nCM16 6SS\n(reached via Tidy’s Lane) \nKeeping Active: 10am-12.30pm\nActive Minds: 12.45pm – 3.15pm \nMore details here or please contact activityGroups@affc.org.uk.  \nPlease note these groups have a charge attached to them. £21 per session or £42 for the day. Lunch is not supplied\, but attendees can can bring their own lunch and socialise with others in the group as they eat.
URL:https://affc.org.uk/event/epping-older-person-activity-group/2028-04-13/
CATEGORIES:Activity Group
END:VEVENT
BEGIN:VEVENT
DTSTART;TZID=Europe/London:20280419T100000
DTEND;TZID=Europe/London:20280419T153000
DTSTAMP:20260422T104314
CREATED:20250827T140616Z
LAST-MODIFIED:20250827T140616Z
UID:10000866-1839751200-1839771000@affc.org.uk
SUMMARY:Harlow Older Person Activity Group
DESCRIPTION:Every Wednesday: \nSt Andrew’s Church\nThe Stow\nCM20 3AF \nKeeping Active: 10am-12.30pm\nActive Minds: 1pm – 3.30pm \nMore details here or please contact activityGroups@affc.org.uk.  \nPlease note these groups have a charge attached to them. £21 per session or £42 for the day. Lunch is not supplied\, but attendees can can bring their own lunch and socialise with others in the group as they eat.
URL:https://affc.org.uk/event/harlow-older-person-activity-group/2028-04-19/
END:VEVENT
BEGIN:VEVENT
DTSTART;TZID=Europe/London:20280420T100000
DTEND;TZID=Europe/London:20280420T151500
DTSTAMP:20260422T104314
CREATED:20250827T140933Z
LAST-MODIFIED:20250827T140933Z
UID:10001127-1839837600-1839856500@affc.org.uk
SUMMARY:Epping Older Person Activity Group
DESCRIPTION:Every Thursday: \nJack Silley Pavillion\nEpping\nCM16 6SS\n(reached via Tidy’s Lane) \nKeeping Active: 10am-12.30pm\nActive Minds: 12.45pm – 3.15pm \nMore details here or please contact activityGroups@affc.org.uk.  \nPlease note these groups have a charge attached to them. £21 per session or £42 for the day. Lunch is not supplied\, but attendees can can bring their own lunch and socialise with others in the group as they eat.
URL:https://affc.org.uk/event/epping-older-person-activity-group/2028-04-20/
CATEGORIES:Activity Group
END:VEVENT
BEGIN:VEVENT
DTSTART;TZID=Europe/London:20280426T100000
DTEND;TZID=Europe/London:20280426T153000
DTSTAMP:20260422T104314
CREATED:20250827T140616Z
LAST-MODIFIED:20250827T140616Z
UID:10000867-1840356000-1840375800@affc.org.uk
SUMMARY:Harlow Older Person Activity Group
DESCRIPTION:Every Wednesday: \nSt Andrew’s Church\nThe Stow\nCM20 3AF \nKeeping Active: 10am-12.30pm\nActive Minds: 1pm – 3.30pm \nMore details here or please contact activityGroups@affc.org.uk.  \nPlease note these groups have a charge attached to them. £21 per session or £42 for the day. Lunch is not supplied\, but attendees can can bring their own lunch and socialise with others in the group as they eat.
URL:https://affc.org.uk/event/harlow-older-person-activity-group/2028-04-26/
END:VEVENT
BEGIN:VEVENT
DTSTART;TZID=Europe/London:20280427T100000
DTEND;TZID=Europe/London:20280427T151500
DTSTAMP:20260422T104314
CREATED:20250827T140933Z
LAST-MODIFIED:20250827T140933Z
UID:10001128-1840442400-1840461300@affc.org.uk
SUMMARY:Epping Older Person Activity Group
DESCRIPTION:Every Thursday: \nJack Silley Pavillion\nEpping\nCM16 6SS\n(reached via Tidy’s Lane) \nKeeping Active: 10am-12.30pm\nActive Minds: 12.45pm – 3.15pm \nMore details here or please contact activityGroups@affc.org.uk.  \nPlease note these groups have a charge attached to them. £21 per session or £42 for the day. Lunch is not supplied\, but attendees can can bring their own lunch and socialise with others in the group as they eat.
URL:https://affc.org.uk/event/epping-older-person-activity-group/2028-04-27/
CATEGORIES:Activity Group
END:VEVENT
BEGIN:VEVENT
DTSTART;TZID=Europe/London:20280503T100000
DTEND;TZID=Europe/London:20280503T153000
DTSTAMP:20260422T104314
CREATED:20250827T140616Z
LAST-MODIFIED:20250827T140616Z
UID:10000868-1840960800-1840980600@affc.org.uk
SUMMARY:Harlow Older Person Activity Group
DESCRIPTION:Every Wednesday: \nSt Andrew’s Church\nThe Stow\nCM20 3AF \nKeeping Active: 10am-12.30pm\nActive Minds: 1pm – 3.30pm \nMore details here or please contact activityGroups@affc.org.uk.  \nPlease note these groups have a charge attached to them. £21 per session or £42 for the day. Lunch is not supplied\, but attendees can can bring their own lunch and socialise with others in the group as they eat.
URL:https://affc.org.uk/event/harlow-older-person-activity-group/2028-05-03/
END:VEVENT
BEGIN:VEVENT
DTSTART;TZID=Europe/London:20280504T100000
DTEND;TZID=Europe/London:20280504T151500
DTSTAMP:20260422T104314
CREATED:20250827T140933Z
LAST-MODIFIED:20250827T140933Z
UID:10001129-1841047200-1841066100@affc.org.uk
SUMMARY:Epping Older Person Activity Group
DESCRIPTION:Every Thursday: \nJack Silley Pavillion\nEpping\nCM16 6SS\n(reached via Tidy’s Lane) \nKeeping Active: 10am-12.30pm\nActive Minds: 12.45pm – 3.15pm \nMore details here or please contact activityGroups@affc.org.uk.  \nPlease note these groups have a charge attached to them. £21 per session or £42 for the day. Lunch is not supplied\, but attendees can can bring their own lunch and socialise with others in the group as they eat.
URL:https://affc.org.uk/event/epping-older-person-activity-group/2028-05-04/
CATEGORIES:Activity Group
END:VEVENT
BEGIN:VEVENT
DTSTART;TZID=Europe/London:20280510T100000
DTEND;TZID=Europe/London:20280510T153000
DTSTAMP:20260422T104314
CREATED:20250827T140616Z
LAST-MODIFIED:20250827T140616Z
UID:10000869-1841565600-1841585400@affc.org.uk
SUMMARY:Harlow Older Person Activity Group
DESCRIPTION:Every Wednesday: \nSt Andrew’s Church\nThe Stow\nCM20 3AF \nKeeping Active: 10am-12.30pm\nActive Minds: 1pm – 3.30pm \nMore details here or please contact activityGroups@affc.org.uk.  \nPlease note these groups have a charge attached to them. £21 per session or £42 for the day. Lunch is not supplied\, but attendees can can bring their own lunch and socialise with others in the group as they eat.
URL:https://affc.org.uk/event/harlow-older-person-activity-group/2028-05-10/
END:VEVENT
BEGIN:VEVENT
DTSTART;TZID=Europe/London:20280511T100000
DTEND;TZID=Europe/London:20280511T151500
DTSTAMP:20260422T104314
CREATED:20250827T140933Z
LAST-MODIFIED:20250827T140933Z
UID:10001130-1841652000-1841670900@affc.org.uk
SUMMARY:Epping Older Person Activity Group
DESCRIPTION:Every Thursday: \nJack Silley Pavillion\nEpping\nCM16 6SS\n(reached via Tidy’s Lane) \nKeeping Active: 10am-12.30pm\nActive Minds: 12.45pm – 3.15pm \nMore details here or please contact activityGroups@affc.org.uk.  \nPlease note these groups have a charge attached to them. £21 per session or £42 for the day. Lunch is not supplied\, but attendees can can bring their own lunch and socialise with others in the group as they eat.
URL:https://affc.org.uk/event/epping-older-person-activity-group/2028-05-11/
CATEGORIES:Activity Group
END:VEVENT
BEGIN:VEVENT
DTSTART;TZID=Europe/London:20280517T100000
DTEND;TZID=Europe/London:20280517T153000
DTSTAMP:20260422T104314
CREATED:20250827T140616Z
LAST-MODIFIED:20250827T140616Z
UID:10000870-1842170400-1842190200@affc.org.uk
SUMMARY:Harlow Older Person Activity Group
DESCRIPTION:Every Wednesday: \nSt Andrew’s Church\nThe Stow\nCM20 3AF \nKeeping Active: 10am-12.30pm\nActive Minds: 1pm – 3.30pm \nMore details here or please contact activityGroups@affc.org.uk.  \nPlease note these groups have a charge attached to them. £21 per session or £42 for the day. Lunch is not supplied\, but attendees can can bring their own lunch and socialise with others in the group as they eat.
URL:https://affc.org.uk/event/harlow-older-person-activity-group/2028-05-17/
END:VEVENT
BEGIN:VEVENT
DTSTART;TZID=Europe/London:20280518T100000
DTEND;TZID=Europe/London:20280518T151500
DTSTAMP:20260422T104314
CREATED:20250827T140933Z
LAST-MODIFIED:20250827T140933Z
UID:10001131-1842256800-1842275700@affc.org.uk
SUMMARY:Epping Older Person Activity Group
DESCRIPTION:Every Thursday: \nJack Silley Pavillion\nEpping\nCM16 6SS\n(reached via Tidy’s Lane) \nKeeping Active: 10am-12.30pm\nActive Minds: 12.45pm – 3.15pm \nMore details here or please contact activityGroups@affc.org.uk.  \nPlease note these groups have a charge attached to them. £21 per session or £42 for the day. Lunch is not supplied\, but attendees can can bring their own lunch and socialise with others in the group as they eat.
URL:https://affc.org.uk/event/epping-older-person-activity-group/2028-05-18/
CATEGORIES:Activity Group
END:VEVENT
BEGIN:VEVENT
DTSTART;TZID=Europe/London:20280524T100000
DTEND;TZID=Europe/London:20280524T153000
DTSTAMP:20260422T104314
CREATED:20250827T140616Z
LAST-MODIFIED:20250827T140616Z
UID:10000871-1842775200-1842795000@affc.org.uk
SUMMARY:Harlow Older Person Activity Group
DESCRIPTION:Every Wednesday: \nSt Andrew’s Church\nThe Stow\nCM20 3AF \nKeeping Active: 10am-12.30pm\nActive Minds: 1pm – 3.30pm \nMore details here or please contact activityGroups@affc.org.uk.  \nPlease note these groups have a charge attached to them. £21 per session or £42 for the day. Lunch is not supplied\, but attendees can can bring their own lunch and socialise with others in the group as they eat.
URL:https://affc.org.uk/event/harlow-older-person-activity-group/2028-05-24/
END:VEVENT
BEGIN:VEVENT
DTSTART;TZID=Europe/London:20280525T100000
DTEND;TZID=Europe/London:20280525T151500
DTSTAMP:20260422T104314
CREATED:20250827T140933Z
LAST-MODIFIED:20250827T140933Z
UID:10001132-1842861600-1842880500@affc.org.uk
SUMMARY:Epping Older Person Activity Group
DESCRIPTION:Every Thursday: \nJack Silley Pavillion\nEpping\nCM16 6SS\n(reached via Tidy’s Lane) \nKeeping Active: 10am-12.30pm\nActive Minds: 12.45pm – 3.15pm \nMore details here or please contact activityGroups@affc.org.uk.  \nPlease note these groups have a charge attached to them. £21 per session or £42 for the day. Lunch is not supplied\, but attendees can can bring their own lunch and socialise with others in the group as they eat.
URL:https://affc.org.uk/event/epping-older-person-activity-group/2028-05-25/
CATEGORIES:Activity Group
END:VEVENT
BEGIN:VEVENT
DTSTART;TZID=Europe/London:20280531T100000
DTEND;TZID=Europe/London:20280531T153000
DTSTAMP:20260422T104314
CREATED:20250827T140616Z
LAST-MODIFIED:20250827T140616Z
UID:10000872-1843380000-1843399800@affc.org.uk
SUMMARY:Harlow Older Person Activity Group
DESCRIPTION:Every Wednesday: \nSt Andrew’s Church\nThe Stow\nCM20 3AF \nKeeping Active: 10am-12.30pm\nActive Minds: 1pm – 3.30pm \nMore details here or please contact activityGroups@affc.org.uk.  \nPlease note these groups have a charge attached to them. £21 per session or £42 for the day. Lunch is not supplied\, but attendees can can bring their own lunch and socialise with others in the group as they eat.
URL:https://affc.org.uk/event/harlow-older-person-activity-group/2028-05-31/
END:VEVENT
BEGIN:VEVENT
DTSTART;TZID=Europe/London:20280601T100000
DTEND;TZID=Europe/London:20280601T151500
DTSTAMP:20260422T104314
CREATED:20250827T140933Z
LAST-MODIFIED:20250827T140933Z
UID:10001133-1843466400-1843485300@affc.org.uk
SUMMARY:Epping Older Person Activity Group
DESCRIPTION:Every Thursday: \nJack Silley Pavillion\nEpping\nCM16 6SS\n(reached via Tidy’s Lane) \nKeeping Active: 10am-12.30pm\nActive Minds: 12.45pm – 3.15pm \nMore details here or please contact activityGroups@affc.org.uk.  \nPlease note these groups have a charge attached to them. £21 per session or £42 for the day. Lunch is not supplied\, but attendees can can bring their own lunch and socialise with others in the group as they eat.
URL:https://affc.org.uk/event/epping-older-person-activity-group/2028-06-01/
CATEGORIES:Activity Group
END:VEVENT
END:VCALENDAR