BEGIN:VCALENDAR
VERSION:2.0
PRODID:-//Action for Family Carers - ECPv6.15.20//NONSGML v1.0//EN
CALSCALE:GREGORIAN
METHOD:PUBLISH
X-WR-CALNAME:Action for Family Carers
X-ORIGINAL-URL:https://affc.org.uk
X-WR-CALDESC:Events for Action for Family Carers
REFRESH-INTERVAL;VALUE=DURATION:PT1H
X-Robots-Tag:noindex
X-PUBLISHED-TTL:PT1H
BEGIN:VTIMEZONE
TZID:Europe/London
BEGIN:DAYLIGHT
TZOFFSETFROM:+0000
TZOFFSETTO:+0100
TZNAME:BST
DTSTART:20290325T010000
END:DAYLIGHT
BEGIN:STANDARD
TZOFFSETFROM:+0100
TZOFFSETTO:+0000
TZNAME:GMT
DTSTART:20291028T010000
END:STANDARD
BEGIN:DAYLIGHT
TZOFFSETFROM:+0000
TZOFFSETTO:+0100
TZNAME:BST
DTSTART:20300331T010000
END:DAYLIGHT
BEGIN:STANDARD
TZOFFSETFROM:+0100
TZOFFSETTO:+0000
TZNAME:GMT
DTSTART:20301027T010000
END:STANDARD
BEGIN:DAYLIGHT
TZOFFSETFROM:+0000
TZOFFSETTO:+0100
TZNAME:BST
DTSTART:20310330T010000
END:DAYLIGHT
BEGIN:STANDARD
TZOFFSETFROM:+0100
TZOFFSETTO:+0000
TZNAME:GMT
DTSTART:20311026T010000
END:STANDARD
BEGIN:DAYLIGHT
TZOFFSETFROM:+0000
TZOFFSETTO:+0100
TZNAME:BST
DTSTART:20320328T010000
END:DAYLIGHT
BEGIN:STANDARD
TZOFFSETFROM:+0100
TZOFFSETTO:+0000
TZNAME:GMT
DTSTART:20321031T010000
END:STANDARD
END:VTIMEZONE
BEGIN:VEVENT
DTSTART;TZID=Europe/London:20301204T100000
DTEND;TZID=Europe/London:20301204T153000
DTSTAMP:20260423T212310
CREATED:20250827T140616Z
LAST-MODIFIED:20250827T140616Z
UID:10001547-1922608800-1922628600@affc.org.uk
SUMMARY:Harlow Older Person Activity Group
DESCRIPTION:Every Wednesday: \nSt Andrew’s Church\nThe Stow\nCM20 3AF \nKeeping Active: 10am-12.30pm\nActive Minds: 1pm – 3.30pm \nMore details here or please contact activityGroups@affc.org.uk.  \nPlease note these groups have a charge attached to them. £21 per session or £42 for the day. Lunch is not supplied\, but attendees can can bring their own lunch and socialise with others in the group as they eat.
URL:https://affc.org.uk/event/harlow-older-person-activity-group/2030-12-04/
END:VEVENT
BEGIN:VEVENT
DTSTART;TZID=Europe/London:20301205T100000
DTEND;TZID=Europe/London:20301205T151500
DTSTAMP:20260423T212310
CREATED:20250827T140933Z
LAST-MODIFIED:20250827T140933Z
UID:10001574-1922695200-1922714100@affc.org.uk
SUMMARY:Epping Older Person Activity Group
DESCRIPTION:Every Thursday: \nJack Silley Pavillion\nEpping\nCM16 6SS\n(reached via Tidy’s Lane) \nKeeping Active: 10am-12.30pm\nActive Minds: 12.45pm – 3.15pm \nMore details here or please contact activityGroups@affc.org.uk.  \nPlease note these groups have a charge attached to them. £21 per session or £42 for the day. Lunch is not supplied\, but attendees can can bring their own lunch and socialise with others in the group as they eat.
URL:https://affc.org.uk/event/epping-older-person-activity-group/2030-12-05/
CATEGORIES:Activity Group
END:VEVENT
BEGIN:VEVENT
DTSTART;TZID=Europe/London:20301211T100000
DTEND;TZID=Europe/London:20301211T153000
DTSTAMP:20260423T212310
CREATED:20250827T140616Z
LAST-MODIFIED:20250827T140616Z
UID:10001548-1923213600-1923233400@affc.org.uk
SUMMARY:Harlow Older Person Activity Group
DESCRIPTION:Every Wednesday: \nSt Andrew’s Church\nThe Stow\nCM20 3AF \nKeeping Active: 10am-12.30pm\nActive Minds: 1pm – 3.30pm \nMore details here or please contact activityGroups@affc.org.uk.  \nPlease note these groups have a charge attached to them. £21 per session or £42 for the day. Lunch is not supplied\, but attendees can can bring their own lunch and socialise with others in the group as they eat.
URL:https://affc.org.uk/event/harlow-older-person-activity-group/2030-12-11/
END:VEVENT
BEGIN:VEVENT
DTSTART;TZID=Europe/London:20301212T100000
DTEND;TZID=Europe/London:20301212T151500
DTSTAMP:20260423T212310
CREATED:20250827T140933Z
LAST-MODIFIED:20250827T140933Z
UID:10001575-1923300000-1923318900@affc.org.uk
SUMMARY:Epping Older Person Activity Group
DESCRIPTION:Every Thursday: \nJack Silley Pavillion\nEpping\nCM16 6SS\n(reached via Tidy’s Lane) \nKeeping Active: 10am-12.30pm\nActive Minds: 12.45pm – 3.15pm \nMore details here or please contact activityGroups@affc.org.uk.  \nPlease note these groups have a charge attached to them. £21 per session or £42 for the day. Lunch is not supplied\, but attendees can can bring their own lunch and socialise with others in the group as they eat.
URL:https://affc.org.uk/event/epping-older-person-activity-group/2030-12-12/
CATEGORIES:Activity Group
END:VEVENT
BEGIN:VEVENT
DTSTART;TZID=Europe/London:20301218T100000
DTEND;TZID=Europe/London:20301218T153000
DTSTAMP:20260423T212310
CREATED:20250827T140616Z
LAST-MODIFIED:20250827T140616Z
UID:10001549-1923818400-1923838200@affc.org.uk
SUMMARY:Harlow Older Person Activity Group
DESCRIPTION:Every Wednesday: \nSt Andrew’s Church\nThe Stow\nCM20 3AF \nKeeping Active: 10am-12.30pm\nActive Minds: 1pm – 3.30pm \nMore details here or please contact activityGroups@affc.org.uk.  \nPlease note these groups have a charge attached to them. £21 per session or £42 for the day. Lunch is not supplied\, but attendees can can bring their own lunch and socialise with others in the group as they eat.
URL:https://affc.org.uk/event/harlow-older-person-activity-group/2030-12-18/
END:VEVENT
BEGIN:VEVENT
DTSTART;TZID=Europe/London:20301219T100000
DTEND;TZID=Europe/London:20301219T151500
DTSTAMP:20260423T212310
CREATED:20250827T140933Z
LAST-MODIFIED:20250827T140933Z
UID:10001576-1923904800-1923923700@affc.org.uk
SUMMARY:Epping Older Person Activity Group
DESCRIPTION:Every Thursday: \nJack Silley Pavillion\nEpping\nCM16 6SS\n(reached via Tidy’s Lane) \nKeeping Active: 10am-12.30pm\nActive Minds: 12.45pm – 3.15pm \nMore details here or please contact activityGroups@affc.org.uk.  \nPlease note these groups have a charge attached to them. £21 per session or £42 for the day. Lunch is not supplied\, but attendees can can bring their own lunch and socialise with others in the group as they eat.
URL:https://affc.org.uk/event/epping-older-person-activity-group/2030-12-19/
CATEGORIES:Activity Group
END:VEVENT
BEGIN:VEVENT
DTSTART;TZID=Europe/London:20301225T100000
DTEND;TZID=Europe/London:20301225T153000
DTSTAMP:20260423T212310
CREATED:20250827T140616Z
LAST-MODIFIED:20250827T140616Z
UID:10001550-1924423200-1924443000@affc.org.uk
SUMMARY:Harlow Older Person Activity Group
DESCRIPTION:Every Wednesday: \nSt Andrew’s Church\nThe Stow\nCM20 3AF \nKeeping Active: 10am-12.30pm\nActive Minds: 1pm – 3.30pm \nMore details here or please contact activityGroups@affc.org.uk.  \nPlease note these groups have a charge attached to them. £21 per session or £42 for the day. Lunch is not supplied\, but attendees can can bring their own lunch and socialise with others in the group as they eat.
URL:https://affc.org.uk/event/harlow-older-person-activity-group/2030-12-25/
END:VEVENT
BEGIN:VEVENT
DTSTART;TZID=Europe/London:20301226T100000
DTEND;TZID=Europe/London:20301226T151500
DTSTAMP:20260423T212310
CREATED:20250827T140933Z
LAST-MODIFIED:20250827T140933Z
UID:10001577-1924509600-1924528500@affc.org.uk
SUMMARY:Epping Older Person Activity Group
DESCRIPTION:Every Thursday: \nJack Silley Pavillion\nEpping\nCM16 6SS\n(reached via Tidy’s Lane) \nKeeping Active: 10am-12.30pm\nActive Minds: 12.45pm – 3.15pm \nMore details here or please contact activityGroups@affc.org.uk.  \nPlease note these groups have a charge attached to them. £21 per session or £42 for the day. Lunch is not supplied\, but attendees can can bring their own lunch and socialise with others in the group as they eat.
URL:https://affc.org.uk/event/epping-older-person-activity-group/2030-12-26/
CATEGORIES:Activity Group
END:VEVENT
BEGIN:VEVENT
DTSTART;TZID=Europe/London:20310101T100000
DTEND;TZID=Europe/London:20310101T153000
DTSTAMP:20260423T212310
CREATED:20250827T140616Z
LAST-MODIFIED:20250827T140616Z
UID:10001551-1925028000-1925047800@affc.org.uk
SUMMARY:Harlow Older Person Activity Group
DESCRIPTION:Every Wednesday: \nSt Andrew’s Church\nThe Stow\nCM20 3AF \nKeeping Active: 10am-12.30pm\nActive Minds: 1pm – 3.30pm \nMore details here or please contact activityGroups@affc.org.uk.  \nPlease note these groups have a charge attached to them. £21 per session or £42 for the day. Lunch is not supplied\, but attendees can can bring their own lunch and socialise with others in the group as they eat.
URL:https://affc.org.uk/event/harlow-older-person-activity-group/2031-01-01/
END:VEVENT
BEGIN:VEVENT
DTSTART;TZID=Europe/London:20310102T100000
DTEND;TZID=Europe/London:20310102T151500
DTSTAMP:20260423T212310
CREATED:20250827T140933Z
LAST-MODIFIED:20250827T140933Z
UID:10001578-1925114400-1925133300@affc.org.uk
SUMMARY:Epping Older Person Activity Group
DESCRIPTION:Every Thursday: \nJack Silley Pavillion\nEpping\nCM16 6SS\n(reached via Tidy’s Lane) \nKeeping Active: 10am-12.30pm\nActive Minds: 12.45pm – 3.15pm \nMore details here or please contact activityGroups@affc.org.uk.  \nPlease note these groups have a charge attached to them. £21 per session or £42 for the day. Lunch is not supplied\, but attendees can can bring their own lunch and socialise with others in the group as they eat.
URL:https://affc.org.uk/event/epping-older-person-activity-group/2031-01-02/
CATEGORIES:Activity Group
END:VEVENT
BEGIN:VEVENT
DTSTART;TZID=Europe/London:20310108T100000
DTEND;TZID=Europe/London:20310108T153000
DTSTAMP:20260423T212310
CREATED:20250827T140616Z
LAST-MODIFIED:20250827T140616Z
UID:10001552-1925632800-1925652600@affc.org.uk
SUMMARY:Harlow Older Person Activity Group
DESCRIPTION:Every Wednesday: \nSt Andrew’s Church\nThe Stow\nCM20 3AF \nKeeping Active: 10am-12.30pm\nActive Minds: 1pm – 3.30pm \nMore details here or please contact activityGroups@affc.org.uk.  \nPlease note these groups have a charge attached to them. £21 per session or £42 for the day. Lunch is not supplied\, but attendees can can bring their own lunch and socialise with others in the group as they eat.
URL:https://affc.org.uk/event/harlow-older-person-activity-group/2031-01-08/
END:VEVENT
BEGIN:VEVENT
DTSTART;TZID=Europe/London:20310109T100000
DTEND;TZID=Europe/London:20310109T151500
DTSTAMP:20260423T212310
CREATED:20250827T140933Z
LAST-MODIFIED:20250827T140933Z
UID:10001579-1925719200-1925738100@affc.org.uk
SUMMARY:Epping Older Person Activity Group
DESCRIPTION:Every Thursday: \nJack Silley Pavillion\nEpping\nCM16 6SS\n(reached via Tidy’s Lane) \nKeeping Active: 10am-12.30pm\nActive Minds: 12.45pm – 3.15pm \nMore details here or please contact activityGroups@affc.org.uk.  \nPlease note these groups have a charge attached to them. £21 per session or £42 for the day. Lunch is not supplied\, but attendees can can bring their own lunch and socialise with others in the group as they eat.
URL:https://affc.org.uk/event/epping-older-person-activity-group/2031-01-09/
CATEGORIES:Activity Group
END:VEVENT
BEGIN:VEVENT
DTSTART;TZID=Europe/London:20310115T100000
DTEND;TZID=Europe/London:20310115T153000
DTSTAMP:20260423T212310
CREATED:20250827T140616Z
LAST-MODIFIED:20250827T140616Z
UID:10001553-1926237600-1926257400@affc.org.uk
SUMMARY:Harlow Older Person Activity Group
DESCRIPTION:Every Wednesday: \nSt Andrew’s Church\nThe Stow\nCM20 3AF \nKeeping Active: 10am-12.30pm\nActive Minds: 1pm – 3.30pm \nMore details here or please contact activityGroups@affc.org.uk.  \nPlease note these groups have a charge attached to them. £21 per session or £42 for the day. Lunch is not supplied\, but attendees can can bring their own lunch and socialise with others in the group as they eat.
URL:https://affc.org.uk/event/harlow-older-person-activity-group/2031-01-15/
END:VEVENT
BEGIN:VEVENT
DTSTART;TZID=Europe/London:20310116T100000
DTEND;TZID=Europe/London:20310116T151500
DTSTAMP:20260423T212310
CREATED:20250827T140933Z
LAST-MODIFIED:20250827T140933Z
UID:10001580-1926324000-1926342900@affc.org.uk
SUMMARY:Epping Older Person Activity Group
DESCRIPTION:Every Thursday: \nJack Silley Pavillion\nEpping\nCM16 6SS\n(reached via Tidy’s Lane) \nKeeping Active: 10am-12.30pm\nActive Minds: 12.45pm – 3.15pm \nMore details here or please contact activityGroups@affc.org.uk.  \nPlease note these groups have a charge attached to them. £21 per session or £42 for the day. Lunch is not supplied\, but attendees can can bring their own lunch and socialise with others in the group as they eat.
URL:https://affc.org.uk/event/epping-older-person-activity-group/2031-01-16/
CATEGORIES:Activity Group
END:VEVENT
BEGIN:VEVENT
DTSTART;TZID=Europe/London:20310122T100000
DTEND;TZID=Europe/London:20310122T153000
DTSTAMP:20260423T212310
CREATED:20250827T140616Z
LAST-MODIFIED:20250827T140616Z
UID:10001554-1926842400-1926862200@affc.org.uk
SUMMARY:Harlow Older Person Activity Group
DESCRIPTION:Every Wednesday: \nSt Andrew’s Church\nThe Stow\nCM20 3AF \nKeeping Active: 10am-12.30pm\nActive Minds: 1pm – 3.30pm \nMore details here or please contact activityGroups@affc.org.uk.  \nPlease note these groups have a charge attached to them. £21 per session or £42 for the day. Lunch is not supplied\, but attendees can can bring their own lunch and socialise with others in the group as they eat.
URL:https://affc.org.uk/event/harlow-older-person-activity-group/2031-01-22/
END:VEVENT
BEGIN:VEVENT
DTSTART;TZID=Europe/London:20310123T100000
DTEND;TZID=Europe/London:20310123T151500
DTSTAMP:20260423T212310
CREATED:20250827T140933Z
LAST-MODIFIED:20250827T140933Z
UID:10001581-1926928800-1926947700@affc.org.uk
SUMMARY:Epping Older Person Activity Group
DESCRIPTION:Every Thursday: \nJack Silley Pavillion\nEpping\nCM16 6SS\n(reached via Tidy’s Lane) \nKeeping Active: 10am-12.30pm\nActive Minds: 12.45pm – 3.15pm \nMore details here or please contact activityGroups@affc.org.uk.  \nPlease note these groups have a charge attached to them. £21 per session or £42 for the day. Lunch is not supplied\, but attendees can can bring their own lunch and socialise with others in the group as they eat.
URL:https://affc.org.uk/event/epping-older-person-activity-group/2031-01-23/
CATEGORIES:Activity Group
END:VEVENT
BEGIN:VEVENT
DTSTART;TZID=Europe/London:20310129T100000
DTEND;TZID=Europe/London:20310129T153000
DTSTAMP:20260423T212310
CREATED:20250827T140616Z
LAST-MODIFIED:20250827T140616Z
UID:10001555-1927447200-1927467000@affc.org.uk
SUMMARY:Harlow Older Person Activity Group
DESCRIPTION:Every Wednesday: \nSt Andrew’s Church\nThe Stow\nCM20 3AF \nKeeping Active: 10am-12.30pm\nActive Minds: 1pm – 3.30pm \nMore details here or please contact activityGroups@affc.org.uk.  \nPlease note these groups have a charge attached to them. £21 per session or £42 for the day. Lunch is not supplied\, but attendees can can bring their own lunch and socialise with others in the group as they eat.
URL:https://affc.org.uk/event/harlow-older-person-activity-group/2031-01-29/
END:VEVENT
BEGIN:VEVENT
DTSTART;TZID=Europe/London:20310130T100000
DTEND;TZID=Europe/London:20310130T151500
DTSTAMP:20260423T212310
CREATED:20250827T140933Z
LAST-MODIFIED:20250827T140933Z
UID:10001582-1927533600-1927552500@affc.org.uk
SUMMARY:Epping Older Person Activity Group
DESCRIPTION:Every Thursday: \nJack Silley Pavillion\nEpping\nCM16 6SS\n(reached via Tidy’s Lane) \nKeeping Active: 10am-12.30pm\nActive Minds: 12.45pm – 3.15pm \nMore details here or please contact activityGroups@affc.org.uk.  \nPlease note these groups have a charge attached to them. £21 per session or £42 for the day. Lunch is not supplied\, but attendees can can bring their own lunch and socialise with others in the group as they eat.
URL:https://affc.org.uk/event/epping-older-person-activity-group/2031-01-30/
CATEGORIES:Activity Group
END:VEVENT
BEGIN:VEVENT
DTSTART;TZID=Europe/London:20310205T100000
DTEND;TZID=Europe/London:20310205T153000
DTSTAMP:20260423T212310
CREATED:20250827T140616Z
LAST-MODIFIED:20250827T140616Z
UID:10001556-1928052000-1928071800@affc.org.uk
SUMMARY:Harlow Older Person Activity Group
DESCRIPTION:Every Wednesday: \nSt Andrew’s Church\nThe Stow\nCM20 3AF \nKeeping Active: 10am-12.30pm\nActive Minds: 1pm – 3.30pm \nMore details here or please contact activityGroups@affc.org.uk.  \nPlease note these groups have a charge attached to them. £21 per session or £42 for the day. Lunch is not supplied\, but attendees can can bring their own lunch and socialise with others in the group as they eat.
URL:https://affc.org.uk/event/harlow-older-person-activity-group/2031-02-05/
END:VEVENT
BEGIN:VEVENT
DTSTART;TZID=Europe/London:20310206T100000
DTEND;TZID=Europe/London:20310206T151500
DTSTAMP:20260423T212310
CREATED:20250827T140933Z
LAST-MODIFIED:20250827T140933Z
UID:10001583-1928138400-1928157300@affc.org.uk
SUMMARY:Epping Older Person Activity Group
DESCRIPTION:Every Thursday: \nJack Silley Pavillion\nEpping\nCM16 6SS\n(reached via Tidy’s Lane) \nKeeping Active: 10am-12.30pm\nActive Minds: 12.45pm – 3.15pm \nMore details here or please contact activityGroups@affc.org.uk.  \nPlease note these groups have a charge attached to them. £21 per session or £42 for the day. Lunch is not supplied\, but attendees can can bring their own lunch and socialise with others in the group as they eat.
URL:https://affc.org.uk/event/epping-older-person-activity-group/2031-02-06/
CATEGORIES:Activity Group
END:VEVENT
BEGIN:VEVENT
DTSTART;TZID=Europe/London:20310212T100000
DTEND;TZID=Europe/London:20310212T153000
DTSTAMP:20260423T212310
CREATED:20250827T140616Z
LAST-MODIFIED:20250827T140616Z
UID:10001557-1928656800-1928676600@affc.org.uk
SUMMARY:Harlow Older Person Activity Group
DESCRIPTION:Every Wednesday: \nSt Andrew’s Church\nThe Stow\nCM20 3AF \nKeeping Active: 10am-12.30pm\nActive Minds: 1pm – 3.30pm \nMore details here or please contact activityGroups@affc.org.uk.  \nPlease note these groups have a charge attached to them. £21 per session or £42 for the day. Lunch is not supplied\, but attendees can can bring their own lunch and socialise with others in the group as they eat.
URL:https://affc.org.uk/event/harlow-older-person-activity-group/2031-02-12/
END:VEVENT
BEGIN:VEVENT
DTSTART;TZID=Europe/London:20310213T100000
DTEND;TZID=Europe/London:20310213T151500
DTSTAMP:20260423T212310
CREATED:20250827T140933Z
LAST-MODIFIED:20250827T140933Z
UID:10001584-1928743200-1928762100@affc.org.uk
SUMMARY:Epping Older Person Activity Group
DESCRIPTION:Every Thursday: \nJack Silley Pavillion\nEpping\nCM16 6SS\n(reached via Tidy’s Lane) \nKeeping Active: 10am-12.30pm\nActive Minds: 12.45pm – 3.15pm \nMore details here or please contact activityGroups@affc.org.uk.  \nPlease note these groups have a charge attached to them. £21 per session or £42 for the day. Lunch is not supplied\, but attendees can can bring their own lunch and socialise with others in the group as they eat.
URL:https://affc.org.uk/event/epping-older-person-activity-group/2031-02-13/
CATEGORIES:Activity Group
END:VEVENT
BEGIN:VEVENT
DTSTART;TZID=Europe/London:20310219T100000
DTEND;TZID=Europe/London:20310219T153000
DTSTAMP:20260423T212310
CREATED:20250827T140616Z
LAST-MODIFIED:20250827T140616Z
UID:10001558-1929261600-1929281400@affc.org.uk
SUMMARY:Harlow Older Person Activity Group
DESCRIPTION:Every Wednesday: \nSt Andrew’s Church\nThe Stow\nCM20 3AF \nKeeping Active: 10am-12.30pm\nActive Minds: 1pm – 3.30pm \nMore details here or please contact activityGroups@affc.org.uk.  \nPlease note these groups have a charge attached to them. £21 per session or £42 for the day. Lunch is not supplied\, but attendees can can bring their own lunch and socialise with others in the group as they eat.
URL:https://affc.org.uk/event/harlow-older-person-activity-group/2031-02-19/
END:VEVENT
BEGIN:VEVENT
DTSTART;TZID=Europe/London:20310220T100000
DTEND;TZID=Europe/London:20310220T151500
DTSTAMP:20260423T212310
CREATED:20250827T140933Z
LAST-MODIFIED:20250827T140933Z
UID:10001585-1929348000-1929366900@affc.org.uk
SUMMARY:Epping Older Person Activity Group
DESCRIPTION:Every Thursday: \nJack Silley Pavillion\nEpping\nCM16 6SS\n(reached via Tidy’s Lane) \nKeeping Active: 10am-12.30pm\nActive Minds: 12.45pm – 3.15pm \nMore details here or please contact activityGroups@affc.org.uk.  \nPlease note these groups have a charge attached to them. £21 per session or £42 for the day. Lunch is not supplied\, but attendees can can bring their own lunch and socialise with others in the group as they eat.
URL:https://affc.org.uk/event/epping-older-person-activity-group/2031-02-20/
CATEGORIES:Activity Group
END:VEVENT
BEGIN:VEVENT
DTSTART;TZID=Europe/London:20310226T100000
DTEND;TZID=Europe/London:20310226T153000
DTSTAMP:20260423T212310
CREATED:20250827T140616Z
LAST-MODIFIED:20250827T140616Z
UID:10001559-1929866400-1929886200@affc.org.uk
SUMMARY:Harlow Older Person Activity Group
DESCRIPTION:Every Wednesday: \nSt Andrew’s Church\nThe Stow\nCM20 3AF \nKeeping Active: 10am-12.30pm\nActive Minds: 1pm – 3.30pm \nMore details here or please contact activityGroups@affc.org.uk.  \nPlease note these groups have a charge attached to them. £21 per session or £42 for the day. Lunch is not supplied\, but attendees can can bring their own lunch and socialise with others in the group as they eat.
URL:https://affc.org.uk/event/harlow-older-person-activity-group/2031-02-26/
END:VEVENT
BEGIN:VEVENT
DTSTART;TZID=Europe/London:20310227T100000
DTEND;TZID=Europe/London:20310227T151500
DTSTAMP:20260423T212310
CREATED:20250827T140933Z
LAST-MODIFIED:20250827T140933Z
UID:10001586-1929952800-1929971700@affc.org.uk
SUMMARY:Epping Older Person Activity Group
DESCRIPTION:Every Thursday: \nJack Silley Pavillion\nEpping\nCM16 6SS\n(reached via Tidy’s Lane) \nKeeping Active: 10am-12.30pm\nActive Minds: 12.45pm – 3.15pm \nMore details here or please contact activityGroups@affc.org.uk.  \nPlease note these groups have a charge attached to them. £21 per session or £42 for the day. Lunch is not supplied\, but attendees can can bring their own lunch and socialise with others in the group as they eat.
URL:https://affc.org.uk/event/epping-older-person-activity-group/2031-02-27/
CATEGORIES:Activity Group
END:VEVENT
BEGIN:VEVENT
DTSTART;TZID=Europe/London:20310305T100000
DTEND;TZID=Europe/London:20310305T153000
DTSTAMP:20260423T212310
CREATED:20250827T140616Z
LAST-MODIFIED:20250827T140616Z
UID:10001617-1930471200-1930491000@affc.org.uk
SUMMARY:Harlow Older Person Activity Group
DESCRIPTION:Every Wednesday: \nSt Andrew’s Church\nThe Stow\nCM20 3AF \nKeeping Active: 10am-12.30pm\nActive Minds: 1pm – 3.30pm \nMore details here or please contact activityGroups@affc.org.uk.  \nPlease note these groups have a charge attached to them. £21 per session or £42 for the day. Lunch is not supplied\, but attendees can can bring their own lunch and socialise with others in the group as they eat.
URL:https://affc.org.uk/event/harlow-older-person-activity-group/2031-03-05/
END:VEVENT
BEGIN:VEVENT
DTSTART;TZID=Europe/London:20310306T100000
DTEND;TZID=Europe/London:20310306T151500
DTSTAMP:20260423T212310
CREATED:20250827T140933Z
LAST-MODIFIED:20250827T140933Z
UID:10001620-1930557600-1930576500@affc.org.uk
SUMMARY:Epping Older Person Activity Group
DESCRIPTION:Every Thursday: \nJack Silley Pavillion\nEpping\nCM16 6SS\n(reached via Tidy’s Lane) \nKeeping Active: 10am-12.30pm\nActive Minds: 12.45pm – 3.15pm \nMore details here or please contact activityGroups@affc.org.uk.  \nPlease note these groups have a charge attached to them. £21 per session or £42 for the day. Lunch is not supplied\, but attendees can can bring their own lunch and socialise with others in the group as they eat.
URL:https://affc.org.uk/event/epping-older-person-activity-group/2031-03-06/
CATEGORIES:Activity Group
END:VEVENT
BEGIN:VEVENT
DTSTART;TZID=Europe/London:20310312T100000
DTEND;TZID=Europe/London:20310312T153000
DTSTAMP:20260423T212310
CREATED:20250827T140616Z
LAST-MODIFIED:20250827T140616Z
UID:10001626-1931076000-1931095800@affc.org.uk
SUMMARY:Harlow Older Person Activity Group
DESCRIPTION:Every Wednesday: \nSt Andrew’s Church\nThe Stow\nCM20 3AF \nKeeping Active: 10am-12.30pm\nActive Minds: 1pm – 3.30pm \nMore details here or please contact activityGroups@affc.org.uk.  \nPlease note these groups have a charge attached to them. £21 per session or £42 for the day. Lunch is not supplied\, but attendees can can bring their own lunch and socialise with others in the group as they eat.
URL:https://affc.org.uk/event/harlow-older-person-activity-group/2031-03-12/
END:VEVENT
BEGIN:VEVENT
DTSTART;TZID=Europe/London:20310313T100000
DTEND;TZID=Europe/London:20310313T151500
DTSTAMP:20260423T212310
CREATED:20250827T140933Z
LAST-MODIFIED:20250827T140933Z
UID:10001622-1931162400-1931181300@affc.org.uk
SUMMARY:Epping Older Person Activity Group
DESCRIPTION:Every Thursday: \nJack Silley Pavillion\nEpping\nCM16 6SS\n(reached via Tidy’s Lane) \nKeeping Active: 10am-12.30pm\nActive Minds: 12.45pm – 3.15pm \nMore details here or please contact activityGroups@affc.org.uk.  \nPlease note these groups have a charge attached to them. £21 per session or £42 for the day. Lunch is not supplied\, but attendees can can bring their own lunch and socialise with others in the group as they eat.
URL:https://affc.org.uk/event/epping-older-person-activity-group/2031-03-13/
CATEGORIES:Activity Group
END:VEVENT
END:VCALENDAR