BEGIN:VCALENDAR
VERSION:2.0
PRODID:-//Action for Family Carers - ECPv6.15.20//NONSGML v1.0//EN
CALSCALE:GREGORIAN
METHOD:PUBLISH
X-ORIGINAL-URL:https://affc.org.uk
X-WR-CALDESC:Events for Action for Family Carers
REFRESH-INTERVAL;VALUE=DURATION:PT1H
X-Robots-Tag:noindex
X-PUBLISHED-TTL:PT1H
BEGIN:VTIMEZONE
TZID:Europe/London
BEGIN:DAYLIGHT
TZOFFSETFROM:+0000
TZOFFSETTO:+0100
TZNAME:BST
DTSTART:20300331T010000
END:DAYLIGHT
BEGIN:STANDARD
TZOFFSETFROM:+0100
TZOFFSETTO:+0000
TZNAME:GMT
DTSTART:20301027T010000
END:STANDARD
BEGIN:DAYLIGHT
TZOFFSETFROM:+0000
TZOFFSETTO:+0100
TZNAME:BST
DTSTART:20310330T010000
END:DAYLIGHT
BEGIN:STANDARD
TZOFFSETFROM:+0100
TZOFFSETTO:+0000
TZNAME:GMT
DTSTART:20311026T010000
END:STANDARD
BEGIN:DAYLIGHT
TZOFFSETFROM:+0000
TZOFFSETTO:+0100
TZNAME:BST
DTSTART:20320328T010000
END:DAYLIGHT
BEGIN:STANDARD
TZOFFSETFROM:+0100
TZOFFSETTO:+0000
TZNAME:GMT
DTSTART:20321031T010000
END:STANDARD
END:VTIMEZONE
BEGIN:VEVENT
DTSTART;TZID=Europe/London:20310226T100000
DTEND;TZID=Europe/London:20310226T153000
DTSTAMP:20260423T235628
CREATED:20250827T140616Z
LAST-MODIFIED:20250827T140616Z
UID:10001559-1929866400-1929886200@affc.org.uk
SUMMARY:Harlow Older Person Activity Group
DESCRIPTION:Every Wednesday: \nSt Andrew’s Church\nThe Stow\nCM20 3AF \nKeeping Active: 10am-12.30pm\nActive Minds: 1pm – 3.30pm \nMore details here or please contact activityGroups@affc.org.uk.  \nPlease note these groups have a charge attached to them. £21 per session or £42 for the day. Lunch is not supplied\, but attendees can can bring their own lunch and socialise with others in the group as they eat.
URL:https://affc.org.uk/event/harlow-older-person-activity-group/2031-02-26/
END:VEVENT
BEGIN:VEVENT
DTSTART;TZID=Europe/London:20310227T100000
DTEND;TZID=Europe/London:20310227T151500
DTSTAMP:20260423T235628
CREATED:20250827T140933Z
LAST-MODIFIED:20250827T140933Z
UID:10001586-1929952800-1929971700@affc.org.uk
SUMMARY:Epping Older Person Activity Group
DESCRIPTION:Every Thursday: \nJack Silley Pavillion\nEpping\nCM16 6SS\n(reached via Tidy’s Lane) \nKeeping Active: 10am-12.30pm\nActive Minds: 12.45pm – 3.15pm \nMore details here or please contact activityGroups@affc.org.uk.  \nPlease note these groups have a charge attached to them. £21 per session or £42 for the day. Lunch is not supplied\, but attendees can can bring their own lunch and socialise with others in the group as they eat.
URL:https://affc.org.uk/event/epping-older-person-activity-group/2031-02-27/
CATEGORIES:Activity Group
END:VEVENT
BEGIN:VEVENT
DTSTART;TZID=Europe/London:20310305T100000
DTEND;TZID=Europe/London:20310305T153000
DTSTAMP:20260423T235628
CREATED:20250827T140616Z
LAST-MODIFIED:20250827T140616Z
UID:10001617-1930471200-1930491000@affc.org.uk
SUMMARY:Harlow Older Person Activity Group
DESCRIPTION:Every Wednesday: \nSt Andrew’s Church\nThe Stow\nCM20 3AF \nKeeping Active: 10am-12.30pm\nActive Minds: 1pm – 3.30pm \nMore details here or please contact activityGroups@affc.org.uk.  \nPlease note these groups have a charge attached to them. £21 per session or £42 for the day. Lunch is not supplied\, but attendees can can bring their own lunch and socialise with others in the group as they eat.
URL:https://affc.org.uk/event/harlow-older-person-activity-group/2031-03-05/
END:VEVENT
BEGIN:VEVENT
DTSTART;TZID=Europe/London:20310306T100000
DTEND;TZID=Europe/London:20310306T151500
DTSTAMP:20260423T235628
CREATED:20250827T140933Z
LAST-MODIFIED:20250827T140933Z
UID:10001620-1930557600-1930576500@affc.org.uk
SUMMARY:Epping Older Person Activity Group
DESCRIPTION:Every Thursday: \nJack Silley Pavillion\nEpping\nCM16 6SS\n(reached via Tidy’s Lane) \nKeeping Active: 10am-12.30pm\nActive Minds: 12.45pm – 3.15pm \nMore details here or please contact activityGroups@affc.org.uk.  \nPlease note these groups have a charge attached to them. £21 per session or £42 for the day. Lunch is not supplied\, but attendees can can bring their own lunch and socialise with others in the group as they eat.
URL:https://affc.org.uk/event/epping-older-person-activity-group/2031-03-06/
CATEGORIES:Activity Group
END:VEVENT
BEGIN:VEVENT
DTSTART;TZID=Europe/London:20310312T100000
DTEND;TZID=Europe/London:20310312T153000
DTSTAMP:20260423T235628
CREATED:20250827T140616Z
LAST-MODIFIED:20250827T140616Z
UID:10001626-1931076000-1931095800@affc.org.uk
SUMMARY:Harlow Older Person Activity Group
DESCRIPTION:Every Wednesday: \nSt Andrew’s Church\nThe Stow\nCM20 3AF \nKeeping Active: 10am-12.30pm\nActive Minds: 1pm – 3.30pm \nMore details here or please contact activityGroups@affc.org.uk.  \nPlease note these groups have a charge attached to them. £21 per session or £42 for the day. Lunch is not supplied\, but attendees can can bring their own lunch and socialise with others in the group as they eat.
URL:https://affc.org.uk/event/harlow-older-person-activity-group/2031-03-12/
END:VEVENT
BEGIN:VEVENT
DTSTART;TZID=Europe/London:20310313T100000
DTEND;TZID=Europe/London:20310313T151500
DTSTAMP:20260423T235628
CREATED:20250827T140933Z
LAST-MODIFIED:20250827T140933Z
UID:10001622-1931162400-1931181300@affc.org.uk
SUMMARY:Epping Older Person Activity Group
DESCRIPTION:Every Thursday: \nJack Silley Pavillion\nEpping\nCM16 6SS\n(reached via Tidy’s Lane) \nKeeping Active: 10am-12.30pm\nActive Minds: 12.45pm – 3.15pm \nMore details here or please contact activityGroups@affc.org.uk.  \nPlease note these groups have a charge attached to them. £21 per session or £42 for the day. Lunch is not supplied\, but attendees can can bring their own lunch and socialise with others in the group as they eat.
URL:https://affc.org.uk/event/epping-older-person-activity-group/2031-03-13/
CATEGORIES:Activity Group
END:VEVENT
BEGIN:VEVENT
DTSTART;TZID=Europe/London:20310319T100000
DTEND;TZID=Europe/London:20310319T153000
DTSTAMP:20260423T235628
CREATED:20250827T140616Z
LAST-MODIFIED:20250827T140616Z
UID:10001627-1931680800-1931700600@affc.org.uk
SUMMARY:Harlow Older Person Activity Group
DESCRIPTION:Every Wednesday: \nSt Andrew’s Church\nThe Stow\nCM20 3AF \nKeeping Active: 10am-12.30pm\nActive Minds: 1pm – 3.30pm \nMore details here or please contact activityGroups@affc.org.uk.  \nPlease note these groups have a charge attached to them. £21 per session or £42 for the day. Lunch is not supplied\, but attendees can can bring their own lunch and socialise with others in the group as they eat.
URL:https://affc.org.uk/event/harlow-older-person-activity-group/2031-03-19/
END:VEVENT
BEGIN:VEVENT
DTSTART;TZID=Europe/London:20310320T100000
DTEND;TZID=Europe/London:20310320T151500
DTSTAMP:20260423T235628
CREATED:20250827T140933Z
LAST-MODIFIED:20250827T140933Z
UID:10001628-1931767200-1931786100@affc.org.uk
SUMMARY:Epping Older Person Activity Group
DESCRIPTION:Every Thursday: \nJack Silley Pavillion\nEpping\nCM16 6SS\n(reached via Tidy’s Lane) \nKeeping Active: 10am-12.30pm\nActive Minds: 12.45pm – 3.15pm \nMore details here or please contact activityGroups@affc.org.uk.  \nPlease note these groups have a charge attached to them. £21 per session or £42 for the day. Lunch is not supplied\, but attendees can can bring their own lunch and socialise with others in the group as they eat.
URL:https://affc.org.uk/event/epping-older-person-activity-group/2031-03-20/
CATEGORIES:Activity Group
END:VEVENT
BEGIN:VEVENT
DTSTART;TZID=Europe/London:20310326T100000
DTEND;TZID=Europe/London:20310326T153000
DTSTAMP:20260423T235628
CREATED:20250827T140616Z
LAST-MODIFIED:20250827T140616Z
UID:10001630-1932285600-1932305400@affc.org.uk
SUMMARY:Harlow Older Person Activity Group
DESCRIPTION:Every Wednesday: \nSt Andrew’s Church\nThe Stow\nCM20 3AF \nKeeping Active: 10am-12.30pm\nActive Minds: 1pm – 3.30pm \nMore details here or please contact activityGroups@affc.org.uk.  \nPlease note these groups have a charge attached to them. £21 per session or £42 for the day. Lunch is not supplied\, but attendees can can bring their own lunch and socialise with others in the group as they eat.
URL:https://affc.org.uk/event/harlow-older-person-activity-group/2031-03-26/
END:VEVENT
BEGIN:VEVENT
DTSTART;TZID=Europe/London:20310327T100000
DTEND;TZID=Europe/London:20310327T151500
DTSTAMP:20260423T235628
CREATED:20250827T140933Z
LAST-MODIFIED:20250827T140933Z
UID:10001631-1932372000-1932390900@affc.org.uk
SUMMARY:Epping Older Person Activity Group
DESCRIPTION:Every Thursday: \nJack Silley Pavillion\nEpping\nCM16 6SS\n(reached via Tidy’s Lane) \nKeeping Active: 10am-12.30pm\nActive Minds: 12.45pm – 3.15pm \nMore details here or please contact activityGroups@affc.org.uk.  \nPlease note these groups have a charge attached to them. £21 per session or £42 for the day. Lunch is not supplied\, but attendees can can bring their own lunch and socialise with others in the group as they eat.
URL:https://affc.org.uk/event/epping-older-person-activity-group/2031-03-27/
CATEGORIES:Activity Group
END:VEVENT
BEGIN:VEVENT
DTSTART;TZID=Europe/London:20310402T100000
DTEND;TZID=Europe/London:20310402T153000
DTSTAMP:20260423T235628
CREATED:20250827T140616Z
LAST-MODIFIED:20250827T140616Z
UID:10001634-1932890400-1932910200@affc.org.uk
SUMMARY:Harlow Older Person Activity Group
DESCRIPTION:Every Wednesday: \nSt Andrew’s Church\nThe Stow\nCM20 3AF \nKeeping Active: 10am-12.30pm\nActive Minds: 1pm – 3.30pm \nMore details here or please contact activityGroups@affc.org.uk.  \nPlease note these groups have a charge attached to them. £21 per session or £42 for the day. Lunch is not supplied\, but attendees can can bring their own lunch and socialise with others in the group as they eat.
URL:https://affc.org.uk/event/harlow-older-person-activity-group/2031-04-02/
END:VEVENT
BEGIN:VEVENT
DTSTART;TZID=Europe/London:20310403T100000
DTEND;TZID=Europe/London:20310403T151500
DTSTAMP:20260423T235628
CREATED:20250827T140933Z
LAST-MODIFIED:20250827T140933Z
UID:10001635-1932976800-1932995700@affc.org.uk
SUMMARY:Epping Older Person Activity Group
DESCRIPTION:Every Thursday: \nJack Silley Pavillion\nEpping\nCM16 6SS\n(reached via Tidy’s Lane) \nKeeping Active: 10am-12.30pm\nActive Minds: 12.45pm – 3.15pm \nMore details here or please contact activityGroups@affc.org.uk.  \nPlease note these groups have a charge attached to them. £21 per session or £42 for the day. Lunch is not supplied\, but attendees can can bring their own lunch and socialise with others in the group as they eat.
URL:https://affc.org.uk/event/epping-older-person-activity-group/2031-04-03/
CATEGORIES:Activity Group
END:VEVENT
BEGIN:VEVENT
DTSTART;TZID=Europe/London:20310409T100000
DTEND;TZID=Europe/London:20310409T153000
DTSTAMP:20260423T235628
CREATED:20250827T140616Z
LAST-MODIFIED:20250827T140616Z
UID:10001756-1933495200-1933515000@affc.org.uk
SUMMARY:Harlow Older Person Activity Group
DESCRIPTION:Every Wednesday: \nSt Andrew’s Church\nThe Stow\nCM20 3AF \nKeeping Active: 10am-12.30pm\nActive Minds: 1pm – 3.30pm \nMore details here or please contact activityGroups@affc.org.uk.  \nPlease note these groups have a charge attached to them. £21 per session or £42 for the day. Lunch is not supplied\, but attendees can can bring their own lunch and socialise with others in the group as they eat.
URL:https://affc.org.uk/event/harlow-older-person-activity-group/2031-04-09/
END:VEVENT
BEGIN:VEVENT
DTSTART;TZID=Europe/London:20310410T100000
DTEND;TZID=Europe/London:20310410T151500
DTSTAMP:20260423T235628
CREATED:20250827T140933Z
LAST-MODIFIED:20250827T140933Z
UID:10001757-1933581600-1933600500@affc.org.uk
SUMMARY:Epping Older Person Activity Group
DESCRIPTION:Every Thursday: \nJack Silley Pavillion\nEpping\nCM16 6SS\n(reached via Tidy’s Lane) \nKeeping Active: 10am-12.30pm\nActive Minds: 12.45pm – 3.15pm \nMore details here or please contact activityGroups@affc.org.uk.  \nPlease note these groups have a charge attached to them. £21 per session or £42 for the day. Lunch is not supplied\, but attendees can can bring their own lunch and socialise with others in the group as they eat.
URL:https://affc.org.uk/event/epping-older-person-activity-group/2031-04-10/
CATEGORIES:Activity Group
END:VEVENT
BEGIN:VEVENT
DTSTART;TZID=Europe/London:20310416T100000
DTEND;TZID=Europe/London:20310416T153000
DTSTAMP:20260423T235628
CREATED:20250827T140616Z
LAST-MODIFIED:20250827T140616Z
UID:10001759-1934100000-1934119800@affc.org.uk
SUMMARY:Harlow Older Person Activity Group
DESCRIPTION:Every Wednesday: \nSt Andrew’s Church\nThe Stow\nCM20 3AF \nKeeping Active: 10am-12.30pm\nActive Minds: 1pm – 3.30pm \nMore details here or please contact activityGroups@affc.org.uk.  \nPlease note these groups have a charge attached to them. £21 per session or £42 for the day. Lunch is not supplied\, but attendees can can bring their own lunch and socialise with others in the group as they eat.
URL:https://affc.org.uk/event/harlow-older-person-activity-group/2031-04-16/
END:VEVENT
BEGIN:VEVENT
DTSTART;TZID=Europe/London:20310417T100000
DTEND;TZID=Europe/London:20310417T151500
DTSTAMP:20260423T235628
CREATED:20250827T140933Z
LAST-MODIFIED:20250827T140933Z
UID:10001760-1934186400-1934205300@affc.org.uk
SUMMARY:Epping Older Person Activity Group
DESCRIPTION:Every Thursday: \nJack Silley Pavillion\nEpping\nCM16 6SS\n(reached via Tidy’s Lane) \nKeeping Active: 10am-12.30pm\nActive Minds: 12.45pm – 3.15pm \nMore details here or please contact activityGroups@affc.org.uk.  \nPlease note these groups have a charge attached to them. £21 per session or £42 for the day. Lunch is not supplied\, but attendees can can bring their own lunch and socialise with others in the group as they eat.
URL:https://affc.org.uk/event/epping-older-person-activity-group/2031-04-17/
CATEGORIES:Activity Group
END:VEVENT
END:VCALENDAR